BEGIN:VCALENDAR
VERSION:2.0
PRODID:-//jEvents 2.0 for Joomla//EN
CALSCALE:GREGORIAN
METHOD:PUBLISH
BEGIN:VTIMEZONE
TZID:Europe/Paris
BEGIN:STANDARD
DTSTART:20201025T020000
RDATE:20210328T030000
TZOFFSETFROM:+0200
TZOFFSETTO:+0100
TZNAME:Europe/Paris CET
END:STANDARD
BEGIN:STANDARD
DTSTART:20211031T020000
RDATE:20220327T030000
TZOFFSETFROM:+0200
TZOFFSETTO:+0100
TZNAME:Europe/Paris CET
END:STANDARD
BEGIN:STANDARD
DTSTART:20221030T020000
RDATE:20230326T030000
TZOFFSETFROM:+0200
TZOFFSETTO:+0100
TZNAME:Europe/Paris CET
END:STANDARD
BEGIN:STANDARD
DTSTART:20231029T020000
RDATE:20240331T030000
TZOFFSETFROM:+0200
TZOFFSETTO:+0100
TZNAME:Europe/Paris CET
END:STANDARD
BEGIN:STANDARD
DTSTART:20241027T020000
RDATE:20250330T030000
TZOFFSETFROM:+0200
TZOFFSETTO:+0100
TZNAME:Europe/Paris CET
END:STANDARD
BEGIN:STANDARD
DTSTART:20251026T020000
RDATE:20260329T030000
TZOFFSETFROM:+0200
TZOFFSETTO:+0100
TZNAME:Europe/Paris CET
END:STANDARD
BEGIN:STANDARD
DTSTART:20261025T020000
RDATE:20270328T030000
TZOFFSETFROM:+0200
TZOFFSETTO:+0100
TZNAME:Europe/Paris CET
END:STANDARD
BEGIN:DAYLIGHT
DTSTART:20201002T000000
RDATE:20201025T020000
TZOFFSETFROM:+0100
TZOFFSETTO:+0200
TZNAME:Europe/Paris CEST
END:DAYLIGHT
BEGIN:DAYLIGHT
DTSTART:20210328T030000
RDATE:20211031T020000
TZOFFSETFROM:+0100
TZOFFSETTO:+0200
TZNAME:Europe/Paris CEST
END:DAYLIGHT
BEGIN:DAYLIGHT
DTSTART:20220327T030000
RDATE:20221030T020000
TZOFFSETFROM:+0100
TZOFFSETTO:+0200
TZNAME:Europe/Paris CEST
END:DAYLIGHT
BEGIN:DAYLIGHT
DTSTART:20230326T030000
RDATE:20231029T020000
TZOFFSETFROM:+0100
TZOFFSETTO:+0200
TZNAME:Europe/Paris CEST
END:DAYLIGHT
BEGIN:DAYLIGHT
DTSTART:20240331T030000
RDATE:20241027T020000
TZOFFSETFROM:+0100
TZOFFSETTO:+0200
TZNAME:Europe/Paris CEST
END:DAYLIGHT
BEGIN:DAYLIGHT
DTSTART:20250330T030000
RDATE:20251026T020000
TZOFFSETFROM:+0100
TZOFFSETTO:+0200
TZNAME:Europe/Paris CEST
END:DAYLIGHT
BEGIN:DAYLIGHT
DTSTART:20260329T030000
RDATE:20261025T020000
TZOFFSETFROM:+0100
TZOFFSETTO:+0200
TZNAME:Europe/Paris CEST
END:DAYLIGHT
END:VTIMEZONE
BEGIN:VEVENT
UID:5b84c931abacd15bcc31f317e0dbdbd4
CATEGORIES:Roller Ski
CREATED:20210723T190004
SUMMARY:Coupe des Vosges Crédit Mutuel/Bigmat Atomic - Sprint La Bresse **REPORTE(E) au 02/10/2021**
URL;VALUE=URI:https://skivosges.net/agenda/a-venir/detailevenement/1697/-/coupe-des-vosge
 s-credit-mutuel-bigmat-atomic-sprint-la-bresse-reporte-e-au-02-10-2021?tmpl
 =component
DESCRIPTION:Coupe des Vosges Crédit Mutuel/Bigmat Atomic - Sprint La Bresse (Epreuve re
 portée au 02/10/2021)\n - Codex évenement OMVT0010\n - Lieu : LA TENINE LA 
 BRESSE\n - Organisateur : 14024 LA BRESSAUDE SECTION SKI\n - Courriel : Reg
 ularLabs.EmailProtector.unCloak("ep_49f24144");\n - Téléphone : 06 08 85 52
  52\n - Délégué Technique : VAXELAIRE ANNICKPériode d'inscription à l'evène
 ment du dimanche 26 septembre 2021 à 02:00 au vendredi 01 octobre 2021 à 14
 :00 (Inscriptions impossibles).Inscriptions ouvertes aux detenteurs des tit
 res Fédéraux valides suivants : Licenciés Compétiteurs\n - Voir les informa
 tions dans l'agenda... (/index.php?option=com_jevents&amp;task=icalevent.de
 tail&amp;evid=1692&amp;Itemid=6289)\n - Vers les résultats... (/index.php?o
 ption=com_gskiepreuves&amp;view=afficheresultats&amp;format_option=tous&amp
 ;filter[search]=OMVT0010&amp;filter[date_debut]=02-10-2021&amp;filter[date_
 fin]=02-10-2021&amp;code_activite=ROL&amp;Itemid=6289)Epreuves :\n - Le dim
 anche 03 octobre 2021\n - Codex épreuve OMVM0011\n - Individuel\n - Catégor
 ie(s) : U15 (Garçons)\n - Le dimanche 03 octobre 2021\n - Codex épreuve OMV
 F0011\n - Individuel\n - Catégorie(s) : U15 (Filles)\n - Le dimanche 03 oct
 obre 2021\n - Codex épreuve OMVM0012\n - Individuel\n - Catégorie(s) : U17 
 (Garçons)\n - Le dimanche 03 octobre 2021\n - Codex épreuve OMVF0012\n - In
 dividuel\n - Catégorie(s) : U17 (Filles)\n - Le dimanche 03 octobre 2021\n 
 - Codex épreuve OMVM0013\n - Individuel\n - Catégorie(s) : U20 a SEN (Homme
 s)\n - Le dimanche 03 octobre 2021\n - Codex épreuve OMVF0013\n - Individue
 l\n - Catégorie(s) : U20 a SEN (Dames)\n - Voir les informations dans l'age
 nda... (/index.php?option=com_jevents&amp;task=icalevent.detail&amp;evid=16
 92&amp;Itemid=6289)\n - Vers les résultats... (/index.php?option=com_gskiep
 reuves&amp;view=afficheresultats&amp;format_option=tous&amp;filter[search]=
 OMVT0010&amp;filter[date_debut]=02-10-2021&amp;filter[date_fin]=02-10-2021&
 amp;code_activite=ROL&amp;Itemid=6289) Cet évènement a été importé depuis :
 https://skivosges.net/agenda/a-venir/detailevenement/1697/-/coupe-des-vosge
 s-credit-mutuel-bigmat-atomic-sprint-la-bresse-reporte-e-au-02-10-2021?tmpl
 =component
X-ALT-DESC;FMTTYPE=text/html:<!-- #gskiepreuve code généré par le plugin jevents pour GskiEpreuves. Ne p
 as modifier cette ligne, ni tout le contenu suivant  #gskiepreuve --><div c
 lass="gski-evenement_infos"><div class="gski-evenement-nom">Coupe des Vosge
 s Crédit Mutuel/Bigmat Atomic - Sprint La Bresse</div><div class="gski-even
 ement-report"> <font class="gskiattention">(Epreuve reportée au 02/10/2021)
 </font></div><ul class="gski-evenement-liste-infos"><li>Codex évenement OMV
 T0010</li><li>Lieu : LA TENINE LA BRESSE</li><li>Organisateur : 14024 LA BR
 ESSAUDE SECTION SKI</li><li>Courriel : <!-- Cette adresse électronique est 
 protégée contre les robots spammeurs. --><span class="cloaked_email ep_49f2
 4144"><span data-ep-b="&#102;&#114;" data-ep-a="&#111;d&#105;le"><span data
 -ep-a=".&#109;&#117;&#110;&#115;" data-ep-b="&#97;&#110;&#103;&#101;&#46;">
 <span data-ep-b="&#108;&#98;&#64;&#111;&#114;" data-ep-a="ch.&#115;&#99;"><
 /span></span></span></span><script>RegularLabs.EmailProtector.unCloak("ep_4
 9f24144");</script></li><li>Téléphone : 06 08 85 52 52</li><li><span class=
 "gski-evenement-obs">Délégué Technique : VAXELAIRE ANNICK</span></li></ul><
 div class="gski-evenement-infos-2"><div class="gski-evenement-info-inscript
 ions"><div class="gski-evenement-inscriptions-periodes">Période d'inscripti
 on à l'evènement du dimanche 26 septembre 2021 à 02:00 au vendredi 01 octob
 re 2021 à 14:00 <span class="gski-evenement-inscriptions-impossibles">(Insc
 riptions impossibles).</span><div class="gski-evenement-inscriptions-types-
 titres">Inscriptions ouvertes aux detenteurs des titres Fédéraux valides su
 ivants : Licenciés Compétiteurs</div></div></div><div class="gskiepreuves-l
 inks"><ul><li><a href="https://skivosges.net/index.php?option=com_jevents&t
 ask=icalevent.detail&evid=1692&Itemid=6289">Voir les informations dans l'ag
 enda...</a></li><li><a href="https://skivosges.net/index.php?option=com_gsk
 iepreuves&view=afficheresultats&format_option=tous&filter[search]=OMVT0010&
 filter[date_debut]=02-10-2021&filter[date_fin]=02-10-2021&code_activite=ROL
 &Itemid=6289">Vers les résultats...</a></li></ul></div><div class="gski-eve
 nement-epreuves"><div class="gski-evenement-epreuves-titres">Epreuves :</di
 v><ul class="gski-evenement-epreuves-list"><li><div class="gski-epreuve-dat
 e">Le dimanche 03 octobre 2021</div><ul class="gski-epreuve-liste-infos"><l
 i>Codex épreuve OMVM0011</li><li>Individuel</li><li>Catégorie(s) : U15 (Gar
 çons)</li></ul></li><li><div class="gski-epreuve-date">Le dimanche 03 octob
 re 2021</div><ul class="gski-epreuve-liste-infos"><li>Codex épreuve OMVF001
 1</li><li>Individuel</li><li>Catégorie(s) : U15 (Filles)</li></ul></li><li>
 <div class="gski-epreuve-date">Le dimanche 03 octobre 2021</div><ul class="
 gski-epreuve-liste-infos"><li>Codex épreuve OMVM0012</li><li>Individuel</li
 ><li>Catégorie(s) : U17 (Garçons)</li></ul></li><li><div class="gski-epreuv
 e-date">Le dimanche 03 octobre 2021</div><ul class="gski-epreuve-liste-info
 s"><li>Codex épreuve OMVF0012</li><li>Individuel</li><li>Catégorie(s) : U17
  (Filles)</li></ul></li><li><div class="gski-epreuve-date">Le dimanche 03 o
 ctobre 2021</div><ul class="gski-epreuve-liste-infos"><li>Codex épreuve OMV
 M0013</li><li>Individuel</li><li>Catégorie(s) : U20 a SEN (Hommes)</li></ul
 ></li><li><div class="gski-epreuve-date">Le dimanche 03 octobre 2021</div><
 ul class="gski-epreuve-liste-infos"><li>Codex épreuve OMVF0013</li><li>Indi
 viduel</li><li>Catégorie(s) : U20 a SEN (Dames)</li></ul></li></ul></div><d
 iv class="gskiepreuves-links"><ul><li><a href="https://skivosges.net/index.
 php?option=com_jevents&task=icalevent.detail&evid=1692&Itemid=6289">Voir le
 s informations dans l'agenda...</a></li><li><a href="https://skivosges.net/
 index.php?option=com_gskiepreuves&view=afficheresultats&format_option=tous&
 filter[search]=OMVT0010&filter[date_debut]=02-10-2021&filter[date_fin]=02-1
 0-2021&code_activite=ROL&Itemid=6289">Vers les résultats...</a></li></ul></
 div></div"><!-- #/gskiepreuve fin du dode généré par le plugin jevents pour
  GskiEpreuves. . Ne pas modifier cette ligne, ni tout le contenu précedant.
   #/gskiepreuve --> <a href="https://skivosges.net/agenda/a-venir/detaileve
 nement/1697/-/coupe-des-vosges-credit-mutuel-bigmat-atomic-sprint-la-bresse
 -reporte-e-au-02-10-2021?tmpl=component">Cet évènement a été importé depuis
  :https://skivosges.net/agenda/a-venir/detailevenement/1697/-/coupe-des-vos
 ges-credit-mutuel-bigmat-atomic-sprint-la-bresse-reporte-e-au-02-10-2021?tm
 pl=component</a>DTSTAMP:20260423T174120
DTSTART;TZID=Europe/Paris;VALUE=DATE:20211003
DTEND;TZID=Europe/Paris;VALUE=DATE:20211004
SEQUENCE:0
TRANSP:OPAQUE
END:VEVENT
END:VCALENDAR