BEGIN:VCALENDAR
VERSION:2.0
PRODID:-//jEvents 2.0 for Joomla//EN
CALSCALE:GREGORIAN
METHOD:PUBLISH
BEGIN:VTIMEZONE
TZID:Europe/Paris
BEGIN:STANDARD
DTSTART:20111214T000000
RDATE:20120325T030000
TZOFFSETFROM:+0200
TZOFFSETTO:+0100
TZNAME:Europe/Paris CET
END:STANDARD
BEGIN:STANDARD
DTSTART:20121028T020000
RDATE:20130331T030000
TZOFFSETFROM:+0200
TZOFFSETTO:+0100
TZNAME:Europe/Paris CET
END:STANDARD
BEGIN:STANDARD
DTSTART:20131027T020000
RDATE:20140330T030000
TZOFFSETFROM:+0200
TZOFFSETTO:+0100
TZNAME:Europe/Paris CET
END:STANDARD
BEGIN:STANDARD
DTSTART:20141026T020000
RDATE:20150329T030000
TZOFFSETFROM:+0200
TZOFFSETTO:+0100
TZNAME:Europe/Paris CET
END:STANDARD
BEGIN:STANDARD
DTSTART:20151025T020000
RDATE:20160327T030000
TZOFFSETFROM:+0200
TZOFFSETTO:+0100
TZNAME:Europe/Paris CET
END:STANDARD
BEGIN:STANDARD
DTSTART:20161030T020000
RDATE:20170326T030000
TZOFFSETFROM:+0200
TZOFFSETTO:+0100
TZNAME:Europe/Paris CET
END:STANDARD
BEGIN:STANDARD
DTSTART:20171029T020000
RDATE:20180325T030000
TZOFFSETFROM:+0200
TZOFFSETTO:+0100
TZNAME:Europe/Paris CET
END:STANDARD
BEGIN:STANDARD
DTSTART:20181028T020000
RDATE:20190331T030000
TZOFFSETFROM:+0200
TZOFFSETTO:+0100
TZNAME:Europe/Paris CET
END:STANDARD
BEGIN:STANDARD
DTSTART:20191027T020000
RDATE:20200329T030000
TZOFFSETFROM:+0200
TZOFFSETTO:+0100
TZNAME:Europe/Paris CET
END:STANDARD
BEGIN:STANDARD
DTSTART:20201025T020000
RDATE:20210328T030000
TZOFFSETFROM:+0200
TZOFFSETTO:+0100
TZNAME:Europe/Paris CET
END:STANDARD
BEGIN:STANDARD
DTSTART:20211031T020000
RDATE:20220327T030000
TZOFFSETFROM:+0200
TZOFFSETTO:+0100
TZNAME:Europe/Paris CET
END:STANDARD
BEGIN:STANDARD
DTSTART:20221030T020000
RDATE:20230326T030000
TZOFFSETFROM:+0200
TZOFFSETTO:+0100
TZNAME:Europe/Paris CET
END:STANDARD
BEGIN:STANDARD
DTSTART:20231029T020000
RDATE:20240331T030000
TZOFFSETFROM:+0200
TZOFFSETTO:+0100
TZNAME:Europe/Paris CET
END:STANDARD
BEGIN:STANDARD
DTSTART:20241027T020000
RDATE:20250330T030000
TZOFFSETFROM:+0200
TZOFFSETTO:+0100
TZNAME:Europe/Paris CET
END:STANDARD
BEGIN:STANDARD
DTSTART:20251026T020000
RDATE:20260329T030000
TZOFFSETFROM:+0200
TZOFFSETTO:+0100
TZNAME:Europe/Paris CET
END:STANDARD
BEGIN:STANDARD
DTSTART:20261025T020000
RDATE:20270328T030000
TZOFFSETFROM:+0200
TZOFFSETTO:+0100
TZNAME:Europe/Paris CET
END:STANDARD
BEGIN:DAYLIGHT
DTSTART:20120325T030000
RDATE:20121028T020000
TZOFFSETFROM:+0100
TZOFFSETTO:+0200
TZNAME:Europe/Paris CEST
END:DAYLIGHT
BEGIN:DAYLIGHT
DTSTART:20130331T030000
RDATE:20131027T020000
TZOFFSETFROM:+0100
TZOFFSETTO:+0200
TZNAME:Europe/Paris CEST
END:DAYLIGHT
BEGIN:DAYLIGHT
DTSTART:20140330T030000
RDATE:20141026T020000
TZOFFSETFROM:+0100
TZOFFSETTO:+0200
TZNAME:Europe/Paris CEST
END:DAYLIGHT
BEGIN:DAYLIGHT
DTSTART:20150329T030000
RDATE:20151025T020000
TZOFFSETFROM:+0100
TZOFFSETTO:+0200
TZNAME:Europe/Paris CEST
END:DAYLIGHT
BEGIN:DAYLIGHT
DTSTART:20160327T030000
RDATE:20161030T020000
TZOFFSETFROM:+0100
TZOFFSETTO:+0200
TZNAME:Europe/Paris CEST
END:DAYLIGHT
BEGIN:DAYLIGHT
DTSTART:20170326T030000
RDATE:20171029T020000
TZOFFSETFROM:+0100
TZOFFSETTO:+0200
TZNAME:Europe/Paris CEST
END:DAYLIGHT
BEGIN:DAYLIGHT
DTSTART:20180325T030000
RDATE:20181028T020000
TZOFFSETFROM:+0100
TZOFFSETTO:+0200
TZNAME:Europe/Paris CEST
END:DAYLIGHT
BEGIN:DAYLIGHT
DTSTART:20190331T030000
RDATE:20191027T020000
TZOFFSETFROM:+0100
TZOFFSETTO:+0200
TZNAME:Europe/Paris CEST
END:DAYLIGHT
BEGIN:DAYLIGHT
DTSTART:20200329T030000
RDATE:20201025T020000
TZOFFSETFROM:+0100
TZOFFSETTO:+0200
TZNAME:Europe/Paris CEST
END:DAYLIGHT
BEGIN:DAYLIGHT
DTSTART:20210328T030000
RDATE:20211031T020000
TZOFFSETFROM:+0100
TZOFFSETTO:+0200
TZNAME:Europe/Paris CEST
END:DAYLIGHT
BEGIN:DAYLIGHT
DTSTART:20220327T030000
RDATE:20221030T020000
TZOFFSETFROM:+0100
TZOFFSETTO:+0200
TZNAME:Europe/Paris CEST
END:DAYLIGHT
BEGIN:DAYLIGHT
DTSTART:20230326T030000
RDATE:20231029T020000
TZOFFSETFROM:+0100
TZOFFSETTO:+0200
TZNAME:Europe/Paris CEST
END:DAYLIGHT
BEGIN:DAYLIGHT
DTSTART:20240331T030000
RDATE:20241027T020000
TZOFFSETFROM:+0100
TZOFFSETTO:+0200
TZNAME:Europe/Paris CEST
END:DAYLIGHT
BEGIN:DAYLIGHT
DTSTART:20250330T030000
RDATE:20251026T020000
TZOFFSETFROM:+0100
TZOFFSETTO:+0200
TZNAME:Europe/Paris CEST
END:DAYLIGHT
BEGIN:DAYLIGHT
DTSTART:20260329T030000
RDATE:20261025T020000
TZOFFSETFROM:+0100
TZOFFSETTO:+0200
TZNAME:Europe/Paris CEST
END:DAYLIGHT
END:VTIMEZONE
BEGIN:VEVENT
UID:615337321c6b4f8508c11cfddce5e874
CATEGORIES:Ski Loisir - Sorties CRMVS
CREATED:20121105T171834
SUMMARY:Critérium de la 1ère Neige (Dames)
LOCATION:Val d'Isère
URL;VALUE=URI:https://skivosges.net/agenda/a-venir/detailevenement/17/-/criterium-de-la-1
 ere-neige-dames?tmpl=component
DESCRIPTION:<p>La Commission Régionale Ski Loisirs / Développement a décidé d’organiser
  avec l'A.D.T. un déplacement à l’occasion du Critérium de la 1ère Neige (D
 ames) de VAL D’ISERE et COURCHEVEL.</p><p>Ce déplacement sera réservé <b>pr
 ioritairement</b> aux licenciés.</p><p> </p><p>Vous trouverez toutes les in
 formations dans le document : <a target="_blank" class="jcepopup" href="doc
 uments/2012/secretariat/Manifestations_Sorties/121214-16_Val_Isere/121214-1
 6_val-isere_infos_et_programme.pdf">Programme et informations sur la sortie
 ...</a></p><p> </p><p><strong>Pré-Inscription obligatoire en complétant le 
 formulaire ci-dessous</strong>.<br />Après validation vous recevrez un cour
 riel avec un lien de validation sur lequel il faudra impérativement cliquer
  pour reserver votre place.</p><p>Il faudra ensuite retourner au siège du C
 RMVS <strong>avant le 26/11/2012 imperativement</strong> :</p><ul><li>Le <a
  target="_blank" class="jcepopup" href="documents/2012/secretariat/Manifest
 ations_Sorties/121214-16_Val_Isere/121214-16_val-isere_fiche_inscription.pd
 f">formulaire d'inscription rempli...</a></li><li>L'<a target="_blank" clas
 s="jcepopup" href="documents/2012/secretariat/Manifestations_Sorties/121214
 -16_Val_Isere/121214-16_val-isere_decharge.pdf">engagement / décharge rempl
 i et signé...</a></li><li>La <a class="jcepopup" href="documents/2012/secre
 tariat/Manifestations_Sorties/fiche_sanitaire.pdf" target="_blank">Fiche sa
 nitaire de liaison dûment remplie...</a></li><li>Photocopie de la carte d'i
 dentité (orignal à avoir sur soi lors de déplacement)</li><li>Photocopie de
  l'autorisation de sortie du territoire (original à presenter lors du dépla
 cement)</li><li>Chèque de 125euros à l'ordre du CRMVS</li></ul><p> </p> <a 
 href="https://skivosges.net/agenda/a-venir/detailevenement/17/-/criterium-d
 e-la-1ere-neige-dames?tmpl=component">Cet évènement a été importé depuis :h
 ttps://skivosges.net/agenda/a-venir/detailevenement/17/-/criterium-de-la-1e
 re-neige-dames?tmpl=component</a>
X-ALT-DESC;FMTTYPE=text/html:<p>La Commission Régionale Ski Loisirs / Développement a décidé d’organiser
  avec l'A.D.T. un déplacement à l’occasion du Critérium de la 1ère Neige (D
 ames) de VAL D’ISERE et COURCHEVEL.</p><p>Ce déplacement sera réservé <b>pr
 ioritairement</b> aux licenciés.</p><p> </p><p>Vous trouverez toutes les in
 formations dans le document : <a target="_blank" class="jcepopup" href="htt
 ps://skivosges.net/documents/2012/secretariat/Manifestations_Sorties/121214
 -16_Val_Isere/121214-16_val-isere_infos_et_programme.pdf">Programme et info
 rmations sur la sortie...</a></p><p> </p><p><strong>Pré-Inscription obligat
 oire en complétant le formulaire ci-dessous</strong>.<br />Après validation
  vous recevrez un courriel avec un lien de validation sur lequel il faudra 
 impérativement cliquer pour reserver votre place.</p><p>Il faudra ensuite r
 etourner au siège du CRMVS <strong>avant le 26/11/2012 imperativement</stro
 ng> :</p><ul><li>Le <a target="_blank" class="jcepopup" href="https://skivo
 sges.net/documents/2012/secretariat/Manifestations_Sorties/121214-16_Val_Is
 ere/121214-16_val-isere_fiche_inscription.pdf">formulaire d'inscription rem
 pli...</a></li><li>L'<a target="_blank" class="jcepopup" href="https://skiv
 osges.net/documents/2012/secretariat/Manifestations_Sorties/121214-16_Val_I
 sere/121214-16_val-isere_decharge.pdf">engagement / décharge rempli et sign
 é...</a></li><li>La <a class="jcepopup" href="https://skivosges.net/documen
 ts/2012/secretariat/Manifestations_Sorties/fiche_sanitaire.pdf" target="_bl
 ank">Fiche sanitaire de liaison dûment remplie...</a></li><li>Photocopie de
  la carte d'identité (orignal à avoir sur soi lors de déplacement)</li><li>
 Photocopie de l'autorisation de sortie du territoire (original à presenter 
 lors du déplacement)</li><li>Chèque de 125euros à l'ordre du CRMVS</li></ul
 ><p> </p> <a href="https://skivosges.net/agenda/a-venir/detailevenement/17/
 -/criterium-de-la-1ere-neige-dames?tmpl=component">Cet évènement a été impo
 rté depuis :https://skivosges.net/agenda/a-venir/detailevenement/17/-/crite
 rium-de-la-1ere-neige-dames?tmpl=component</a>DTSTAMP:20260424T012607
DTSTART;TZID=Europe/Paris;VALUE=DATE:20121214
DTEND;TZID=Europe/Paris;VALUE=DATE:20121217
SEQUENCE:0
TRANSP:OPAQUE
END:VEVENT
END:VCALENDAR