BEGIN:VCALENDAR
VERSION:2.0
PRODID:-//jEvents 2.0 for Joomla//EN
CALSCALE:GREGORIAN
METHOD:PUBLISH
BEGIN:VTIMEZONE
TZID:Europe/Paris
BEGIN:STANDARD
DTSTART:20201025T020000
RDATE:20210328T030000
TZOFFSETFROM:+0200
TZOFFSETTO:+0100
TZNAME:Europe/Paris CET
END:STANDARD
BEGIN:STANDARD
DTSTART:20211031T020000
RDATE:20220327T030000
TZOFFSETFROM:+0200
TZOFFSETTO:+0100
TZNAME:Europe/Paris CET
END:STANDARD
BEGIN:STANDARD
DTSTART:20221030T020000
RDATE:20230326T030000
TZOFFSETFROM:+0200
TZOFFSETTO:+0100
TZNAME:Europe/Paris CET
END:STANDARD
BEGIN:STANDARD
DTSTART:20231029T020000
RDATE:20240331T030000
TZOFFSETFROM:+0200
TZOFFSETTO:+0100
TZNAME:Europe/Paris CET
END:STANDARD
BEGIN:STANDARD
DTSTART:20241027T020000
RDATE:20250330T030000
TZOFFSETFROM:+0200
TZOFFSETTO:+0100
TZNAME:Europe/Paris CET
END:STANDARD
BEGIN:STANDARD
DTSTART:20251026T020000
RDATE:20260329T030000
TZOFFSETFROM:+0200
TZOFFSETTO:+0100
TZNAME:Europe/Paris CET
END:STANDARD
BEGIN:STANDARD
DTSTART:20261025T020000
RDATE:20270328T030000
TZOFFSETFROM:+0200
TZOFFSETTO:+0100
TZNAME:Europe/Paris CET
END:STANDARD
BEGIN:DAYLIGHT
DTSTART:20200910T000000
RDATE:20201025T020000
TZOFFSETFROM:+0100
TZOFFSETTO:+0200
TZNAME:Europe/Paris CEST
END:DAYLIGHT
BEGIN:DAYLIGHT
DTSTART:20210328T030000
RDATE:20211031T020000
TZOFFSETFROM:+0100
TZOFFSETTO:+0200
TZNAME:Europe/Paris CEST
END:DAYLIGHT
BEGIN:DAYLIGHT
DTSTART:20220327T030000
RDATE:20221030T020000
TZOFFSETFROM:+0100
TZOFFSETTO:+0200
TZNAME:Europe/Paris CEST
END:DAYLIGHT
BEGIN:DAYLIGHT
DTSTART:20230326T030000
RDATE:20231029T020000
TZOFFSETFROM:+0100
TZOFFSETTO:+0200
TZNAME:Europe/Paris CEST
END:DAYLIGHT
BEGIN:DAYLIGHT
DTSTART:20240331T030000
RDATE:20241027T020000
TZOFFSETFROM:+0100
TZOFFSETTO:+0200
TZNAME:Europe/Paris CEST
END:DAYLIGHT
BEGIN:DAYLIGHT
DTSTART:20250330T030000
RDATE:20251026T020000
TZOFFSETFROM:+0100
TZOFFSETTO:+0200
TZNAME:Europe/Paris CEST
END:DAYLIGHT
BEGIN:DAYLIGHT
DTSTART:20260329T030000
RDATE:20261025T020000
TZOFFSETFROM:+0100
TZOFFSETTO:+0200
TZNAME:Europe/Paris CEST
END:DAYLIGHT
END:VTIMEZONE
BEGIN:VEVENT
UID:0641f9b82731f96c5e3678f5640533d2
CATEGORIES:Compétition Saut
CREATED:20210901T190004
SUMMARY:Coupe des Vosges Ventron Saut
URL;VALUE=URI:https://skivosges.net/agenda/a-venir/detailevenement/1703/-/coupe-des-vosge
 s-ventron-saut?tmpl=component
DESCRIPTION:Coupe des Vosges Ventron Saut\n - Codex évenement TMVT0190\n - Lieu : Tremp
 lin Maurice Mailly Ventron\n - Organisateur : 14083 U.S VENTRON\n - Courrie
 l : RegularLabs.EmailProtector.unCloak("ep_7dee338d");Période d'inscription
  à l'evènement du samedi 04 septembre 2021 à 02:00 au jeudi 09 septembre 20
 21 à 14:00 (Inscriptions impossibles).Inscriptions ouvertes aux detenteurs 
 des titres Fédéraux valides suivants : Licenciés Compétiteurs\n - Voir les 
 informations dans l'agenda... (/index.php?option=com_jevents&amp;task=icale
 vent.detail&amp;evid=1698&amp;Itemid=6289)Epreuves :\n - Le samedi 11 septe
 mbre 2021\n - Codex épreuve TMVM0191\n - Saut Special\n - Catégorie(s) : U7
  a U15 (Garçons)\n - Le samedi 11 septembre 2021\n - Codex épreuve TMVF0191
 \n - Saut Special\n - Catégorie(s) : U7 a U15 (Filles)\n - Voir les informa
 tions dans l'agenda... (/index.php?option=com_jevents&amp;task=icalevent.de
 tail&amp;evid=1698&amp;Itemid=6289) Cet évènement a été importé depuis :htt
 ps://skivosges.net/agenda/a-venir/detailevenement/1703/-/coupe-des-vosges-v
 entron-saut?tmpl=component
X-ALT-DESC;FMTTYPE=text/html:<!-- #gskiepreuve code généré par le plugin jevents pour GskiEpreuves. Ne p
 as modifier cette ligne, ni tout le contenu suivant  #gskiepreuve --><div c
 lass="gski-evenement_infos"><div class="gski-evenement-nom">Coupe des Vosge
 s Ventron Saut</div><div class="gski-evenement-report"></div><ul class="gsk
 i-evenement-liste-infos"><li>Codex évenement TMVT0190</li><li>Lieu : Trempl
 in Maurice Mailly Ventron</li><li>Organisateur : 14083 U.S VENTRON</li><li>
 Courriel : <!-- Cette adresse électronique est protégée contre les robots s
 pammeurs. --><span class="cloaked_email ep_7dee338d"><span data-ep-a="&#112
 ;a&#116;&#114;&#105;" data-ep-b=""><span data-ep-b="l&#46;&#99;&#111;m" dat
 a-ep-a="&#99;&#107;&#56;&#56;&#103;"><span data-ep-b="&#64;g&#109;&#97;&#10
 5;" data-ep-a="e&#114;&#97;&#114;&#100;"></span></span></span></span><scrip
 t>RegularLabs.EmailProtector.unCloak("ep_7dee338d");</script></li></ul><div
  class="gski-evenement-infos-2"><div class="gski-evenement-info-inscription
 s"><div class="gski-evenement-inscriptions-periodes">Période d'inscription 
 à l'evènement du samedi 04 septembre 2021 à 02:00 au jeudi 09 septembre 202
 1 à 14:00 <span class="gski-evenement-inscriptions-impossibles">(Inscriptio
 ns impossibles).</span><div class="gski-evenement-inscriptions-types-titres
 ">Inscriptions ouvertes aux detenteurs des titres Fédéraux valides suivants
  : Licenciés Compétiteurs</div></div></div><div class="gskiepreuves-links">
 <ul><li><a href="https://skivosges.net/index.php?option=com_jevents&task=ic
 alevent.detail&evid=1698&Itemid=6289">Voir les informations dans l'agenda..
 .</a></li></ul></div><div class="gski-evenement-epreuves"><div class="gski-
 evenement-epreuves-titres">Epreuves :</div><ul class="gski-evenement-epreuv
 es-list"><li><div class="gski-epreuve-date">Le samedi 11 septembre 2021</di
 v><ul class="gski-epreuve-liste-infos"><li>Codex épreuve TMVM0191</li><li>S
 aut Special</li><li>Catégorie(s) : U7 a U15 (Garçons)</li></ul></li><li><di
 v class="gski-epreuve-date">Le samedi 11 septembre 2021</div><ul class="gsk
 i-epreuve-liste-infos"><li>Codex épreuve TMVF0191</li><li>Saut Special</li>
 <li>Catégorie(s) : U7 a U15 (Filles)</li></ul></li></ul></div><div class="g
 skiepreuves-links"><ul><li><a href="https://skivosges.net/index.php?option=
 com_jevents&task=icalevent.detail&evid=1698&Itemid=6289">Voir les informati
 ons dans l'agenda...</a></li></ul></div></div"><!-- #/gskiepreuve fin du do
 de généré par le plugin jevents pour GskiEpreuves. . Ne pas modifier cette 
 ligne, ni tout le contenu précedant.  #/gskiepreuve --> <a href="https://sk
 ivosges.net/agenda/a-venir/detailevenement/1703/-/coupe-des-vosges-ventron-
 saut?tmpl=component">Cet évènement a été importé depuis :https://skivosges.
 net/agenda/a-venir/detailevenement/1703/-/coupe-des-vosges-ventron-saut?tmp
 l=component</a>DTSTAMP:20260423T174057
DTSTART;TZID=Europe/Paris;VALUE=DATE:20210911
DTEND;TZID=Europe/Paris;VALUE=DATE:20210912
SEQUENCE:0
TRANSP:OPAQUE
END:VEVENT
END:VCALENDAR