BEGIN:VCALENDAR
VERSION:2.0
PRODID:-//jEvents 2.0 for Joomla//EN
CALSCALE:GREGORIAN
METHOD:PUBLISH
BEGIN:VTIMEZONE
TZID:Europe/Paris
BEGIN:STANDARD
DTSTART:20201025T020000
RDATE:20210328T030000
TZOFFSETFROM:+0200
TZOFFSETTO:+0100
TZNAME:Europe/Paris CET
END:STANDARD
BEGIN:STANDARD
DTSTART:20211031T020000
RDATE:20220327T030000
TZOFFSETFROM:+0200
TZOFFSETTO:+0100
TZNAME:Europe/Paris CET
END:STANDARD
BEGIN:STANDARD
DTSTART:20221030T020000
RDATE:20230326T030000
TZOFFSETFROM:+0200
TZOFFSETTO:+0100
TZNAME:Europe/Paris CET
END:STANDARD
BEGIN:STANDARD
DTSTART:20231029T020000
RDATE:20240331T030000
TZOFFSETFROM:+0200
TZOFFSETTO:+0100
TZNAME:Europe/Paris CET
END:STANDARD
BEGIN:STANDARD
DTSTART:20241027T020000
RDATE:20250330T030000
TZOFFSETFROM:+0200
TZOFFSETTO:+0100
TZNAME:Europe/Paris CET
END:STANDARD
BEGIN:STANDARD
DTSTART:20251026T020000
RDATE:20260329T030000
TZOFFSETFROM:+0200
TZOFFSETTO:+0100
TZNAME:Europe/Paris CET
END:STANDARD
BEGIN:STANDARD
DTSTART:20261025T020000
RDATE:20270328T030000
TZOFFSETFROM:+0200
TZOFFSETTO:+0100
TZNAME:Europe/Paris CET
END:STANDARD
BEGIN:DAYLIGHT
DTSTART:20200910T000000
RDATE:20201025T020000
TZOFFSETFROM:+0100
TZOFFSETTO:+0200
TZNAME:Europe/Paris CEST
END:DAYLIGHT
BEGIN:DAYLIGHT
DTSTART:20210328T030000
RDATE:20211031T020000
TZOFFSETFROM:+0100
TZOFFSETTO:+0200
TZNAME:Europe/Paris CEST
END:DAYLIGHT
BEGIN:DAYLIGHT
DTSTART:20220327T030000
RDATE:20221030T020000
TZOFFSETFROM:+0100
TZOFFSETTO:+0200
TZNAME:Europe/Paris CEST
END:DAYLIGHT
BEGIN:DAYLIGHT
DTSTART:20230326T030000
RDATE:20231029T020000
TZOFFSETFROM:+0100
TZOFFSETTO:+0200
TZNAME:Europe/Paris CEST
END:DAYLIGHT
BEGIN:DAYLIGHT
DTSTART:20240331T030000
RDATE:20241027T020000
TZOFFSETFROM:+0100
TZOFFSETTO:+0200
TZNAME:Europe/Paris CEST
END:DAYLIGHT
BEGIN:DAYLIGHT
DTSTART:20250330T030000
RDATE:20251026T020000
TZOFFSETFROM:+0100
TZOFFSETTO:+0200
TZNAME:Europe/Paris CEST
END:DAYLIGHT
BEGIN:DAYLIGHT
DTSTART:20260329T030000
RDATE:20261025T020000
TZOFFSETFROM:+0100
TZOFFSETTO:+0200
TZNAME:Europe/Paris CEST
END:DAYLIGHT
END:VTIMEZONE
BEGIN:VEVENT
UID:152f539928c3a8796ad9a8a7900aa884
CATEGORIES:Combiné Nordique
CREATED:20210901T190004
SUMMARY:Coupe des Vosges Ventron CN
URL;VALUE=URI:https://skivosges.net/agenda/a-venir/detailevenement/1704/-/coupe-des-vosge
 s-ventron-cn?tmpl=component
DESCRIPTION:Coupe des Vosges Ventron CN\n - Codex évenement CMVT0080\n - Lieu : Trempli
 n Maurice Mailly Ventron\n - Organisateur : 14083 U.S VENTRON\n - Courriel 
 : RegularLabs.EmailProtector.unCloak("ep_cb98d044");Période d'inscription à
  l'evènement du samedi 04 septembre 2021 à 02:00 au jeudi 09 septembre 2021
  à 14:00 (Inscriptions impossibles).Inscriptions ouvertes aux detenteurs de
 s titres Fédéraux valides suivants : Licenciés Compétiteurs\n - Voir les in
 formations dans l'agenda... (/index.php?option=com_jevents&amp;task=icaleve
 nt.detail&amp;evid=1699&amp;Itemid=6289)Epreuves :\n - Le samedi 11 septemb
 re 2021\n - Codex épreuve CMVM0081\n - Saut du Combine Nordique\n - Catégor
 ie(s) : U7 a U15 (Garçons)\n - Le samedi 11 septembre 2021\n - Codex épreuv
 e CMVF0081\n - Saut du Combine Nordique\n - Catégorie(s) : U7 a U15 (Filles
 )\n - Voir les informations dans l'agenda... (/index.php?option=com_jevents
 &amp;task=icalevent.detail&amp;evid=1699&amp;Itemid=6289) Cet évènement a é
 té importé depuis :https://skivosges.net/agenda/a-venir/detailevenement/170
 4/-/coupe-des-vosges-ventron-cn?tmpl=component
X-ALT-DESC;FMTTYPE=text/html:<!-- #gskiepreuve code généré par le plugin jevents pour GskiEpreuves. Ne p
 as modifier cette ligne, ni tout le contenu suivant  #gskiepreuve --><div c
 lass="gski-evenement_infos"><div class="gski-evenement-nom">Coupe des Vosge
 s Ventron CN</div><div class="gski-evenement-report"></div><ul class="gski-
 evenement-liste-infos"><li>Codex évenement CMVT0080</li><li>Lieu : Tremplin
  Maurice Mailly Ventron</li><li>Organisateur : 14083 U.S VENTRON</li><li>Co
 urriel : <!-- Cette adresse électronique est protégée contre les robots spa
 mmeurs. --><span class="cloaked_email ep_cb98d044"><span data-ep-a="&#112;&
 #97;&#116;ri" data-ep-b=""><span data-ep-b="&#108;&#46;c&#111;&#109;" data-
 ep-a="&#99;k&#56;&#56;g"><span data-ep-a="&#101;&#114;&#97;&#114;&#100;" da
 ta-ep-b="&#64;&#103;&#109;&#97;i"></span></span></span></span><script>Regul
 arLabs.EmailProtector.unCloak("ep_cb98d044");</script></li></ul><div class=
 "gski-evenement-infos-2"><div class="gski-evenement-info-inscriptions"><div
  class="gski-evenement-inscriptions-periodes">Période d'inscription à l'evè
 nement du samedi 04 septembre 2021 à 02:00 au jeudi 09 septembre 2021 à 14:
 00 <span class="gski-evenement-inscriptions-impossibles">(Inscriptions impo
 ssibles).</span><div class="gski-evenement-inscriptions-types-titres">Inscr
 iptions ouvertes aux detenteurs des titres Fédéraux valides suivants : Lice
 nciés Compétiteurs</div></div></div><div class="gskiepreuves-links"><ul><li
 ><a href="https://skivosges.net/index.php?option=com_jevents&task=icalevent
 .detail&evid=1699&Itemid=6289">Voir les informations dans l'agenda...</a></
 li></ul></div><div class="gski-evenement-epreuves"><div class="gski-eveneme
 nt-epreuves-titres">Epreuves :</div><ul class="gski-evenement-epreuves-list
 "><li><div class="gski-epreuve-date">Le samedi 11 septembre 2021</div><ul c
 lass="gski-epreuve-liste-infos"><li>Codex épreuve CMVM0081</li><li>Saut du 
 Combine Nordique</li><li>Catégorie(s) : U7 a U15 (Garçons)</li></ul></li><l
 i><div class="gski-epreuve-date">Le samedi 11 septembre 2021</div><ul class
 ="gski-epreuve-liste-infos"><li>Codex épreuve CMVF0081</li><li>Saut du Comb
 ine Nordique</li><li>Catégorie(s) : U7 a U15 (Filles)</li></ul></li></ul></
 div><div class="gskiepreuves-links"><ul><li><a href="https://skivosges.net/
 index.php?option=com_jevents&task=icalevent.detail&evid=1699&Itemid=6289">V
 oir les informations dans l'agenda...</a></li></ul></div></div"><!-- #/gski
 epreuve fin du dode généré par le plugin jevents pour GskiEpreuves. . Ne pa
 s modifier cette ligne, ni tout le contenu précedant.  #/gskiepreuve --> <a
  href="https://skivosges.net/agenda/a-venir/detailevenement/1704/-/coupe-de
 s-vosges-ventron-cn?tmpl=component">Cet évènement a été importé depuis :htt
 ps://skivosges.net/agenda/a-venir/detailevenement/1704/-/coupe-des-vosges-v
 entron-cn?tmpl=component</a>DTSTAMP:20260423T174110
DTSTART;TZID=Europe/Paris;VALUE=DATE:20210911
DTEND;TZID=Europe/Paris;VALUE=DATE:20210912
SEQUENCE:0
TRANSP:OPAQUE
END:VEVENT
END:VCALENDAR