BEGIN:VCALENDAR
VERSION:2.0
PRODID:-//jEvents 2.0 for Joomla//EN
CALSCALE:GREGORIAN
METHOD:PUBLISH
BEGIN:VTIMEZONE
TZID:Europe/Paris
BEGIN:STANDARD
DTSTART:20201029T160000
RDATE:20210328T030000
TZOFFSETFROM:+0200
TZOFFSETTO:+0100
TZNAME:Europe/Paris CET
END:STANDARD
BEGIN:STANDARD
DTSTART:20211031T020000
RDATE:20220327T030000
TZOFFSETFROM:+0200
TZOFFSETTO:+0100
TZNAME:Europe/Paris CET
END:STANDARD
BEGIN:STANDARD
DTSTART:20221030T020000
RDATE:20230326T030000
TZOFFSETFROM:+0200
TZOFFSETTO:+0100
TZNAME:Europe/Paris CET
END:STANDARD
BEGIN:STANDARD
DTSTART:20231029T020000
RDATE:20240331T030000
TZOFFSETFROM:+0200
TZOFFSETTO:+0100
TZNAME:Europe/Paris CET
END:STANDARD
BEGIN:STANDARD
DTSTART:20241027T020000
RDATE:20250330T030000
TZOFFSETFROM:+0200
TZOFFSETTO:+0100
TZNAME:Europe/Paris CET
END:STANDARD
BEGIN:STANDARD
DTSTART:20251026T020000
RDATE:20260329T030000
TZOFFSETFROM:+0200
TZOFFSETTO:+0100
TZNAME:Europe/Paris CET
END:STANDARD
BEGIN:STANDARD
DTSTART:20261025T020000
RDATE:20270328T030000
TZOFFSETFROM:+0200
TZOFFSETTO:+0100
TZNAME:Europe/Paris CET
END:STANDARD
BEGIN:DAYLIGHT
DTSTART:20210328T030000
RDATE:20211031T020000
TZOFFSETFROM:+0100
TZOFFSETTO:+0200
TZNAME:Europe/Paris CEST
END:DAYLIGHT
BEGIN:DAYLIGHT
DTSTART:20220327T030000
RDATE:20221030T020000
TZOFFSETFROM:+0100
TZOFFSETTO:+0200
TZNAME:Europe/Paris CEST
END:DAYLIGHT
BEGIN:DAYLIGHT
DTSTART:20230326T030000
RDATE:20231029T020000
TZOFFSETFROM:+0100
TZOFFSETTO:+0200
TZNAME:Europe/Paris CEST
END:DAYLIGHT
BEGIN:DAYLIGHT
DTSTART:20240331T030000
RDATE:20241027T020000
TZOFFSETFROM:+0100
TZOFFSETTO:+0200
TZNAME:Europe/Paris CEST
END:DAYLIGHT
BEGIN:DAYLIGHT
DTSTART:20250330T030000
RDATE:20251026T020000
TZOFFSETFROM:+0100
TZOFFSETTO:+0200
TZNAME:Europe/Paris CEST
END:DAYLIGHT
BEGIN:DAYLIGHT
DTSTART:20260329T030000
RDATE:20261025T020000
TZOFFSETFROM:+0100
TZOFFSETTO:+0200
TZNAME:Europe/Paris CEST
END:DAYLIGHT
END:VTIMEZONE
BEGIN:VEVENT
UID:af5d14f588404fd3b803fcb7a361391e
CATEGORIES:Formation des Cadres
CREATED:20210915T064032
SUMMARY:Formation initiale MF1/MF2 Alpin et Snow
URL;VALUE=URI:https://skivosges.net/agenda/a-venir/detailevenement/1708/-/formation-initi
 ale-mf1-mf2-alpin-et-snow?tmpl=component
DESCRIPTION:formulaire inscription (documents/2021/telly/gabartis/formulaire_inscriptio
 n.docx)\nLieu : 2 Alpes\n Cet évènement a été importé depuis :https://skivo
 sges.net/agenda/a-venir/detailevenement/1708/-/formation-initiale-mf1-mf2-a
 lpin-et-snow?tmpl=component
X-ALT-DESC;FMTTYPE=text/html:<p><a href="https://skivosges.net/documents/2021/telly/gabartis/formulaire_
 inscription.docx" target="_parent" title="formulaire inscription">formulair
 e inscription</a></p><p>Lieu : 2 Alpes</p> <a href="https://skivosges.net/a
 genda/a-venir/detailevenement/1708/-/formation-initiale-mf1-mf2-alpin-et-sn
 ow?tmpl=component">Cet évènement a été importé depuis :https://skivosges.ne
 t/agenda/a-venir/detailevenement/1708/-/formation-initiale-mf1-mf2-alpin-et
 -snow?tmpl=component</a>DTSTAMP:20260423T174107
DTSTART;TZID=Europe/Paris:20211030T170000
DTEND;TZID=Europe/Paris:20211105T140000
SEQUENCE:0
TRANSP:OPAQUE
END:VEVENT
END:VCALENDAR