BEGIN:VCALENDAR
VERSION:2.0
PRODID:-//jEvents 2.0 for Joomla//EN
CALSCALE:GREGORIAN
METHOD:PUBLISH
BEGIN:VTIMEZONE
TZID:Europe/Paris
BEGIN:STANDARD
DTSTART:20130308T080000
RDATE:20130331T030000
TZOFFSETFROM:+0200
TZOFFSETTO:+0100
TZNAME:Europe/Paris CET
END:STANDARD
BEGIN:STANDARD
DTSTART:20131027T020000
RDATE:20140330T030000
TZOFFSETFROM:+0200
TZOFFSETTO:+0100
TZNAME:Europe/Paris CET
END:STANDARD
BEGIN:STANDARD
DTSTART:20141026T020000
RDATE:20150329T030000
TZOFFSETFROM:+0200
TZOFFSETTO:+0100
TZNAME:Europe/Paris CET
END:STANDARD
BEGIN:STANDARD
DTSTART:20151025T020000
RDATE:20160327T030000
TZOFFSETFROM:+0200
TZOFFSETTO:+0100
TZNAME:Europe/Paris CET
END:STANDARD
BEGIN:STANDARD
DTSTART:20161030T020000
RDATE:20170326T030000
TZOFFSETFROM:+0200
TZOFFSETTO:+0100
TZNAME:Europe/Paris CET
END:STANDARD
BEGIN:STANDARD
DTSTART:20171029T020000
RDATE:20180325T030000
TZOFFSETFROM:+0200
TZOFFSETTO:+0100
TZNAME:Europe/Paris CET
END:STANDARD
BEGIN:STANDARD
DTSTART:20181028T020000
RDATE:20190331T030000
TZOFFSETFROM:+0200
TZOFFSETTO:+0100
TZNAME:Europe/Paris CET
END:STANDARD
BEGIN:STANDARD
DTSTART:20191027T020000
RDATE:20200329T030000
TZOFFSETFROM:+0200
TZOFFSETTO:+0100
TZNAME:Europe/Paris CET
END:STANDARD
BEGIN:STANDARD
DTSTART:20201025T020000
RDATE:20210328T030000
TZOFFSETFROM:+0200
TZOFFSETTO:+0100
TZNAME:Europe/Paris CET
END:STANDARD
BEGIN:STANDARD
DTSTART:20211031T020000
RDATE:20220327T030000
TZOFFSETFROM:+0200
TZOFFSETTO:+0100
TZNAME:Europe/Paris CET
END:STANDARD
BEGIN:STANDARD
DTSTART:20221030T020000
RDATE:20230326T030000
TZOFFSETFROM:+0200
TZOFFSETTO:+0100
TZNAME:Europe/Paris CET
END:STANDARD
BEGIN:STANDARD
DTSTART:20231029T020000
RDATE:20240331T030000
TZOFFSETFROM:+0200
TZOFFSETTO:+0100
TZNAME:Europe/Paris CET
END:STANDARD
BEGIN:STANDARD
DTSTART:20241027T020000
RDATE:20250330T030000
TZOFFSETFROM:+0200
TZOFFSETTO:+0100
TZNAME:Europe/Paris CET
END:STANDARD
BEGIN:STANDARD
DTSTART:20251026T020000
RDATE:20260329T030000
TZOFFSETFROM:+0200
TZOFFSETTO:+0100
TZNAME:Europe/Paris CET
END:STANDARD
BEGIN:STANDARD
DTSTART:20261025T020000
RDATE:20270328T030000
TZOFFSETFROM:+0200
TZOFFSETTO:+0100
TZNAME:Europe/Paris CET
END:STANDARD
BEGIN:DAYLIGHT
DTSTART:20130331T030000
RDATE:20131027T020000
TZOFFSETFROM:+0100
TZOFFSETTO:+0200
TZNAME:Europe/Paris CEST
END:DAYLIGHT
BEGIN:DAYLIGHT
DTSTART:20140330T030000
RDATE:20141026T020000
TZOFFSETFROM:+0100
TZOFFSETTO:+0200
TZNAME:Europe/Paris CEST
END:DAYLIGHT
BEGIN:DAYLIGHT
DTSTART:20150329T030000
RDATE:20151025T020000
TZOFFSETFROM:+0100
TZOFFSETTO:+0200
TZNAME:Europe/Paris CEST
END:DAYLIGHT
BEGIN:DAYLIGHT
DTSTART:20160327T030000
RDATE:20161030T020000
TZOFFSETFROM:+0100
TZOFFSETTO:+0200
TZNAME:Europe/Paris CEST
END:DAYLIGHT
BEGIN:DAYLIGHT
DTSTART:20170326T030000
RDATE:20171029T020000
TZOFFSETFROM:+0100
TZOFFSETTO:+0200
TZNAME:Europe/Paris CEST
END:DAYLIGHT
BEGIN:DAYLIGHT
DTSTART:20180325T030000
RDATE:20181028T020000
TZOFFSETFROM:+0100
TZOFFSETTO:+0200
TZNAME:Europe/Paris CEST
END:DAYLIGHT
BEGIN:DAYLIGHT
DTSTART:20190331T030000
RDATE:20191027T020000
TZOFFSETFROM:+0100
TZOFFSETTO:+0200
TZNAME:Europe/Paris CEST
END:DAYLIGHT
BEGIN:DAYLIGHT
DTSTART:20200329T030000
RDATE:20201025T020000
TZOFFSETFROM:+0100
TZOFFSETTO:+0200
TZNAME:Europe/Paris CEST
END:DAYLIGHT
BEGIN:DAYLIGHT
DTSTART:20210328T030000
RDATE:20211031T020000
TZOFFSETFROM:+0100
TZOFFSETTO:+0200
TZNAME:Europe/Paris CEST
END:DAYLIGHT
BEGIN:DAYLIGHT
DTSTART:20220327T030000
RDATE:20221030T020000
TZOFFSETFROM:+0100
TZOFFSETTO:+0200
TZNAME:Europe/Paris CEST
END:DAYLIGHT
BEGIN:DAYLIGHT
DTSTART:20230326T030000
RDATE:20231029T020000
TZOFFSETFROM:+0100
TZOFFSETTO:+0200
TZNAME:Europe/Paris CEST
END:DAYLIGHT
BEGIN:DAYLIGHT
DTSTART:20240331T030000
RDATE:20241027T020000
TZOFFSETFROM:+0100
TZOFFSETTO:+0200
TZNAME:Europe/Paris CEST
END:DAYLIGHT
BEGIN:DAYLIGHT
DTSTART:20250330T030000
RDATE:20251026T020000
TZOFFSETFROM:+0100
TZOFFSETTO:+0200
TZNAME:Europe/Paris CEST
END:DAYLIGHT
BEGIN:DAYLIGHT
DTSTART:20260329T030000
RDATE:20261025T020000
TZOFFSETFROM:+0100
TZOFFSETTO:+0200
TZNAME:Europe/Paris CEST
END:DAYLIGHT
END:VTIMEZONE
BEGIN:VEVENT
UID:d4e7a03393c82e1d33efc267f0836e24
CATEGORIES:Circuit Massif Jeunes (alpin)
CREATED:20131203T122100
SUMMARY:GPJ U12 et U14 GP de la Ville de St Amarin / Cpe d´Argent
URL;VALUE=URI:https://skivosges.net/agenda/a-venir/detailevenement/172/-/gpj-u12-et-u14-g
 p-de-la-ville-de-st-amarin-cpe-dargent?tmpl=component
DESCRIPTION:<strong>GPJ U12 et U14 GP de la Ville de St Amarin / Cpe d´Argent</strong> 
 <br /><i>(Grand Prix Jeunes)</i><br /><br />Lieu : MARKSTEIN <br />Piste : 
 Stade de slalom<br />Organisateur : SKI CLUB EDELWEISS SAINT AMARIN  <small
 >(14058 SKI CLUB EDELWEISS SAINT AMARIN)</small><br />Email : <!-- Cette ad
 resse électronique est protégée contre les robots spammeurs. --><span class
 ="cloaked_email ep_8fb4e50e"><span data-ep-a="k&#108;in" data-ep-b="&#101;.
 fr"><span data-ep-a="&#103;&#101;&#108;&#115;" data-ep-b="&#64;&#102;&#114;
 &#101;"><span data-ep-b="&#100;&#116;.g" data-ep-a="&#99;&#104;m&#105;"></s
 pan></span></span></span><script>RegularLabs.EmailProtector.unCloak("ep_8fb
 4e50e");</script><br />Telecopie : 06 28 36 22 53<br /><br />Sur le stade<b
 r>Premier départ : 12h<br /><br />Inscriptions closes, les listes de départ
  sont visualisables sur ce site<ul type="disc"><br />&nbsp;&nbsp;Organisate
 ur:SKI CLUB EDELWEISS SAINT AMARI<li>AMVF0711  Slalom <nobr><i>(Coupe d'Arg
 ent)</i></nobr> <nobr>U12</nobr> Filles<br />&nbsp;&nbsp;GPJ U12 et U14 GP 
 de la Ville de St Amarin / Cpe d'Argent</li><br />&nbsp;&nbsp;Organisateur:
 SKI CLUB EDELWEISS SAINT AMARI<li>AMVM0711  Slalom <nobr><i>(Coupe d'Argent
 )</i></nobr> <nobr>U12</nobr> Garçons<br />&nbsp;&nbsp;GPJ U12 et U14 GP de
  la Ville de St Amarin / Cpe d'Argent</li><br />&nbsp;&nbsp;Organisateur:SK
 I CLUB EDELWEISS SAINT AMARI<li>AMVF0712  Slalom <nobr><i>(Coupe d'Argent)<
 /i></nobr> <nobr>U14</nobr> Filles<br />&nbsp;&nbsp;GPJ U12 et U14 GP de la
  Ville de St Amarin / Cpe d'Argent</li><br />&nbsp;&nbsp;Organisateur:SKI C
 LUB EDELWEISS SAINT AMARI<li>AMVM0712  Slalom <nobr><i>(Coupe d'Argent)</i>
 </nobr> <nobr>U14</nobr> Garçons<br />&nbsp;&nbsp;GPJ U12 et U14 GP de la V
 ille de St Amarin / Cpe d'Argent</li></ul> <a href="https://skivosges.net/a
 genda/a-venir/detailevenement/172/-/gpj-u12-et-u14-gp-de-la-ville-de-st-ama
 rin-cpe-dargent?tmpl=component">Cet évènement a été importé depuis :https:/
 /skivosges.net/agenda/a-venir/detailevenement/172/-/gpj-u12-et-u14-gp-de-la
 -ville-de-st-amarin-cpe-dargent?tmpl=component</a>DTSTAMP:20260424T012604
DTSTART;TZID=Europe/Paris:20140309T080000
DTEND;TZID=Europe/Paris:20140309T170000
SEQUENCE:0
TRANSP:OPAQUE
END:VEVENT
END:VCALENDAR