BEGIN:VCALENDAR
VERSION:2.0
PRODID:-//jEvents 2.0 for Joomla//EN
CALSCALE:GREGORIAN
METHOD:PUBLISH
BEGIN:VTIMEZONE
TZID:Europe/Paris
BEGIN:STANDARD
DTSTART:20201231T000000
RDATE:20210328T030000
TZOFFSETFROM:+0200
TZOFFSETTO:+0100
TZNAME:Europe/Paris CET
END:STANDARD
BEGIN:STANDARD
DTSTART:20211031T020000
RDATE:20220327T030000
TZOFFSETFROM:+0200
TZOFFSETTO:+0100
TZNAME:Europe/Paris CET
END:STANDARD
BEGIN:STANDARD
DTSTART:20221030T020000
RDATE:20230326T030000
TZOFFSETFROM:+0200
TZOFFSETTO:+0100
TZNAME:Europe/Paris CET
END:STANDARD
BEGIN:STANDARD
DTSTART:20231029T020000
RDATE:20240331T030000
TZOFFSETFROM:+0200
TZOFFSETTO:+0100
TZNAME:Europe/Paris CET
END:STANDARD
BEGIN:STANDARD
DTSTART:20241027T020000
RDATE:20250330T030000
TZOFFSETFROM:+0200
TZOFFSETTO:+0100
TZNAME:Europe/Paris CET
END:STANDARD
BEGIN:STANDARD
DTSTART:20251026T020000
RDATE:20260329T030000
TZOFFSETFROM:+0200
TZOFFSETTO:+0100
TZNAME:Europe/Paris CET
END:STANDARD
BEGIN:STANDARD
DTSTART:20261025T020000
RDATE:20270328T030000
TZOFFSETFROM:+0200
TZOFFSETTO:+0100
TZNAME:Europe/Paris CET
END:STANDARD
BEGIN:DAYLIGHT
DTSTART:20210328T030000
RDATE:20211031T020000
TZOFFSETFROM:+0100
TZOFFSETTO:+0200
TZNAME:Europe/Paris CEST
END:DAYLIGHT
BEGIN:DAYLIGHT
DTSTART:20220327T030000
RDATE:20221030T020000
TZOFFSETFROM:+0100
TZOFFSETTO:+0200
TZNAME:Europe/Paris CEST
END:DAYLIGHT
BEGIN:DAYLIGHT
DTSTART:20230326T030000
RDATE:20231029T020000
TZOFFSETFROM:+0100
TZOFFSETTO:+0200
TZNAME:Europe/Paris CEST
END:DAYLIGHT
BEGIN:DAYLIGHT
DTSTART:20240331T030000
RDATE:20241027T020000
TZOFFSETFROM:+0100
TZOFFSETTO:+0200
TZNAME:Europe/Paris CEST
END:DAYLIGHT
BEGIN:DAYLIGHT
DTSTART:20250330T030000
RDATE:20251026T020000
TZOFFSETFROM:+0100
TZOFFSETTO:+0200
TZNAME:Europe/Paris CEST
END:DAYLIGHT
BEGIN:DAYLIGHT
DTSTART:20260329T030000
RDATE:20261025T020000
TZOFFSETFROM:+0100
TZOFFSETTO:+0200
TZNAME:Europe/Paris CEST
END:DAYLIGHT
END:VTIMEZONE
BEGIN:VEVENT
UID:7389a70f300b20d7360e19781150c464
CATEGORIES:Opens et Promos (alpin)
CREATED:20211117T190001
SUMMARY:PROMO Course de la gueule de bois **REPORTE**
URL;VALUE=URI:https://skivosges.net/agenda/a-venir/detailevenement/1720/-/promo-course-de
 -la-gueule-de-bois-reporte?tmpl=component
DESCRIPTION:<!-- #gskiepreuve code généré par le plugin jevents pour GskiEpreuves. Ne p
 as modifier cette ligne, ni tout le contenu suivant  #gskiepreuve --><div c
 lass="gski-evenement_infos"><div class="gski-evenement-nom">PROMO Course de
  la gueule de bois</div><div class="gski-evenement-report"> <font class="gs
 kiattention">(Epreuve reportée, date à determiner)</font></div><ul class="g
 ski-evenement-liste-infos"><li>Codex évenement AMVT0050</li><li>Station : G
 ERARDMER</li><li>Piste : STADE</li><li>Organisateur : 14089 GERARDMER SKI A
 LPIN</li><li>Courriel : <!-- Cette adresse électronique est protégée contre
  les robots spammeurs. --><span class="cloaked_email ep_981c1c6c"><span dat
 a-ep-a="&#103;&#101;r&#97;&#114;" data-ep-b="&#101;&#46;&#102;&#114;"><span
  data-ep-a="&#100;&#109;&#101;&#114;&#45;" data-ep-b="&#111;&#114;a&#110;&#
 103;"><span data-ep-a="&#115;&#107;&#105;&#45;&#97;" data-ep-b="lpin&#64;">
 </span></span></span></span><script>RegularLabs.EmailProtector.unCloak("ep_
 981c1c6c");</script></li><li>Téléphone : 03 29 60 98 04</li><li><span class
 ="gski-evenement-obs">Délégué Technique : GOURGUILLON HUBERT</span></li></u
 l><div class="gski-evenement-infos-2"><div class="gski-evenement-info-inscr
 iptions"><div class="gski-evenement-inscriptions-periodes">Période d'inscri
 ption à l'evènement du samedi 25 décembre 2021 à 00:00 au vendredi 31 décem
 bre 2021 à 12:00<div class="gski-evenement-inscriptions-types-titres">Inscr
 iptions ouvertes aux detenteurs des titres Fédéraux valides suivants : Lice
 nciés Compétiteurs et Titres Loisirs et Dirigeants</div></div></div><div cl
 ass="gskiepreuves-links"><ul><li><a href="/index.php?option=com_jevents&tas
 k=icalevent.detail&evid=1715&Itemid=6289">Voir les informations dans l'agen
 da...</a></li></ul></div><div class="gski-evenement-epreuves"><div class="g
 ski-evenement-epreuves-titres">Epreuves :</div><ul class="gski-evenement-ep
 reuves-list"><li><div class="gski-epreuve-date">Le samedi 01 janvier 2022</
 div><ul class="gski-epreuve-liste-infos"><li>Codex épreuve AMVM0051</li><li
 >Slalom Geant</li><li>Catégorie(s) : U8/U10 (Garçons)</li></ul></li><li><di
 v class="gski-epreuve-date">Le samedi 01 janvier 2022</div><ul class="gski-
 epreuve-liste-infos"><li>Codex épreuve AMVF0051</li><li>Slalom Geant</li><l
 i>Catégorie(s) : U8/U10 (Filles)</li></ul></li><li><div class="gski-epreuve
 -date">Le samedi 01 janvier 2022</div><ul class="gski-epreuve-liste-infos">
 <li>Codex épreuve AMVF0052</li><li>Slalom Geant</li><li>Catégorie(s) : U12 
 a U16 (Filles)</li></ul></li><li><div class="gski-epreuve-date">Le samedi 0
 1 janvier 2022</div><ul class="gski-epreuve-liste-infos"><li>Codex épreuve 
 AMVM0052</li><li>Slalom Geant</li><li>Catégorie(s) : U12 a U16 (Garçons)</l
 i></ul></li><li><div class="gski-epreuve-date">Le samedi 01 janvier 2022</d
 iv><ul class="gski-epreuve-liste-infos"><li>Codex épreuve AMVM0053</li><li>
 Slalom Geant</li><li>Catégorie(s) : U18 a Masters (Hommes)</li></ul></li><l
 i><div class="gski-epreuve-date">Le samedi 01 janvier 2022</div><ul class="
 gski-epreuve-liste-infos"><li>Codex épreuve AMVF0053</li><li>Slalom Geant</
 li><li>Catégorie(s) : U18 a Masters (Dames)</li></ul></li></ul></div><div c
 lass="gskiepreuves-links"><ul><li><a href="/index.php?option=com_jevents&ta
 sk=icalevent.detail&evid=1715&Itemid=6289">Voir les informations dans l'age
 nda...</a></li></ul></div></div"><!-- #/gskiepreuve fin du dode généré par 
 le plugin jevents pour GskiEpreuves. . Ne pas modifier cette ligne, ni tout
  le contenu précedant.  #/gskiepreuve --> <a href="https://skivosges.net/ag
 enda/a-venir/detailevenement/1720/-/promo-course-de-la-gueule-de-bois-repor
 te?tmpl=component">Cet évènement a été importé depuis :https://skivosges.ne
 t/agenda/a-venir/detailevenement/1720/-/promo-course-de-la-gueule-de-bois-r
 eporte?tmpl=component</a>
X-ALT-DESC;FMTTYPE=text/html:<!-- #gskiepreuve code généré par le plugin jevents pour GskiEpreuves. Ne p
 as modifier cette ligne, ni tout le contenu suivant  #gskiepreuve --><div c
 lass="gski-evenement_infos"><div class="gski-evenement-nom">PROMO Course de
  la gueule de bois</div><div class="gski-evenement-report"> <font class="gs
 kiattention">(Epreuve reportée, date à determiner)</font></div><ul class="g
 ski-evenement-liste-infos"><li>Codex évenement AMVT0050</li><li>Station : G
 ERARDMER</li><li>Piste : STADE</li><li>Organisateur : 14089 GERARDMER SKI A
 LPIN</li><li>Courriel : <!-- Cette adresse électronique est protégée contre
  les robots spammeurs. --><span class="cloaked_email ep_981c1c6c"><span dat
 a-ep-a="&#103;&#101;r&#97;&#114;" data-ep-b="&#101;&#46;&#102;&#114;"><span
  data-ep-a="&#100;&#109;&#101;&#114;&#45;" data-ep-b="&#111;&#114;a&#110;&#
 103;"><span data-ep-a="&#115;&#107;&#105;&#45;&#97;" data-ep-b="lpin&#64;">
 </span></span></span></span><script>RegularLabs.EmailProtector.unCloak("ep_
 981c1c6c");</script></li><li>Téléphone : 03 29 60 98 04</li><li><span class
 ="gski-evenement-obs">Délégué Technique : GOURGUILLON HUBERT</span></li></u
 l><div class="gski-evenement-infos-2"><div class="gski-evenement-info-inscr
 iptions"><div class="gski-evenement-inscriptions-periodes">Période d'inscri
 ption à l'evènement du samedi 25 décembre 2021 à 00:00 au vendredi 31 décem
 bre 2021 à 12:00<div class="gski-evenement-inscriptions-types-titres">Inscr
 iptions ouvertes aux detenteurs des titres Fédéraux valides suivants : Lice
 nciés Compétiteurs et Titres Loisirs et Dirigeants</div></div></div><div cl
 ass="gskiepreuves-links"><ul><li><a href="https://skivosges.net/index.php?o
 ption=com_jevents&task=icalevent.detail&evid=1715&Itemid=6289">Voir les inf
 ormations dans l'agenda...</a></li></ul></div><div class="gski-evenement-ep
 reuves"><div class="gski-evenement-epreuves-titres">Epreuves :</div><ul cla
 ss="gski-evenement-epreuves-list"><li><div class="gski-epreuve-date">Le sam
 edi 01 janvier 2022</div><ul class="gski-epreuve-liste-infos"><li>Codex épr
 euve AMVM0051</li><li>Slalom Geant</li><li>Catégorie(s) : U8/U10 (Garçons)<
 /li></ul></li><li><div class="gski-epreuve-date">Le samedi 01 janvier 2022<
 /div><ul class="gski-epreuve-liste-infos"><li>Codex épreuve AMVF0051</li><l
 i>Slalom Geant</li><li>Catégorie(s) : U8/U10 (Filles)</li></ul></li><li><di
 v class="gski-epreuve-date">Le samedi 01 janvier 2022</div><ul class="gski-
 epreuve-liste-infos"><li>Codex épreuve AMVF0052</li><li>Slalom Geant</li><l
 i>Catégorie(s) : U12 a U16 (Filles)</li></ul></li><li><div class="gski-epre
 uve-date">Le samedi 01 janvier 2022</div><ul class="gski-epreuve-liste-info
 s"><li>Codex épreuve AMVM0052</li><li>Slalom Geant</li><li>Catégorie(s) : U
 12 a U16 (Garçons)</li></ul></li><li><div class="gski-epreuve-date">Le same
 di 01 janvier 2022</div><ul class="gski-epreuve-liste-infos"><li>Codex épre
 uve AMVM0053</li><li>Slalom Geant</li><li>Catégorie(s) : U18 a Masters (Hom
 mes)</li></ul></li><li><div class="gski-epreuve-date">Le samedi 01 janvier 
 2022</div><ul class="gski-epreuve-liste-infos"><li>Codex épreuve AMVF0053</
 li><li>Slalom Geant</li><li>Catégorie(s) : U18 a Masters (Dames)</li></ul><
 /li></ul></div><div class="gskiepreuves-links"><ul><li><a href="https://ski
 vosges.net/index.php?option=com_jevents&task=icalevent.detail&evid=1715&Ite
 mid=6289">Voir les informations dans l'agenda...</a></li></ul></div></div">
 <!-- #/gskiepreuve fin du dode généré par le plugin jevents pour GskiEpreuv
 es. . Ne pas modifier cette ligne, ni tout le contenu précedant.  #/gskiepr
 euve --> <a href="https://skivosges.net/agenda/a-venir/detailevenement/1720
 /-/promo-course-de-la-gueule-de-bois-reporte?tmpl=component">Cet évènement 
 a été importé depuis :https://skivosges.net/agenda/a-venir/detailevenement/
 1720/-/promo-course-de-la-gueule-de-bois-reporte?tmpl=component</a>DTSTAMP:20260421T051450
DTSTART;TZID=Europe/Paris;VALUE=DATE:20220101
DTEND;TZID=Europe/Paris;VALUE=DATE:20220102
SEQUENCE:0
TRANSP:OPAQUE
END:VEVENT
END:VCALENDAR