BEGIN:VCALENDAR
VERSION:2.0
PRODID:-//jEvents 2.0 for Joomla//EN
CALSCALE:GREGORIAN
METHOD:PUBLISH
BEGIN:VTIMEZONE
TZID:Europe/Paris
BEGIN:STANDARD
DTSTART:20210101T000000
RDATE:20210328T030000
TZOFFSETFROM:+0200
TZOFFSETTO:+0100
TZNAME:Europe/Paris CET
END:STANDARD
BEGIN:STANDARD
DTSTART:20211031T020000
RDATE:20220327T030000
TZOFFSETFROM:+0200
TZOFFSETTO:+0100
TZNAME:Europe/Paris CET
END:STANDARD
BEGIN:STANDARD
DTSTART:20221030T020000
RDATE:20230326T030000
TZOFFSETFROM:+0200
TZOFFSETTO:+0100
TZNAME:Europe/Paris CET
END:STANDARD
BEGIN:STANDARD
DTSTART:20231029T020000
RDATE:20240331T030000
TZOFFSETFROM:+0200
TZOFFSETTO:+0100
TZNAME:Europe/Paris CET
END:STANDARD
BEGIN:STANDARD
DTSTART:20241027T020000
RDATE:20250330T030000
TZOFFSETFROM:+0200
TZOFFSETTO:+0100
TZNAME:Europe/Paris CET
END:STANDARD
BEGIN:STANDARD
DTSTART:20251026T020000
RDATE:20260329T030000
TZOFFSETFROM:+0200
TZOFFSETTO:+0100
TZNAME:Europe/Paris CET
END:STANDARD
BEGIN:STANDARD
DTSTART:20261025T020000
RDATE:20270328T030000
TZOFFSETFROM:+0200
TZOFFSETTO:+0100
TZNAME:Europe/Paris CET
END:STANDARD
BEGIN:DAYLIGHT
DTSTART:20210328T030000
RDATE:20211031T020000
TZOFFSETFROM:+0100
TZOFFSETTO:+0200
TZNAME:Europe/Paris CEST
END:DAYLIGHT
BEGIN:DAYLIGHT
DTSTART:20220327T030000
RDATE:20221030T020000
TZOFFSETFROM:+0100
TZOFFSETTO:+0200
TZNAME:Europe/Paris CEST
END:DAYLIGHT
BEGIN:DAYLIGHT
DTSTART:20230326T030000
RDATE:20231029T020000
TZOFFSETFROM:+0100
TZOFFSETTO:+0200
TZNAME:Europe/Paris CEST
END:DAYLIGHT
BEGIN:DAYLIGHT
DTSTART:20240331T030000
RDATE:20241027T020000
TZOFFSETFROM:+0100
TZOFFSETTO:+0200
TZNAME:Europe/Paris CEST
END:DAYLIGHT
BEGIN:DAYLIGHT
DTSTART:20250330T030000
RDATE:20251026T020000
TZOFFSETFROM:+0100
TZOFFSETTO:+0200
TZNAME:Europe/Paris CEST
END:DAYLIGHT
BEGIN:DAYLIGHT
DTSTART:20260329T030000
RDATE:20261025T020000
TZOFFSETFROM:+0100
TZOFFSETTO:+0200
TZNAME:Europe/Paris CEST
END:DAYLIGHT
END:VTIMEZONE
BEGIN:VEVENT
UID:62b9625e66c01ad1e05100212cf545e3
CATEGORIES:Compétition Ski de Fond
CREATED:20211117T190001
SUMMARY:GRAND PRIX DES FERMIERS AUBERGISTES BIG MAT ATOMIC N°2
URL;VALUE=URI:https://skivosges.net/agenda/a-venir/detailevenement/1722/-/grand-prix-des-
 fermiers-aubergistes-big-mat-atomic-n-2?tmpl=component
DESCRIPTION:GRAND PRIX DES FERMIERS AUBERGISTES BIG MAT ATOMIC N°2\n - Codex évenement 
 FMVT0030\n - Station : MARKSTEIN\n - Organisateur : 14053 S.C MARKSTEIN RAN
 SPACH\n - Courriel : RegularLabs.EmailProtector.unCloak("ep_5ae93539");\n -
  Délégué Technique : SIMON ROBERTPériode d'inscription à l'evènement du dim
 anche 26 décembre 2021 à 00:00 au jeudi 30 décembre 2021 à 12:00Inscription
 s ouvertes aux detenteurs des titres Fédéraux valides suivants : Licenciés 
 Compétiteurs\n - Voir les informations dans l'agenda... (/index.php?option=
 com_jevents&amp;task=icalevent.detail&amp;evid=1717&amp;Itemid=6289)\n - Ve
 rs les résultats... (/index.php?option=com_gskiepreuves&amp;view=afficheres
 ultats&amp;format_option=tous&amp;filter[search]=FMVT0030&amp;filter[date_d
 ebut]=02-01-2022&amp;filter[date_fin]=02-01-2022&amp;code_activite=FOND&amp
 ;Itemid=6289)Epreuves :\n - Le dimanche 02 janvier 2022\n - Codex épreuve F
 MVF0031\n - Depart Individuel\n - Catégorie(s) : U13 (Filles)\n - Le dimanc
 he 02 janvier 2022\n - Codex épreuve FMVM0031\n - Depart Individuel\n - Cat
 égorie(s) : U13 (Garçons)\n - Le dimanche 02 janvier 2022\n - Codex épreuve
  FMVF0032\n - Depart Individuel\n - Catégorie(s) : U15 (Filles)\n - Le dima
 nche 02 janvier 2022\n - Codex épreuve FMVM0032\n - Depart Individuel\n - C
 atégorie(s) : U15 (Garçons)\n - Le dimanche 02 janvier 2022\n - Codex épreu
 ve FMVF0033\n - Poursuite 2 Jours\n - Catégorie(s) : U13 (Filles)\n - Le di
 manche 02 janvier 2022\n - Codex épreuve FMVM0033\n - Poursuite 2 Jours\n -
  Catégorie(s) : U13 (Garçons)\n - Le dimanche 02 janvier 2022\n - Codex épr
 euve FMVF0034\n - Poursuite 2 Jours\n - Catégorie(s) : U15 (Filles)\n - Le 
 dimanche 02 janvier 2022\n - Codex épreuve FMVM0034\n - Poursuite 2 Jours\n
  - Catégorie(s) : U15 (Garçons)\n - Voir les informations dans l'agenda... 
 (/index.php?option=com_jevents&amp;task=icalevent.detail&amp;evid=1717&amp;
 Itemid=6289)\n - Vers les résultats... (/index.php?option=com_gskiepreuves&
 amp;view=afficheresultats&amp;format_option=tous&amp;filter[search]=FMVT003
 0&amp;filter[date_debut]=02-01-2022&amp;filter[date_fin]=02-01-2022&amp;cod
 e_activite=FOND&amp;Itemid=6289) Cet évènement a été importé depuis :https:
 //skivosges.net/agenda/a-venir/detailevenement/1722/-/grand-prix-des-fermie
 rs-aubergistes-big-mat-atomic-n-2?tmpl=component
X-ALT-DESC;FMTTYPE=text/html:<!-- #gskiepreuve code généré par le plugin jevents pour GskiEpreuves. Ne p
 as modifier cette ligne, ni tout le contenu suivant  #gskiepreuve --><div c
 lass="gski-evenement_infos"><div class="gski-evenement-nom">GRAND PRIX DES 
 FERMIERS AUBERGISTES BIG MAT ATOMIC N°2</div><div class="gski-evenement-rep
 ort"></div><ul class="gski-evenement-liste-infos"><li>Codex évenement FMVT0
 030</li><li>Station : MARKSTEIN</li><li>Organisateur : 14053 S.C MARKSTEIN 
 RANSPACH</li><li>Courriel : <!-- Cette adresse électronique est protégée co
 ntre les robots spammeurs. --><span class="cloaked_email ep_5ae93539"><span
  data-ep-a="&#115;c&#114;" data-ep-b="co&#109;"><span data-ep-b="&#111;&#10
 8;&#46;" data-ep-a="a&#110;s"><span data-ep-a="p&#97;c" data-ep-b="h&#64;&#
 97;"></span></span></span></span><script>RegularLabs.EmailProtector.unCloak
 ("ep_5ae93539");</script></li><li><span class="gski-evenement-obs">Délégué 
 Technique : SIMON ROBERT</span></li></ul><div class="gski-evenement-infos-2
 "><div class="gski-evenement-info-inscriptions"><div class="gski-evenement-
 inscriptions-periodes">Période d'inscription à l'evènement du dimanche 26 d
 écembre 2021 à 00:00 au jeudi 30 décembre 2021 à 12:00<div class="gski-even
 ement-inscriptions-types-titres">Inscriptions ouvertes aux detenteurs des t
 itres Fédéraux valides suivants : Licenciés Compétiteurs</div></div></div><
 div class="gskiepreuves-links"><ul><li><a href="https://skivosges.net/index
 .php?option=com_jevents&task=icalevent.detail&evid=1717&Itemid=6289">Voir l
 es informations dans l'agenda...</a></li><li><a href="https://skivosges.net
 /index.php?option=com_gskiepreuves&view=afficheresultats&format_option=tous
 &filter[search]=FMVT0030&filter[date_debut]=02-01-2022&filter[date_fin]=02-
 01-2022&code_activite=FOND&Itemid=6289">Vers les résultats...</a></li></ul>
 </div><div class="gski-evenement-epreuves"><div class="gski-evenement-epreu
 ves-titres">Epreuves :</div><ul class="gski-evenement-epreuves-list"><li><d
 iv class="gski-epreuve-date">Le dimanche 02 janvier 2022</div><ul class="gs
 ki-epreuve-liste-infos"><li>Codex épreuve FMVF0031</li><li>Depart Individue
 l</li><li>Catégorie(s) : U13 (Filles)</li></ul></li><li><div class="gski-ep
 reuve-date">Le dimanche 02 janvier 2022</div><ul class="gski-epreuve-liste-
 infos"><li>Codex épreuve FMVM0031</li><li>Depart Individuel</li><li>Catégor
 ie(s) : U13 (Garçons)</li></ul></li><li><div class="gski-epreuve-date">Le d
 imanche 02 janvier 2022</div><ul class="gski-epreuve-liste-infos"><li>Codex
  épreuve FMVF0032</li><li>Depart Individuel</li><li>Catégorie(s) : U15 (Fil
 les)</li></ul></li><li><div class="gski-epreuve-date">Le dimanche 02 janvie
 r 2022</div><ul class="gski-epreuve-liste-infos"><li>Codex épreuve FMVM0032
 </li><li>Depart Individuel</li><li>Catégorie(s) : U15 (Garçons)</li></ul></
 li><li><div class="gski-epreuve-date">Le dimanche 02 janvier 2022</div><ul 
 class="gski-epreuve-liste-infos"><li>Codex épreuve FMVF0033</li><li>Poursui
 te 2 Jours</li><li>Catégorie(s) : U13 (Filles)</li></ul></li><li><div class
 ="gski-epreuve-date">Le dimanche 02 janvier 2022</div><ul class="gski-epreu
 ve-liste-infos"><li>Codex épreuve FMVM0033</li><li>Poursuite 2 Jours</li><l
 i>Catégorie(s) : U13 (Garçons)</li></ul></li><li><div class="gski-epreuve-d
 ate">Le dimanche 02 janvier 2022</div><ul class="gski-epreuve-liste-infos">
 <li>Codex épreuve FMVF0034</li><li>Poursuite 2 Jours</li><li>Catégorie(s) :
  U15 (Filles)</li></ul></li><li><div class="gski-epreuve-date">Le dimanche 
 02 janvier 2022</div><ul class="gski-epreuve-liste-infos"><li>Codex épreuve
  FMVM0034</li><li>Poursuite 2 Jours</li><li>Catégorie(s) : U15 (Garçons)</l
 i></ul></li></ul></div><div class="gskiepreuves-links"><ul><li><a href="htt
 ps://skivosges.net/index.php?option=com_jevents&task=icalevent.detail&evid=
 1717&Itemid=6289">Voir les informations dans l'agenda...</a></li><li><a hre
 f="https://skivosges.net/index.php?option=com_gskiepreuves&view=afficheresu
 ltats&format_option=tous&filter[search]=FMVT0030&filter[date_debut]=02-01-2
 022&filter[date_fin]=02-01-2022&code_activite=FOND&Itemid=6289">Vers les ré
 sultats...</a></li></ul></div></div"><!-- #/gskiepreuve fin du dode généré 
 par le plugin jevents pour GskiEpreuves. . Ne pas modifier cette ligne, ni 
 tout le contenu précedant.  #/gskiepreuve --> <a href="https://skivosges.ne
 t/agenda/a-venir/detailevenement/1722/-/grand-prix-des-fermiers-aubergistes
 -big-mat-atomic-n-2?tmpl=component">Cet évènement a été importé depuis :htt
 ps://skivosges.net/agenda/a-venir/detailevenement/1722/-/grand-prix-des-fer
 miers-aubergistes-big-mat-atomic-n-2?tmpl=component</a>DTSTAMP:20260423T083831
DTSTART;TZID=Europe/Paris;VALUE=DATE:20220102
DTEND;TZID=Europe/Paris;VALUE=DATE:20220103
SEQUENCE:0
TRANSP:OPAQUE
END:VEVENT
END:VCALENDAR