BEGIN:VCALENDAR
VERSION:2.0
PRODID:-//jEvents 2.0 for Joomla//EN
CALSCALE:GREGORIAN
METHOD:PUBLISH
BEGIN:VTIMEZONE
TZID:Europe/Paris
BEGIN:STANDARD
DTSTART:20210107T000000
RDATE:20210328T030000
TZOFFSETFROM:+0200
TZOFFSETTO:+0100
TZNAME:Europe/Paris CET
END:STANDARD
BEGIN:STANDARD
DTSTART:20211031T020000
RDATE:20220327T030000
TZOFFSETFROM:+0200
TZOFFSETTO:+0100
TZNAME:Europe/Paris CET
END:STANDARD
BEGIN:STANDARD
DTSTART:20221030T020000
RDATE:20230326T030000
TZOFFSETFROM:+0200
TZOFFSETTO:+0100
TZNAME:Europe/Paris CET
END:STANDARD
BEGIN:STANDARD
DTSTART:20231029T020000
RDATE:20240331T030000
TZOFFSETFROM:+0200
TZOFFSETTO:+0100
TZNAME:Europe/Paris CET
END:STANDARD
BEGIN:STANDARD
DTSTART:20241027T020000
RDATE:20250330T030000
TZOFFSETFROM:+0200
TZOFFSETTO:+0100
TZNAME:Europe/Paris CET
END:STANDARD
BEGIN:STANDARD
DTSTART:20251026T020000
RDATE:20260329T030000
TZOFFSETFROM:+0200
TZOFFSETTO:+0100
TZNAME:Europe/Paris CET
END:STANDARD
BEGIN:STANDARD
DTSTART:20261025T020000
RDATE:20270328T030000
TZOFFSETFROM:+0200
TZOFFSETTO:+0100
TZNAME:Europe/Paris CET
END:STANDARD
BEGIN:DAYLIGHT
DTSTART:20210328T030000
RDATE:20211031T020000
TZOFFSETFROM:+0100
TZOFFSETTO:+0200
TZNAME:Europe/Paris CEST
END:DAYLIGHT
BEGIN:DAYLIGHT
DTSTART:20220327T030000
RDATE:20221030T020000
TZOFFSETFROM:+0100
TZOFFSETTO:+0200
TZNAME:Europe/Paris CEST
END:DAYLIGHT
BEGIN:DAYLIGHT
DTSTART:20230326T030000
RDATE:20231029T020000
TZOFFSETFROM:+0100
TZOFFSETTO:+0200
TZNAME:Europe/Paris CEST
END:DAYLIGHT
BEGIN:DAYLIGHT
DTSTART:20240331T030000
RDATE:20241027T020000
TZOFFSETFROM:+0100
TZOFFSETTO:+0200
TZNAME:Europe/Paris CEST
END:DAYLIGHT
BEGIN:DAYLIGHT
DTSTART:20250330T030000
RDATE:20251026T020000
TZOFFSETFROM:+0100
TZOFFSETTO:+0200
TZNAME:Europe/Paris CEST
END:DAYLIGHT
BEGIN:DAYLIGHT
DTSTART:20260329T030000
RDATE:20261025T020000
TZOFFSETFROM:+0100
TZOFFSETTO:+0200
TZNAME:Europe/Paris CEST
END:DAYLIGHT
END:VTIMEZONE
BEGIN:VEVENT
UID:faa1a8e9ec11d2a5722d8cffe0e077f8
CATEGORIES:Opens et Promos (alpin)
CREATED:20211117T190001
SUMMARY:OPEN Prix Mat Peinture **REPORTE**
URL;VALUE=URI:https://skivosges.net/agenda/a-venir/detailevenement/1727/-/open-prix-mat-p
 einture-reporte?tmpl=component
DESCRIPTION:OPEN Prix Mat Peinture (Epreuve reportée, date à determiner)\n - Codex éven
 ement AMVT0070\n - Station : ROUGE GAZON\n - Organisateur : 14063 SKIEURS D
 E ST MAURICE/MOSELLE\n - Courriel : RegularLabs.EmailProtector.unCloak("ep_
 87758d46");\n - Délégué Technique : HOUILLON PHILIPPEPériode d'inscription 
 à l'evènement du samedi 01 janvier 2022 à 00:00 au jeudi 06 janvier 2022 à 
 12:00Inscriptions ouvertes aux detenteurs des titres Fédéraux valides suiva
 nts : Licenciés Compétiteurs\n - Voir les informations dans l'agenda... (/i
 ndex.php?option=com_jevents&amp;task=icalevent.detail&amp;evid=1722&amp;Ite
 mid=6289)Epreuves :\n - Le samedi 08 janvier 2022\n - Codex épreuve AMVM007
 1\n - Slalom Geant\n - Catégorie(s) : U14/U16 (Garçons)\n - Le samedi 08 ja
 nvier 2022\n - Codex épreuve AMVF0071\n - Slalom Geant\n - Catégorie(s) : U
 14/U16 (Filles)\n - Voir les informations dans l'agenda... (/index.php?opti
 on=com_jevents&amp;task=icalevent.detail&amp;evid=1722&amp;Itemid=6289) Cet
  évènement a été importé depuis :https://skivosges.net/agenda/a-venir/detai
 levenement/1727/-/open-prix-mat-peinture-reporte?tmpl=component
X-ALT-DESC;FMTTYPE=text/html:<!-- #gskiepreuve code généré par le plugin jevents pour GskiEpreuves. Ne p
 as modifier cette ligne, ni tout le contenu suivant  #gskiepreuve --><div c
 lass="gski-evenement_infos"><div class="gski-evenement-nom">OPEN Prix Mat P
 einture</div><div class="gski-evenement-report"> <font class="gskiattention
 ">(Epreuve reportée, date à determiner)</font></div><ul class="gski-eveneme
 nt-liste-infos"><li>Codex évenement AMVT0070</li><li>Station : ROUGE GAZON<
 /li><li>Organisateur : 14063 SKIEURS DE ST MAURICE/MOSELLE</li><li>Courriel
  : <!-- Cette adresse électronique est protégée contre les robots spammeurs
 . --><span class="cloaked_email ep_87758d46"><span data-ep-a="d&#97;&#110;&
 #105;" data-ep-b=""><span data-ep-b="&#114;.f&#114;" data-ep-a="e&#108;&#46
 ;&#109;"><span data-ep-a="&#111;&#114;&#101;l" data-ep-b="&#53;&#64;&#115;f
 "></span></span></span></span><script>RegularLabs.EmailProtector.unCloak("e
 p_87758d46");</script></li><li><span class="gski-evenement-obs">Délégué Tec
 hnique : HOUILLON PHILIPPE</span></li></ul><div class="gski-evenement-infos
 -2"><div class="gski-evenement-info-inscriptions"><div class="gski-evenemen
 t-inscriptions-periodes">Période d'inscription à l'evènement du samedi 01 j
 anvier 2022 à 00:00 au jeudi 06 janvier 2022 à 12:00<div class="gski-evenem
 ent-inscriptions-types-titres">Inscriptions ouvertes aux detenteurs des tit
 res Fédéraux valides suivants : Licenciés Compétiteurs</div></div></div><di
 v class="gskiepreuves-links"><ul><li><a href="https://skivosges.net/index.p
 hp?option=com_jevents&task=icalevent.detail&evid=1722&Itemid=6289">Voir les
  informations dans l'agenda...</a></li></ul></div><div class="gski-evenemen
 t-epreuves"><div class="gski-evenement-epreuves-titres">Epreuves :</div><ul
  class="gski-evenement-epreuves-list"><li><div class="gski-epreuve-date">Le
  samedi 08 janvier 2022</div><ul class="gski-epreuve-liste-infos"><li>Codex
  épreuve AMVM0071</li><li>Slalom Geant</li><li>Catégorie(s) : U14/U16 (Garç
 ons)</li></ul></li><li><div class="gski-epreuve-date">Le samedi 08 janvier 
 2022</div><ul class="gski-epreuve-liste-infos"><li>Codex épreuve AMVF0071</
 li><li>Slalom Geant</li><li>Catégorie(s) : U14/U16 (Filles)</li></ul></li><
 /ul></div><div class="gskiepreuves-links"><ul><li><a href="https://skivosge
 s.net/index.php?option=com_jevents&task=icalevent.detail&evid=1722&Itemid=6
 289">Voir les informations dans l'agenda...</a></li></ul></div></div"><!-- 
 #/gskiepreuve fin du dode généré par le plugin jevents pour GskiEpreuves. .
  Ne pas modifier cette ligne, ni tout le contenu précedant.  #/gskiepreuve 
 --> <a href="https://skivosges.net/agenda/a-venir/detailevenement/1727/-/op
 en-prix-mat-peinture-reporte?tmpl=component">Cet évènement a été importé de
 puis :https://skivosges.net/agenda/a-venir/detailevenement/1727/-/open-prix
 -mat-peinture-reporte?tmpl=component</a>DTSTAMP:20260421T051409
DTSTART;TZID=Europe/Paris;VALUE=DATE:20220108
DTEND;TZID=Europe/Paris;VALUE=DATE:20220109
SEQUENCE:0
TRANSP:OPAQUE
END:VEVENT
END:VCALENDAR