BEGIN:VCALENDAR
VERSION:2.0
PRODID:-//jEvents 2.0 for Joomla//EN
CALSCALE:GREGORIAN
METHOD:PUBLISH
BEGIN:VTIMEZONE
TZID:Europe/Paris
BEGIN:STANDARD
DTSTART:20130308T080000
RDATE:20130331T030000
TZOFFSETFROM:+0200
TZOFFSETTO:+0100
TZNAME:Europe/Paris CET
END:STANDARD
BEGIN:STANDARD
DTSTART:20131027T020000
RDATE:20140330T030000
TZOFFSETFROM:+0200
TZOFFSETTO:+0100
TZNAME:Europe/Paris CET
END:STANDARD
BEGIN:STANDARD
DTSTART:20141026T020000
RDATE:20150329T030000
TZOFFSETFROM:+0200
TZOFFSETTO:+0100
TZNAME:Europe/Paris CET
END:STANDARD
BEGIN:STANDARD
DTSTART:20151025T020000
RDATE:20160327T030000
TZOFFSETFROM:+0200
TZOFFSETTO:+0100
TZNAME:Europe/Paris CET
END:STANDARD
BEGIN:STANDARD
DTSTART:20161030T020000
RDATE:20170326T030000
TZOFFSETFROM:+0200
TZOFFSETTO:+0100
TZNAME:Europe/Paris CET
END:STANDARD
BEGIN:STANDARD
DTSTART:20171029T020000
RDATE:20180325T030000
TZOFFSETFROM:+0200
TZOFFSETTO:+0100
TZNAME:Europe/Paris CET
END:STANDARD
BEGIN:STANDARD
DTSTART:20181028T020000
RDATE:20190331T030000
TZOFFSETFROM:+0200
TZOFFSETTO:+0100
TZNAME:Europe/Paris CET
END:STANDARD
BEGIN:STANDARD
DTSTART:20191027T020000
RDATE:20200329T030000
TZOFFSETFROM:+0200
TZOFFSETTO:+0100
TZNAME:Europe/Paris CET
END:STANDARD
BEGIN:STANDARD
DTSTART:20201025T020000
RDATE:20210328T030000
TZOFFSETFROM:+0200
TZOFFSETTO:+0100
TZNAME:Europe/Paris CET
END:STANDARD
BEGIN:STANDARD
DTSTART:20211031T020000
RDATE:20220327T030000
TZOFFSETFROM:+0200
TZOFFSETTO:+0100
TZNAME:Europe/Paris CET
END:STANDARD
BEGIN:STANDARD
DTSTART:20221030T020000
RDATE:20230326T030000
TZOFFSETFROM:+0200
TZOFFSETTO:+0100
TZNAME:Europe/Paris CET
END:STANDARD
BEGIN:STANDARD
DTSTART:20231029T020000
RDATE:20240331T030000
TZOFFSETFROM:+0200
TZOFFSETTO:+0100
TZNAME:Europe/Paris CET
END:STANDARD
BEGIN:STANDARD
DTSTART:20241027T020000
RDATE:20250330T030000
TZOFFSETFROM:+0200
TZOFFSETTO:+0100
TZNAME:Europe/Paris CET
END:STANDARD
BEGIN:STANDARD
DTSTART:20251026T020000
RDATE:20260329T030000
TZOFFSETFROM:+0200
TZOFFSETTO:+0100
TZNAME:Europe/Paris CET
END:STANDARD
BEGIN:STANDARD
DTSTART:20261025T020000
RDATE:20270328T030000
TZOFFSETFROM:+0200
TZOFFSETTO:+0100
TZNAME:Europe/Paris CET
END:STANDARD
BEGIN:DAYLIGHT
DTSTART:20130331T030000
RDATE:20131027T020000
TZOFFSETFROM:+0100
TZOFFSETTO:+0200
TZNAME:Europe/Paris CEST
END:DAYLIGHT
BEGIN:DAYLIGHT
DTSTART:20140330T030000
RDATE:20141026T020000
TZOFFSETFROM:+0100
TZOFFSETTO:+0200
TZNAME:Europe/Paris CEST
END:DAYLIGHT
BEGIN:DAYLIGHT
DTSTART:20150329T030000
RDATE:20151025T020000
TZOFFSETFROM:+0100
TZOFFSETTO:+0200
TZNAME:Europe/Paris CEST
END:DAYLIGHT
BEGIN:DAYLIGHT
DTSTART:20160327T030000
RDATE:20161030T020000
TZOFFSETFROM:+0100
TZOFFSETTO:+0200
TZNAME:Europe/Paris CEST
END:DAYLIGHT
BEGIN:DAYLIGHT
DTSTART:20170326T030000
RDATE:20171029T020000
TZOFFSETFROM:+0100
TZOFFSETTO:+0200
TZNAME:Europe/Paris CEST
END:DAYLIGHT
BEGIN:DAYLIGHT
DTSTART:20180325T030000
RDATE:20181028T020000
TZOFFSETFROM:+0100
TZOFFSETTO:+0200
TZNAME:Europe/Paris CEST
END:DAYLIGHT
BEGIN:DAYLIGHT
DTSTART:20190331T030000
RDATE:20191027T020000
TZOFFSETFROM:+0100
TZOFFSETTO:+0200
TZNAME:Europe/Paris CEST
END:DAYLIGHT
BEGIN:DAYLIGHT
DTSTART:20200329T030000
RDATE:20201025T020000
TZOFFSETFROM:+0100
TZOFFSETTO:+0200
TZNAME:Europe/Paris CEST
END:DAYLIGHT
BEGIN:DAYLIGHT
DTSTART:20210328T030000
RDATE:20211031T020000
TZOFFSETFROM:+0100
TZOFFSETTO:+0200
TZNAME:Europe/Paris CEST
END:DAYLIGHT
BEGIN:DAYLIGHT
DTSTART:20220327T030000
RDATE:20221030T020000
TZOFFSETFROM:+0100
TZOFFSETTO:+0200
TZNAME:Europe/Paris CEST
END:DAYLIGHT
BEGIN:DAYLIGHT
DTSTART:20230326T030000
RDATE:20231029T020000
TZOFFSETFROM:+0100
TZOFFSETTO:+0200
TZNAME:Europe/Paris CEST
END:DAYLIGHT
BEGIN:DAYLIGHT
DTSTART:20240331T030000
RDATE:20241027T020000
TZOFFSETFROM:+0100
TZOFFSETTO:+0200
TZNAME:Europe/Paris CEST
END:DAYLIGHT
BEGIN:DAYLIGHT
DTSTART:20250330T030000
RDATE:20251026T020000
TZOFFSETFROM:+0100
TZOFFSETTO:+0200
TZNAME:Europe/Paris CEST
END:DAYLIGHT
BEGIN:DAYLIGHT
DTSTART:20260329T030000
RDATE:20261025T020000
TZOFFSETFROM:+0100
TZOFFSETTO:+0200
TZNAME:Europe/Paris CEST
END:DAYLIGHT
END:VTIMEZONE
BEGIN:VEVENT
UID:56278b2186a2bc88f570d15a9d400f9d
CATEGORIES:Opens et Promos (alpin)
CREATED:20131203T122100
SUMMARY:OPEN J U8 à U 14       Coupe Weigel Sports
URL;VALUE=URI:https://skivosges.net/agenda/a-venir/detailevenement/173/-/open-j-u8-a-u-14
 -coupe-weigel-sports?tmpl=component
DESCRIPTION:OPEN J U8 à U 14       Coupe Weigel Sports\n\nLieu : ROUGE GAZON \nOrganisa
 teur : ASPTT MULHOUSE  (14173 ASPTT MULHOUSE)\nEmail : RegularLabs.EmailPro
 tector.unCloak("ep_076638ec");\nTelecopie : 0607326418\n\nLes dossards sont
  à retirer dans le hall d´Accueil de l´Hostel\n\nInscriptions en cours sur 
 ce site\n - AMVF0721  Slalom U8+U10 Filles\n  OPEN J U8 à U 14       Coupe 
 Weigel Sports\n - AMVM0721  Slalom U8+U10 Garçons\n  OPEN J U8 à U 14      
  Coupe Weigel Sports\n - AMVF0722  Slalom U12 Filles\n  OPEN J U8 à U 14   
     Coupe Weigel Sports\n - AMVM0722  Slalom U12 Garçons\n  OPEN J U8 à U 1
 4       Coupe Weigel Sports\n - AMVF0723  Slalom U14 Filles\n  OPEN J U8 à 
 U 14       Coupe Weigel Sports\n - AMVM0723  Slalom U14 Garçons\n  OPEN J U
 8 à U 14       Coupe Weigel Sports Cet évènement a été importé depuis :http
 s://skivosges.net/agenda/a-venir/detailevenement/173/-/open-j-u8-a-u-14-cou
 pe-weigel-sports?tmpl=component
X-ALT-DESC;FMTTYPE=text/html:<strong>OPEN J U8 à U 14       Coupe Weigel Sports</strong><br /><br />Lieu
  : ROUGE GAZON <br />Organisateur : ASPTT MULHOUSE  <small>(14173 ASPTT MUL
 HOUSE)</small><br />Email : <!-- Cette adresse électronique est protégée co
 ntre les robots spammeurs. --><span class="cloaked_email ep_076638ec"><span
  data-ep-a="&#97;&#115;&#112;&#116;&#116;" data-ep-b="&#111;&#46;&#102;&#11
 4;"><span data-ep-a="-&#115;&#107;&#105;&#46;" data-ep-b="a&#110;&#97;d&#11
 1;"><span data-ep-b="u&#115;&#101;&#64;&#119;" data-ep-a="&#109;&#117;l&#10
 4;&#111;"></span></span></span></span><script>RegularLabs.EmailProtector.un
 Cloak("ep_076638ec");</script><br />Telecopie : 0607326418<br /><br />Les d
 ossards sont à retirer dans le hall d´Accueil de l´Hostel<br /><br />Inscri
 ptions en cours sur ce site<ul type="disc"><li>AMVF0721  Slalom <nobr>U8+U1
 0</nobr> Filles<br />&nbsp;&nbsp;OPEN J U8 à U 14       Coupe Weigel Sports
 </li><li>AMVM0721  Slalom <nobr>U8+U10</nobr> Garçons<br />&nbsp;&nbsp;OPEN
  J U8 à U 14       Coupe Weigel Sports</li><li>AMVF0722  Slalom <nobr>U12</
 nobr> Filles<br />&nbsp;&nbsp;OPEN J U8 à U 14       Coupe Weigel Sports</l
 i><li>AMVM0722  Slalom <nobr>U12</nobr> Garçons<br />&nbsp;&nbsp;OPEN J U8 
 à U 14       Coupe Weigel Sports</li><li>AMVF0723  Slalom <nobr>U14</nobr> 
 Filles<br />&nbsp;&nbsp;OPEN J U8 à U 14       Coupe Weigel Sports</li><li>
 AMVM0723  Slalom <nobr>U14</nobr> Garçons<br />&nbsp;&nbsp;OPEN J U8 à U 14
        Coupe Weigel Sports</li></ul> <a href="https://skivosges.net/agenda/
 a-venir/detailevenement/173/-/open-j-u8-a-u-14-coupe-weigel-sports?tmpl=com
 ponent">Cet évènement a été importé depuis :https://skivosges.net/agenda/a-
 venir/detailevenement/173/-/open-j-u8-a-u-14-coupe-weigel-sports?tmpl=compo
 nent</a>DTSTAMP:20260424T030356
DTSTART;TZID=Europe/Paris:20140309T080000
DTEND;TZID=Europe/Paris:20140309T170000
SEQUENCE:0
TRANSP:OPAQUE
END:VEVENT
END:VCALENDAR