BEGIN:VCALENDAR
VERSION:2.0
PRODID:-//jEvents 2.0 for Joomla//EN
CALSCALE:GREGORIAN
METHOD:PUBLISH
BEGIN:VTIMEZONE
TZID:Europe/Paris
BEGIN:STANDARD
DTSTART:20130312T080000
RDATE:20130331T030000
TZOFFSETFROM:+0200
TZOFFSETTO:+0100
TZNAME:Europe/Paris CET
END:STANDARD
BEGIN:STANDARD
DTSTART:20131027T020000
RDATE:20140330T030000
TZOFFSETFROM:+0200
TZOFFSETTO:+0100
TZNAME:Europe/Paris CET
END:STANDARD
BEGIN:STANDARD
DTSTART:20141026T020000
RDATE:20150329T030000
TZOFFSETFROM:+0200
TZOFFSETTO:+0100
TZNAME:Europe/Paris CET
END:STANDARD
BEGIN:STANDARD
DTSTART:20151025T020000
RDATE:20160327T030000
TZOFFSETFROM:+0200
TZOFFSETTO:+0100
TZNAME:Europe/Paris CET
END:STANDARD
BEGIN:STANDARD
DTSTART:20161030T020000
RDATE:20170326T030000
TZOFFSETFROM:+0200
TZOFFSETTO:+0100
TZNAME:Europe/Paris CET
END:STANDARD
BEGIN:STANDARD
DTSTART:20171029T020000
RDATE:20180325T030000
TZOFFSETFROM:+0200
TZOFFSETTO:+0100
TZNAME:Europe/Paris CET
END:STANDARD
BEGIN:STANDARD
DTSTART:20181028T020000
RDATE:20190331T030000
TZOFFSETFROM:+0200
TZOFFSETTO:+0100
TZNAME:Europe/Paris CET
END:STANDARD
BEGIN:STANDARD
DTSTART:20191027T020000
RDATE:20200329T030000
TZOFFSETFROM:+0200
TZOFFSETTO:+0100
TZNAME:Europe/Paris CET
END:STANDARD
BEGIN:STANDARD
DTSTART:20201025T020000
RDATE:20210328T030000
TZOFFSETFROM:+0200
TZOFFSETTO:+0100
TZNAME:Europe/Paris CET
END:STANDARD
BEGIN:STANDARD
DTSTART:20211031T020000
RDATE:20220327T030000
TZOFFSETFROM:+0200
TZOFFSETTO:+0100
TZNAME:Europe/Paris CET
END:STANDARD
BEGIN:STANDARD
DTSTART:20221030T020000
RDATE:20230326T030000
TZOFFSETFROM:+0200
TZOFFSETTO:+0100
TZNAME:Europe/Paris CET
END:STANDARD
BEGIN:STANDARD
DTSTART:20231029T020000
RDATE:20240331T030000
TZOFFSETFROM:+0200
TZOFFSETTO:+0100
TZNAME:Europe/Paris CET
END:STANDARD
BEGIN:STANDARD
DTSTART:20241027T020000
RDATE:20250330T030000
TZOFFSETFROM:+0200
TZOFFSETTO:+0100
TZNAME:Europe/Paris CET
END:STANDARD
BEGIN:STANDARD
DTSTART:20251026T020000
RDATE:20260329T030000
TZOFFSETFROM:+0200
TZOFFSETTO:+0100
TZNAME:Europe/Paris CET
END:STANDARD
BEGIN:STANDARD
DTSTART:20261025T020000
RDATE:20270328T030000
TZOFFSETFROM:+0200
TZOFFSETTO:+0100
TZNAME:Europe/Paris CET
END:STANDARD
BEGIN:DAYLIGHT
DTSTART:20130331T030000
RDATE:20131027T020000
TZOFFSETFROM:+0100
TZOFFSETTO:+0200
TZNAME:Europe/Paris CEST
END:DAYLIGHT
BEGIN:DAYLIGHT
DTSTART:20140330T030000
RDATE:20141026T020000
TZOFFSETFROM:+0100
TZOFFSETTO:+0200
TZNAME:Europe/Paris CEST
END:DAYLIGHT
BEGIN:DAYLIGHT
DTSTART:20150329T030000
RDATE:20151025T020000
TZOFFSETFROM:+0100
TZOFFSETTO:+0200
TZNAME:Europe/Paris CEST
END:DAYLIGHT
BEGIN:DAYLIGHT
DTSTART:20160327T030000
RDATE:20161030T020000
TZOFFSETFROM:+0100
TZOFFSETTO:+0200
TZNAME:Europe/Paris CEST
END:DAYLIGHT
BEGIN:DAYLIGHT
DTSTART:20170326T030000
RDATE:20171029T020000
TZOFFSETFROM:+0100
TZOFFSETTO:+0200
TZNAME:Europe/Paris CEST
END:DAYLIGHT
BEGIN:DAYLIGHT
DTSTART:20180325T030000
RDATE:20181028T020000
TZOFFSETFROM:+0100
TZOFFSETTO:+0200
TZNAME:Europe/Paris CEST
END:DAYLIGHT
BEGIN:DAYLIGHT
DTSTART:20190331T030000
RDATE:20191027T020000
TZOFFSETFROM:+0100
TZOFFSETTO:+0200
TZNAME:Europe/Paris CEST
END:DAYLIGHT
BEGIN:DAYLIGHT
DTSTART:20200329T030000
RDATE:20201025T020000
TZOFFSETFROM:+0100
TZOFFSETTO:+0200
TZNAME:Europe/Paris CEST
END:DAYLIGHT
BEGIN:DAYLIGHT
DTSTART:20210328T030000
RDATE:20211031T020000
TZOFFSETFROM:+0100
TZOFFSETTO:+0200
TZNAME:Europe/Paris CEST
END:DAYLIGHT
BEGIN:DAYLIGHT
DTSTART:20220327T030000
RDATE:20221030T020000
TZOFFSETFROM:+0100
TZOFFSETTO:+0200
TZNAME:Europe/Paris CEST
END:DAYLIGHT
BEGIN:DAYLIGHT
DTSTART:20230326T030000
RDATE:20231029T020000
TZOFFSETFROM:+0100
TZOFFSETTO:+0200
TZNAME:Europe/Paris CEST
END:DAYLIGHT
BEGIN:DAYLIGHT
DTSTART:20240331T030000
RDATE:20241027T020000
TZOFFSETFROM:+0100
TZOFFSETTO:+0200
TZNAME:Europe/Paris CEST
END:DAYLIGHT
BEGIN:DAYLIGHT
DTSTART:20250330T030000
RDATE:20251026T020000
TZOFFSETFROM:+0100
TZOFFSETTO:+0200
TZNAME:Europe/Paris CEST
END:DAYLIGHT
BEGIN:DAYLIGHT
DTSTART:20260329T030000
RDATE:20261025T020000
TZOFFSETFROM:+0100
TZOFFSETTO:+0200
TZNAME:Europe/Paris CEST
END:DAYLIGHT
END:VTIMEZONE
BEGIN:VEVENT
UID:915770024a778e7c1073c57ad54b09ac
CATEGORIES:Compétition Saut
CREATED:20131203T122100
SUMMARY:Coupe des Vosges Finale saut spécial K65m
URL;VALUE=URI:https://skivosges.net/agenda/a-venir/detailevenement/174/-/coupe-des-vosges
 -finale-saut-special-k65m?tmpl=component
DESCRIPTION:Coupe des Vosges Finale saut spécial K65m\n\nLieu : GERARDMER \nOrganisateu
 r : A.S GERARDMER SKI NORDIQUE  (14469 A.S GERARDMER SKI NORDIQUE)\n - TMVF
 0111 épreuve Dames\n  Coupe des Vosges Finale saut spécial K65m\n - TMVF011
 2 épreuve Dames\n  Coupe des Vosges Finale saut spécial K65m\n - TMVM0111 é
 preuve Hommes\n  Coupe des Vosges Finale saut spécial K65m\n - TMVM0112 épr
 euve Hommes\n  Coupe des Vosges Finale saut spécial K65m Cet évènement a ét
 é importé depuis :https://skivosges.net/agenda/a-venir/detailevenement/174/
 -/coupe-des-vosges-finale-saut-special-k65m?tmpl=component
X-ALT-DESC;FMTTYPE=text/html:<strong>Coupe des Vosges Finale saut spécial K65m</strong><br /><br />Lieu 
 : GERARDMER <br />Organisateur : A.S GERARDMER SKI NORDIQUE  <small>(14469 
 A.S GERARDMER SKI NORDIQUE)</small><ul type="disc"><li>TMVF0111 épreuve Dam
 es<br />&nbsp;&nbsp;Coupe des Vosges Finale saut spécial K65m</li><li>TMVF0
 112 épreuve Dames<br />&nbsp;&nbsp;Coupe des Vosges Finale saut spécial K65
 m</li><li>TMVM0111 épreuve Hommes<br />&nbsp;&nbsp;Coupe des Vosges Finale 
 saut spécial K65m</li><li>TMVM0112 épreuve Hommes<br />&nbsp;&nbsp;Coupe de
 s Vosges Finale saut spécial K65m</li></ul> <a href="https://skivosges.net/
 agenda/a-venir/detailevenement/174/-/coupe-des-vosges-finale-saut-special-k
 65m?tmpl=component">Cet évènement a été importé depuis :https://skivosges.n
 et/agenda/a-venir/detailevenement/174/-/coupe-des-vosges-finale-saut-specia
 l-k65m?tmpl=component</a>DTSTAMP:20260424T015210
DTSTART;TZID=Europe/Paris:20140313T080000
DTEND;TZID=Europe/Paris:20140313T170000
SEQUENCE:0
TRANSP:OPAQUE
END:VEVENT
END:VCALENDAR