BEGIN:VCALENDAR
VERSION:2.0
PRODID:-//jEvents 2.0 for Joomla//EN
CALSCALE:GREGORIAN
METHOD:PUBLISH
BEGIN:VTIMEZONE
TZID:Europe/Paris
BEGIN:STANDARD
DTSTART:20210205T000000
RDATE:20210328T030000
TZOFFSETFROM:+0200
TZOFFSETTO:+0100
TZNAME:Europe/Paris CET
END:STANDARD
BEGIN:STANDARD
DTSTART:20211031T020000
RDATE:20220327T030000
TZOFFSETFROM:+0200
TZOFFSETTO:+0100
TZNAME:Europe/Paris CET
END:STANDARD
BEGIN:STANDARD
DTSTART:20221030T020000
RDATE:20230326T030000
TZOFFSETFROM:+0200
TZOFFSETTO:+0100
TZNAME:Europe/Paris CET
END:STANDARD
BEGIN:STANDARD
DTSTART:20231029T020000
RDATE:20240331T030000
TZOFFSETFROM:+0200
TZOFFSETTO:+0100
TZNAME:Europe/Paris CET
END:STANDARD
BEGIN:STANDARD
DTSTART:20241027T020000
RDATE:20250330T030000
TZOFFSETFROM:+0200
TZOFFSETTO:+0100
TZNAME:Europe/Paris CET
END:STANDARD
BEGIN:STANDARD
DTSTART:20251026T020000
RDATE:20260329T030000
TZOFFSETFROM:+0200
TZOFFSETTO:+0100
TZNAME:Europe/Paris CET
END:STANDARD
BEGIN:STANDARD
DTSTART:20261025T020000
RDATE:20270328T030000
TZOFFSETFROM:+0200
TZOFFSETTO:+0100
TZNAME:Europe/Paris CET
END:STANDARD
BEGIN:DAYLIGHT
DTSTART:20210328T030000
RDATE:20211031T020000
TZOFFSETFROM:+0100
TZOFFSETTO:+0200
TZNAME:Europe/Paris CEST
END:DAYLIGHT
BEGIN:DAYLIGHT
DTSTART:20220327T030000
RDATE:20221030T020000
TZOFFSETFROM:+0100
TZOFFSETTO:+0200
TZNAME:Europe/Paris CEST
END:DAYLIGHT
BEGIN:DAYLIGHT
DTSTART:20230326T030000
RDATE:20231029T020000
TZOFFSETFROM:+0100
TZOFFSETTO:+0200
TZNAME:Europe/Paris CEST
END:DAYLIGHT
BEGIN:DAYLIGHT
DTSTART:20240331T030000
RDATE:20241027T020000
TZOFFSETFROM:+0100
TZOFFSETTO:+0200
TZNAME:Europe/Paris CEST
END:DAYLIGHT
BEGIN:DAYLIGHT
DTSTART:20250330T030000
RDATE:20251026T020000
TZOFFSETFROM:+0100
TZOFFSETTO:+0200
TZNAME:Europe/Paris CEST
END:DAYLIGHT
BEGIN:DAYLIGHT
DTSTART:20260329T030000
RDATE:20261025T020000
TZOFFSETFROM:+0100
TZOFFSETTO:+0200
TZNAME:Europe/Paris CEST
END:DAYLIGHT
END:VTIMEZONE
BEGIN:VEVENT
UID:6a236de56b1db31c49b578be105b62dc
CATEGORIES:Circuit Massif D2 (alpin)
CREATED:20211117T190002
SUMMARY:CD2 Coupe CD 90 et SSTM Belfort
URL;VALUE=URI:https://skivosges.net/agenda/a-venir/detailevenement/1773/-/cd2-coupe-cd-90
 -et-sstm-belfort?tmpl=component
DESCRIPTION:<!-- #gskiepreuve code généré par le plugin jevents pour GskiEpreuves. Ne p
 as modifier cette ligne, ni tout le contenu suivant  #gskiepreuve --><div c
 lass="gski-evenement_infos"><div class="gski-evenement-nom">CD2 Coupe CD 90
  et SSTM Belfort</div><div class="gski-evenement-report"></div><ul class="g
 ski-evenement-liste-infos"><li>Codex évenement AMVT0380</li><li>Lieu : LANG
 ENBERG</li><li>Station : BALLON D'ALSACE</li><li>Piste : STADE DE SLALOM</l
 i><li>Organisateur : 14004 STE SKI TOURISME MONTAGNE</li><li>Courriel : <!-
 - Cette adresse électronique est protégée contre les robots spammeurs. --><
 span class="cloaked_email ep_9ae65323"><span data-ep-a="&#106;&#103;&#104;"
  data-ep-b=""><span data-ep-b="r" data-ep-a="&#64;&#99;&#105;"><span data-e
 p-a="t&#101;&#108;" data-ep-b="e&#46;f"></span></span></span></span><script
 >RegularLabs.EmailProtector.unCloak("ep_9ae65323");</script></li><li>Téléph
 one : 0384901720</li><li><span class="gski-evenement-obs">Délégué Technique
  : L'EPINGLE JEAN CLAUDE</span></li></ul><div class="gski-evenement-infos-2
 "><div class="gski-evenement-info-inscriptions"><div class="gski-evenement-
 inscriptions-periodes">Période d'inscription à l'evènement du dimanche 30 j
 anvier 2022 à 01:00 au vendredi 04 février 2022 à 16:00<div class="gski-eve
 nement-inscriptions-types-titres">Inscriptions ouvertes aux detenteurs des 
 titres Fédéraux valides suivants : Licenciés Compétiteurs</div></div></div>
 <div class="gskiepreuves-links"><ul><li><a href="/index.php?option=com_jeve
 nts&task=icalevent.detail&evid=1768&Itemid=6289">Voir les informations dans
  l'agenda...</a></li><li><a href="/index.php?option=com_gskiepreuves&view=a
 fficheresultats&format_option=tous&filter[search]=AMVT0380&filter[date_debu
 t]=06-02-2022&filter[date_fin]=06-02-2022&code_activite=ALP&Itemid=6289">Ve
 rs les résultats...</a></li></ul></div><div class="gski-evenement-epreuves"
 ><div class="gski-evenement-epreuves-titres">Epreuves :</div><ul class="gsk
 i-evenement-epreuves-list"><li><div class="gski-epreuve-date">Le dimanche 0
 6 février 2022 à 10:00</div><ul class="gski-epreuve-liste-infos"><li>Codex 
 épreuve AMVM0381</li><li>Slalom</li><li>Catégorie(s) : U16 (Garçons)</li></
 ul></li><li><div class="gski-epreuve-date">Le dimanche 06 février 2022 à 10
 :00</div><ul class="gski-epreuve-liste-infos"><li>Codex épreuve AMVF0381</l
 i><li>Slalom</li><li>Catégorie(s) : U16 (Filles)</li></ul></li><li><div cla
 ss="gski-epreuve-date">Le dimanche 06 février 2022 à 10:00</div><ul class="
 gski-epreuve-liste-infos"><li>Codex épreuve AMVM0382</li><li>Slalom</li><li
 >Catégorie(s) : U18 a Masters (Hommes)</li></ul></li><li><div class="gski-e
 preuve-date">Le dimanche 06 février 2022 à 10:00</div><ul class="gski-epreu
 ve-liste-infos"><li>Codex épreuve AMVF0382</li><li>Slalom</li><li>Catégorie
 (s) : U18 a Masters (Dames)</li></ul></li></ul></div><div class="gskiepreuv
 es-links"><ul><li><a href="/index.php?option=com_jevents&task=icalevent.det
 ail&evid=1768&Itemid=6289">Voir les informations dans l'agenda...</a></li><
 li><a href="/index.php?option=com_gskiepreuves&view=afficheresultats&format
 _option=tous&filter[search]=AMVT0380&filter[date_debut]=06-02-2022&filter[d
 ate_fin]=06-02-2022&code_activite=ALP&Itemid=6289">Vers les résultats...</a
 ></li></ul></div></div"><!-- #/gskiepreuve fin du dode généré par le plugin
  jevents pour GskiEpreuves. . Ne pas modifier cette ligne, ni tout le conte
 nu précedant.  #/gskiepreuve --> <a href="https://skivosges.net/agenda/a-ve
 nir/detailevenement/1773/-/cd2-coupe-cd-90-et-sstm-belfort?tmpl=component">
 Cet évènement a été importé depuis :https://skivosges.net/agenda/a-venir/de
 tailevenement/1773/-/cd2-coupe-cd-90-et-sstm-belfort?tmpl=component</a>
X-ALT-DESC;FMTTYPE=text/html:<!-- #gskiepreuve code généré par le plugin jevents pour GskiEpreuves. Ne p
 as modifier cette ligne, ni tout le contenu suivant  #gskiepreuve --><div c
 lass="gski-evenement_infos"><div class="gski-evenement-nom">CD2 Coupe CD 90
  et SSTM Belfort</div><div class="gski-evenement-report"></div><ul class="g
 ski-evenement-liste-infos"><li>Codex évenement AMVT0380</li><li>Lieu : LANG
 ENBERG</li><li>Station : BALLON D'ALSACE</li><li>Piste : STADE DE SLALOM</l
 i><li>Organisateur : 14004 STE SKI TOURISME MONTAGNE</li><li>Courriel : <!-
 - Cette adresse électronique est protégée contre les robots spammeurs. --><
 span class="cloaked_email ep_9ae65323"><span data-ep-a="&#106;&#103;&#104;"
  data-ep-b=""><span data-ep-b="r" data-ep-a="&#64;&#99;&#105;"><span data-e
 p-a="t&#101;&#108;" data-ep-b="e&#46;f"></span></span></span></span><script
 >RegularLabs.EmailProtector.unCloak("ep_9ae65323");</script></li><li>Téléph
 one : 0384901720</li><li><span class="gski-evenement-obs">Délégué Technique
  : L'EPINGLE JEAN CLAUDE</span></li></ul><div class="gski-evenement-infos-2
 "><div class="gski-evenement-info-inscriptions"><div class="gski-evenement-
 inscriptions-periodes">Période d'inscription à l'evènement du dimanche 30 j
 anvier 2022 à 01:00 au vendredi 04 février 2022 à 16:00<div class="gski-eve
 nement-inscriptions-types-titres">Inscriptions ouvertes aux detenteurs des 
 titres Fédéraux valides suivants : Licenciés Compétiteurs</div></div></div>
 <div class="gskiepreuves-links"><ul><li><a href="https://skivosges.net/inde
 x.php?option=com_jevents&task=icalevent.detail&evid=1768&Itemid=6289">Voir 
 les informations dans l'agenda...</a></li><li><a href="https://skivosges.ne
 t/index.php?option=com_gskiepreuves&view=afficheresultats&format_option=tou
 s&filter[search]=AMVT0380&filter[date_debut]=06-02-2022&filter[date_fin]=06
 -02-2022&code_activite=ALP&Itemid=6289">Vers les résultats...</a></li></ul>
 </div><div class="gski-evenement-epreuves"><div class="gski-evenement-epreu
 ves-titres">Epreuves :</div><ul class="gski-evenement-epreuves-list"><li><d
 iv class="gski-epreuve-date">Le dimanche 06 février 2022 à 10:00</div><ul c
 lass="gski-epreuve-liste-infos"><li>Codex épreuve AMVM0381</li><li>Slalom</
 li><li>Catégorie(s) : U16 (Garçons)</li></ul></li><li><div class="gski-epre
 uve-date">Le dimanche 06 février 2022 à 10:00</div><ul class="gski-epreuve-
 liste-infos"><li>Codex épreuve AMVF0381</li><li>Slalom</li><li>Catégorie(s)
  : U16 (Filles)</li></ul></li><li><div class="gski-epreuve-date">Le dimanch
 e 06 février 2022 à 10:00</div><ul class="gski-epreuve-liste-infos"><li>Cod
 ex épreuve AMVM0382</li><li>Slalom</li><li>Catégorie(s) : U18 a Masters (Ho
 mmes)</li></ul></li><li><div class="gski-epreuve-date">Le dimanche 06 févri
 er 2022 à 10:00</div><ul class="gski-epreuve-liste-infos"><li>Codex épreuve
  AMVF0382</li><li>Slalom</li><li>Catégorie(s) : U18 a Masters (Dames)</li><
 /ul></li></ul></div><div class="gskiepreuves-links"><ul><li><a href="https:
 //skivosges.net/index.php?option=com_jevents&task=icalevent.detail&evid=176
 8&Itemid=6289">Voir les informations dans l'agenda...</a></li><li><a href="
 https://skivosges.net/index.php?option=com_gskiepreuves&view=afficheresulta
 ts&format_option=tous&filter[search]=AMVT0380&filter[date_debut]=06-02-2022
 &filter[date_fin]=06-02-2022&code_activite=ALP&Itemid=6289">Vers les résult
 ats...</a></li></ul></div></div"><!-- #/gskiepreuve fin du dode généré par 
 le plugin jevents pour GskiEpreuves. . Ne pas modifier cette ligne, ni tout
  le contenu précedant.  #/gskiepreuve --> <a href="https://skivosges.net/ag
 enda/a-venir/detailevenement/1773/-/cd2-coupe-cd-90-et-sstm-belfort?tmpl=co
 mponent">Cet évènement a été importé depuis :https://skivosges.net/agenda/a
 -venir/detailevenement/1773/-/cd2-coupe-cd-90-et-sstm-belfort?tmpl=componen
 t</a>DTSTAMP:20260421T051507
DTSTART;TZID=Europe/Paris;VALUE=DATE:20220206
DTEND;TZID=Europe/Paris;VALUE=DATE:20220207
SEQUENCE:0
TRANSP:OPAQUE
END:VEVENT
END:VCALENDAR