BEGIN:VCALENDAR
VERSION:2.0
PRODID:-//jEvents 2.0 for Joomla//EN
CALSCALE:GREGORIAN
METHOD:PUBLISH
BEGIN:VTIMEZONE
TZID:Europe/Paris
BEGIN:STANDARD
DTSTART:20210205T000000
RDATE:20210328T030000
TZOFFSETFROM:+0200
TZOFFSETTO:+0100
TZNAME:Europe/Paris CET
END:STANDARD
BEGIN:STANDARD
DTSTART:20211031T020000
RDATE:20220327T030000
TZOFFSETFROM:+0200
TZOFFSETTO:+0100
TZNAME:Europe/Paris CET
END:STANDARD
BEGIN:STANDARD
DTSTART:20221030T020000
RDATE:20230326T030000
TZOFFSETFROM:+0200
TZOFFSETTO:+0100
TZNAME:Europe/Paris CET
END:STANDARD
BEGIN:STANDARD
DTSTART:20231029T020000
RDATE:20240331T030000
TZOFFSETFROM:+0200
TZOFFSETTO:+0100
TZNAME:Europe/Paris CET
END:STANDARD
BEGIN:STANDARD
DTSTART:20241027T020000
RDATE:20250330T030000
TZOFFSETFROM:+0200
TZOFFSETTO:+0100
TZNAME:Europe/Paris CET
END:STANDARD
BEGIN:STANDARD
DTSTART:20251026T020000
RDATE:20260329T030000
TZOFFSETFROM:+0200
TZOFFSETTO:+0100
TZNAME:Europe/Paris CET
END:STANDARD
BEGIN:STANDARD
DTSTART:20261025T020000
RDATE:20270328T030000
TZOFFSETFROM:+0200
TZOFFSETTO:+0100
TZNAME:Europe/Paris CET
END:STANDARD
BEGIN:DAYLIGHT
DTSTART:20210328T030000
RDATE:20211031T020000
TZOFFSETFROM:+0100
TZOFFSETTO:+0200
TZNAME:Europe/Paris CEST
END:DAYLIGHT
BEGIN:DAYLIGHT
DTSTART:20220327T030000
RDATE:20221030T020000
TZOFFSETFROM:+0100
TZOFFSETTO:+0200
TZNAME:Europe/Paris CEST
END:DAYLIGHT
BEGIN:DAYLIGHT
DTSTART:20230326T030000
RDATE:20231029T020000
TZOFFSETFROM:+0100
TZOFFSETTO:+0200
TZNAME:Europe/Paris CEST
END:DAYLIGHT
BEGIN:DAYLIGHT
DTSTART:20240331T030000
RDATE:20241027T020000
TZOFFSETFROM:+0100
TZOFFSETTO:+0200
TZNAME:Europe/Paris CEST
END:DAYLIGHT
BEGIN:DAYLIGHT
DTSTART:20250330T030000
RDATE:20251026T020000
TZOFFSETFROM:+0100
TZOFFSETTO:+0200
TZNAME:Europe/Paris CEST
END:DAYLIGHT
BEGIN:DAYLIGHT
DTSTART:20260329T030000
RDATE:20261025T020000
TZOFFSETFROM:+0100
TZOFFSETTO:+0200
TZNAME:Europe/Paris CEST
END:DAYLIGHT
END:VTIMEZONE
BEGIN:VEVENT
UID:e50216a3fd4a71420ade947328332104
CATEGORIES:Circuit Alsace Jeunes (alpin)
CREATED:20211117T190002
SUMMARY:CJA Coupe de bronze Albisser
URL;VALUE=URI:https://skivosges.net/agenda/a-venir/detailevenement/1777/-/cja-coupe-de-br
 onze-albisser?tmpl=component
DESCRIPTION:<!-- #gskiepreuve code généré par le plugin jevents pour GskiEpreuves. Ne p
 as modifier cette ligne, ni tout le contenu suivant  #gskiepreuve --><div c
 lass="gski-evenement_infos"><div class="gski-evenement-nom">CJA Coupe de br
 onze Albisser</div><div class="gski-evenement-report"></div><ul class="gski
 -evenement-liste-infos"><li>Codex évenement AMVT0360</li><li>Lieu : stade d
 e slalom Serge Lang</li><li>Station : MARKSTEIN</li><li>Piste : F&eacute;d&
 eacute;rale</li><li>Organisateur : 14046 VOSGES TROTTERS MULHOUSE</li><li>C
 ourriel : <!-- Cette adresse électronique est protégée contre les robots sp
 ammeurs. --><span class="cloaked_email ep_cc14f359"><span data-ep-b="e.&#10
 2;r" data-ep-a="&#109;&#97;&#116;h"><span data-ep-a="i&#101;&#117;&#46;" da
 ta-ep-b="&#114;&#97;n&#103;"><span data-ep-b="e&#114;&#64;&#111;" data-ep-a
 ="&#103;e&#114;r"></span></span></span></span><script>RegularLabs.EmailProt
 ector.unCloak("ep_cc14f359");</script></li><li>Téléphone : 0682362420</li><
 /ul><div class="gski-evenement-infos-2"><div class="gski-evenement-info-ins
 criptions"><div class="gski-evenement-inscriptions-periodes">Période d'insc
 ription à l'evènement du dimanche 30 janvier 2022 à 00:00 au vendredi 04 fé
 vrier 2022 à 12:00<div class="gski-evenement-inscriptions-types-titres">Ins
 criptions ouvertes aux detenteurs des titres Fédéraux valides suivants : Li
 cenciés Compétiteurs</div></div></div><div class="gskiepreuves-links"><ul><
 li><a href="/index.php?option=com_jevents&task=icalevent.detail&evid=1772&I
 temid=6289">Voir les informations dans l'agenda...</a></li><li><a href="/in
 dex.php?option=com_gskiepreuves&view=afficheresultats&format_option=tous&fi
 lter[search]=AMVT0360&filter[date_debut]=06-02-2022&filter[date_fin]=06-02-
 2022&code_activite=ALP&Itemid=6289">Vers les résultats...</a></li><li>Publi
 cations concernant cet évènement :<ul><li><a href="/index.php?option=com_co
 ntent&view=article&id=7573&Itemid=6289">Samedi 5 Février 2022 à 10:14 : Le 
 06/02/2022 MARKSTEIN : modification des horaires</a></li></ul></li></ul></d
 iv><div class="gski-evenement-epreuves"><div class="gski-evenement-epreuves
 -titres">Epreuves :</div><ul class="gski-evenement-epreuves-list"><li><div 
 class="gski-epreuve-date">Le dimanche 06 février 2022 à 10:00</div><ul clas
 s="gski-epreuve-liste-infos"><li>Codex épreuve AMVM0361</li><li>Slalom Gean
 t</li><li>Catégorie(s) : U8/U10 (Garçons)</li></ul></li><li><div class="gsk
 i-epreuve-date">Le dimanche 06 février 2022 à 10:00</div><ul class="gski-ep
 reuve-liste-infos"><li>Codex épreuve AMVF0361</li><li>Slalom Geant</li><li>
 Catégorie(s) : U8/U10 (Filles)</li></ul></li><li><div class="gski-epreuve-d
 ate">Le dimanche 06 février 2022 à 10:00</div><ul class="gski-epreuve-liste
 -infos"><li>Codex épreuve AMVM0362</li><li>Slalom Geant</li><li>Catégorie(s
 ) : U12/U14 (Garçons)</li></ul></li><li><div class="gski-epreuve-date">Le d
 imanche 06 février 2022 à 10:00</div><ul class="gski-epreuve-liste-infos"><
 li>Codex épreuve AMVF0362</li><li>Slalom Geant</li><li>Catégorie(s) : U12/U
 14 (Filles)</li></ul></li></ul></div><div class="gskiepreuves-links"><ul><l
 i><a href="/index.php?option=com_jevents&task=icalevent.detail&evid=1772&It
 emid=6289">Voir les informations dans l'agenda...</a></li><li><a href="/ind
 ex.php?option=com_gskiepreuves&view=afficheresultats&format_option=tous&fil
 ter[search]=AMVT0360&filter[date_debut]=06-02-2022&filter[date_fin]=06-02-2
 022&code_activite=ALP&Itemid=6289">Vers les résultats...</a></li><li>Public
 ations concernant cet évènement :<ul><li><a href="/index.php?option=com_con
 tent&view=article&id=7573&Itemid=6289">Samedi 5 Février 2022 à 10:14 : Le 0
 6/02/2022 MARKSTEIN : modification des horaires</a></li></ul></li></ul></di
 v></div"><!-- #/gskiepreuve fin du dode généré par le plugin jevents pour G
 skiEpreuves. . Ne pas modifier cette ligne, ni tout le contenu précedant.  
 #/gskiepreuve --> <a href="https://skivosges.net/agenda/a-venir/detailevene
 ment/1777/-/cja-coupe-de-bronze-albisser?tmpl=component">Cet évènement a ét
 é importé depuis :https://skivosges.net/agenda/a-venir/detailevenement/1777
 /-/cja-coupe-de-bronze-albisser?tmpl=component</a>
X-ALT-DESC;FMTTYPE=text/html:<!-- #gskiepreuve code généré par le plugin jevents pour GskiEpreuves. Ne p
 as modifier cette ligne, ni tout le contenu suivant  #gskiepreuve --><div c
 lass="gski-evenement_infos"><div class="gski-evenement-nom">CJA Coupe de br
 onze Albisser</div><div class="gski-evenement-report"></div><ul class="gski
 -evenement-liste-infos"><li>Codex évenement AMVT0360</li><li>Lieu : stade d
 e slalom Serge Lang</li><li>Station : MARKSTEIN</li><li>Piste : F&eacute;d&
 eacute;rale</li><li>Organisateur : 14046 VOSGES TROTTERS MULHOUSE</li><li>C
 ourriel : <!-- Cette adresse électronique est protégée contre les robots sp
 ammeurs. --><span class="cloaked_email ep_cc14f359"><span data-ep-b="e.&#10
 2;r" data-ep-a="&#109;&#97;&#116;h"><span data-ep-a="i&#101;&#117;&#46;" da
 ta-ep-b="&#114;&#97;n&#103;"><span data-ep-b="e&#114;&#64;&#111;" data-ep-a
 ="&#103;e&#114;r"></span></span></span></span><script>RegularLabs.EmailProt
 ector.unCloak("ep_cc14f359");</script></li><li>Téléphone : 0682362420</li><
 /ul><div class="gski-evenement-infos-2"><div class="gski-evenement-info-ins
 criptions"><div class="gski-evenement-inscriptions-periodes">Période d'insc
 ription à l'evènement du dimanche 30 janvier 2022 à 00:00 au vendredi 04 fé
 vrier 2022 à 12:00<div class="gski-evenement-inscriptions-types-titres">Ins
 criptions ouvertes aux detenteurs des titres Fédéraux valides suivants : Li
 cenciés Compétiteurs</div></div></div><div class="gskiepreuves-links"><ul><
 li><a href="https://skivosges.net/index.php?option=com_jevents&task=icaleve
 nt.detail&evid=1772&Itemid=6289">Voir les informations dans l'agenda...</a>
 </li><li><a href="https://skivosges.net/index.php?option=com_gskiepreuves&v
 iew=afficheresultats&format_option=tous&filter[search]=AMVT0360&filter[date
 _debut]=06-02-2022&filter[date_fin]=06-02-2022&code_activite=ALP&Itemid=628
 9">Vers les résultats...</a></li><li>Publications concernant cet évènement 
 :<ul><li><a href="https://skivosges.net/index.php?option=com_content&view=a
 rticle&id=7573&Itemid=6289">Samedi 5 Février 2022 à 10:14 : Le 06/02/2022 M
 ARKSTEIN : modification des horaires</a></li></ul></li></ul></div><div clas
 s="gski-evenement-epreuves"><div class="gski-evenement-epreuves-titres">Epr
 euves :</div><ul class="gski-evenement-epreuves-list"><li><div class="gski-
 epreuve-date">Le dimanche 06 février 2022 à 10:00</div><ul class="gski-epre
 uve-liste-infos"><li>Codex épreuve AMVM0361</li><li>Slalom Geant</li><li>Ca
 tégorie(s) : U8/U10 (Garçons)</li></ul></li><li><div class="gski-epreuve-da
 te">Le dimanche 06 février 2022 à 10:00</div><ul class="gski-epreuve-liste-
 infos"><li>Codex épreuve AMVF0361</li><li>Slalom Geant</li><li>Catégorie(s)
  : U8/U10 (Filles)</li></ul></li><li><div class="gski-epreuve-date">Le dima
 nche 06 février 2022 à 10:00</div><ul class="gski-epreuve-liste-infos"><li>
 Codex épreuve AMVM0362</li><li>Slalom Geant</li><li>Catégorie(s) : U12/U14 
 (Garçons)</li></ul></li><li><div class="gski-epreuve-date">Le dimanche 06 f
 évrier 2022 à 10:00</div><ul class="gski-epreuve-liste-infos"><li>Codex épr
 euve AMVF0362</li><li>Slalom Geant</li><li>Catégorie(s) : U12/U14 (Filles)<
 /li></ul></li></ul></div><div class="gskiepreuves-links"><ul><li><a href="h
 ttps://skivosges.net/index.php?option=com_jevents&task=icalevent.detail&evi
 d=1772&Itemid=6289">Voir les informations dans l'agenda...</a></li><li><a h
 ref="https://skivosges.net/index.php?option=com_gskiepreuves&view=affichere
 sultats&format_option=tous&filter[search]=AMVT0360&filter[date_debut]=06-02
 -2022&filter[date_fin]=06-02-2022&code_activite=ALP&Itemid=6289">Vers les r
 ésultats...</a></li><li>Publications concernant cet évènement :<ul><li><a h
 ref="https://skivosges.net/index.php?option=com_content&view=article&id=757
 3&Itemid=6289">Samedi 5 Février 2022 à 10:14 : Le 06/02/2022 MARKSTEIN : mo
 dification des horaires</a></li></ul></li></ul></div></div"><!-- #/gskiepre
 uve fin du dode généré par le plugin jevents pour GskiEpreuves. . Ne pas mo
 difier cette ligne, ni tout le contenu précedant.  #/gskiepreuve --> <a hre
 f="https://skivosges.net/agenda/a-venir/detailevenement/1777/-/cja-coupe-de
 -bronze-albisser?tmpl=component">Cet évènement a été importé depuis :https:
 //skivosges.net/agenda/a-venir/detailevenement/1777/-/cja-coupe-de-bronze-a
 lbisser?tmpl=component</a>DTSTAMP:20260421T051506
DTSTART;TZID=Europe/Paris;VALUE=DATE:20220206
DTEND;TZID=Europe/Paris;VALUE=DATE:20220207
SEQUENCE:0
TRANSP:OPAQUE
END:VEVENT
END:VCALENDAR