BEGIN:VCALENDAR
VERSION:2.0
PRODID:-//jEvents 2.0 for Joomla//EN
CALSCALE:GREGORIAN
METHOD:PUBLISH
BEGIN:VTIMEZONE
TZID:Europe/Paris
BEGIN:STANDARD
DTSTART:20130314T080000
RDATE:20130331T030000
TZOFFSETFROM:+0200
TZOFFSETTO:+0100
TZNAME:Europe/Paris CET
END:STANDARD
BEGIN:STANDARD
DTSTART:20131027T020000
RDATE:20140330T030000
TZOFFSETFROM:+0200
TZOFFSETTO:+0100
TZNAME:Europe/Paris CET
END:STANDARD
BEGIN:STANDARD
DTSTART:20141026T020000
RDATE:20150329T030000
TZOFFSETFROM:+0200
TZOFFSETTO:+0100
TZNAME:Europe/Paris CET
END:STANDARD
BEGIN:STANDARD
DTSTART:20151025T020000
RDATE:20160327T030000
TZOFFSETFROM:+0200
TZOFFSETTO:+0100
TZNAME:Europe/Paris CET
END:STANDARD
BEGIN:STANDARD
DTSTART:20161030T020000
RDATE:20170326T030000
TZOFFSETFROM:+0200
TZOFFSETTO:+0100
TZNAME:Europe/Paris CET
END:STANDARD
BEGIN:STANDARD
DTSTART:20171029T020000
RDATE:20180325T030000
TZOFFSETFROM:+0200
TZOFFSETTO:+0100
TZNAME:Europe/Paris CET
END:STANDARD
BEGIN:STANDARD
DTSTART:20181028T020000
RDATE:20190331T030000
TZOFFSETFROM:+0200
TZOFFSETTO:+0100
TZNAME:Europe/Paris CET
END:STANDARD
BEGIN:STANDARD
DTSTART:20191027T020000
RDATE:20200329T030000
TZOFFSETFROM:+0200
TZOFFSETTO:+0100
TZNAME:Europe/Paris CET
END:STANDARD
BEGIN:STANDARD
DTSTART:20201025T020000
RDATE:20210328T030000
TZOFFSETFROM:+0200
TZOFFSETTO:+0100
TZNAME:Europe/Paris CET
END:STANDARD
BEGIN:STANDARD
DTSTART:20211031T020000
RDATE:20220327T030000
TZOFFSETFROM:+0200
TZOFFSETTO:+0100
TZNAME:Europe/Paris CET
END:STANDARD
BEGIN:STANDARD
DTSTART:20221030T020000
RDATE:20230326T030000
TZOFFSETFROM:+0200
TZOFFSETTO:+0100
TZNAME:Europe/Paris CET
END:STANDARD
BEGIN:STANDARD
DTSTART:20231029T020000
RDATE:20240331T030000
TZOFFSETFROM:+0200
TZOFFSETTO:+0100
TZNAME:Europe/Paris CET
END:STANDARD
BEGIN:STANDARD
DTSTART:20241027T020000
RDATE:20250330T030000
TZOFFSETFROM:+0200
TZOFFSETTO:+0100
TZNAME:Europe/Paris CET
END:STANDARD
BEGIN:STANDARD
DTSTART:20251026T020000
RDATE:20260329T030000
TZOFFSETFROM:+0200
TZOFFSETTO:+0100
TZNAME:Europe/Paris CET
END:STANDARD
BEGIN:STANDARD
DTSTART:20261025T020000
RDATE:20270328T030000
TZOFFSETFROM:+0200
TZOFFSETTO:+0100
TZNAME:Europe/Paris CET
END:STANDARD
BEGIN:DAYLIGHT
DTSTART:20130331T030000
RDATE:20131027T020000
TZOFFSETFROM:+0100
TZOFFSETTO:+0200
TZNAME:Europe/Paris CEST
END:DAYLIGHT
BEGIN:DAYLIGHT
DTSTART:20140330T030000
RDATE:20141026T020000
TZOFFSETFROM:+0100
TZOFFSETTO:+0200
TZNAME:Europe/Paris CEST
END:DAYLIGHT
BEGIN:DAYLIGHT
DTSTART:20150329T030000
RDATE:20151025T020000
TZOFFSETFROM:+0100
TZOFFSETTO:+0200
TZNAME:Europe/Paris CEST
END:DAYLIGHT
BEGIN:DAYLIGHT
DTSTART:20160327T030000
RDATE:20161030T020000
TZOFFSETFROM:+0100
TZOFFSETTO:+0200
TZNAME:Europe/Paris CEST
END:DAYLIGHT
BEGIN:DAYLIGHT
DTSTART:20170326T030000
RDATE:20171029T020000
TZOFFSETFROM:+0100
TZOFFSETTO:+0200
TZNAME:Europe/Paris CEST
END:DAYLIGHT
BEGIN:DAYLIGHT
DTSTART:20180325T030000
RDATE:20181028T020000
TZOFFSETFROM:+0100
TZOFFSETTO:+0200
TZNAME:Europe/Paris CEST
END:DAYLIGHT
BEGIN:DAYLIGHT
DTSTART:20190331T030000
RDATE:20191027T020000
TZOFFSETFROM:+0100
TZOFFSETTO:+0200
TZNAME:Europe/Paris CEST
END:DAYLIGHT
BEGIN:DAYLIGHT
DTSTART:20200329T030000
RDATE:20201025T020000
TZOFFSETFROM:+0100
TZOFFSETTO:+0200
TZNAME:Europe/Paris CEST
END:DAYLIGHT
BEGIN:DAYLIGHT
DTSTART:20210328T030000
RDATE:20211031T020000
TZOFFSETFROM:+0100
TZOFFSETTO:+0200
TZNAME:Europe/Paris CEST
END:DAYLIGHT
BEGIN:DAYLIGHT
DTSTART:20220327T030000
RDATE:20221030T020000
TZOFFSETFROM:+0100
TZOFFSETTO:+0200
TZNAME:Europe/Paris CEST
END:DAYLIGHT
BEGIN:DAYLIGHT
DTSTART:20230326T030000
RDATE:20231029T020000
TZOFFSETFROM:+0100
TZOFFSETTO:+0200
TZNAME:Europe/Paris CEST
END:DAYLIGHT
BEGIN:DAYLIGHT
DTSTART:20240331T030000
RDATE:20241027T020000
TZOFFSETFROM:+0100
TZOFFSETTO:+0200
TZNAME:Europe/Paris CEST
END:DAYLIGHT
BEGIN:DAYLIGHT
DTSTART:20250330T030000
RDATE:20251026T020000
TZOFFSETFROM:+0100
TZOFFSETTO:+0200
TZNAME:Europe/Paris CEST
END:DAYLIGHT
BEGIN:DAYLIGHT
DTSTART:20260329T030000
RDATE:20261025T020000
TZOFFSETFROM:+0100
TZOFFSETTO:+0200
TZNAME:Europe/Paris CEST
END:DAYLIGHT
END:VTIMEZONE
BEGIN:VEVENT
UID:43ef46e06dcac1d3661d197729c0ac78
CATEGORIES:Compétition Saut
CREATED:20131203T122100
SUMMARY:Jeux du Saut  Finale Crédit Mutuel K15m
URL;VALUE=URI:https://skivosges.net/agenda/a-venir/detailevenement/178/-/jeux-du-saut-fin
 ale-credit-mutuel-k15m?tmpl=component
DESCRIPTION:Jeux du Saut  Finale Crédit Mutuel K15m\n\nLieu : GERARDMER \nOrganisateur 
 : A.S GERARDMER SKI NORDIQUE  (14469 A.S GERARDMER SKI NORDIQUE)\n - TMVF01
 21 épreuve Dames\n  Jeux du Saut  Finale Crédit Mutuel K15m\n - TMVF0122 ép
 reuve Dames\n  Jeux du Saut  Finale Crédit Mutuel K15m\n - TMVF0123 épreuve
  Dames\n  Jeux du Saut  Finale Crédit Mutuel K15m\n - TMVM0121 épreuve Homm
 es\n  Jeux du Saut  Finale Crédit Mutuel K15m\n - TMVM0122 épreuve Hommes\n
   Jeux du Saut  Finale Crédit Mutuel K15m\n - TMVM0123 épreuve Hommes\n  Je
 ux du Saut  Finale Crédit Mutuel K15m Cet évènement a été importé depuis :h
 ttps://skivosges.net/agenda/a-venir/detailevenement/178/-/jeux-du-saut-fina
 le-credit-mutuel-k15m?tmpl=component
X-ALT-DESC;FMTTYPE=text/html:<strong>Jeux du Saut  Finale Crédit Mutuel K15m</strong><br /><br />Lieu : 
 GERARDMER <br />Organisateur : A.S GERARDMER SKI NORDIQUE  <small>(14469 A.
 S GERARDMER SKI NORDIQUE)</small><ul type="disc"><li>TMVF0121 épreuve Dames
 <br />&nbsp;&nbsp;Jeux du Saut  Finale Crédit Mutuel K15m</li><li>TMVF0122 
 épreuve Dames<br />&nbsp;&nbsp;Jeux du Saut  Finale Crédit Mutuel K15m</li>
 <li>TMVF0123 épreuve Dames<br />&nbsp;&nbsp;Jeux du Saut  Finale Crédit Mut
 uel K15m</li><li>TMVM0121 épreuve Hommes<br />&nbsp;&nbsp;Jeux du Saut  Fin
 ale Crédit Mutuel K15m</li><li>TMVM0122 épreuve Hommes<br />&nbsp;&nbsp;Jeu
 x du Saut  Finale Crédit Mutuel K15m</li><li>TMVM0123 épreuve Hommes<br />&
 nbsp;&nbsp;Jeux du Saut  Finale Crédit Mutuel K15m</li></ul> <a href="https
 ://skivosges.net/agenda/a-venir/detailevenement/178/-/jeux-du-saut-finale-c
 redit-mutuel-k15m?tmpl=component">Cet évènement a été importé depuis :https
 ://skivosges.net/agenda/a-venir/detailevenement/178/-/jeux-du-saut-finale-c
 redit-mutuel-k15m?tmpl=component</a>DTSTAMP:20260424T015214
DTSTART;TZID=Europe/Paris:20140315T080000
DTEND;TZID=Europe/Paris:20140315T170000
SEQUENCE:0
TRANSP:OPAQUE
END:VEVENT
END:VCALENDAR