BEGIN:VCALENDAR
VERSION:2.0
PRODID:-//jEvents 2.0 for Joomla//EN
CALSCALE:GREGORIAN
METHOD:PUBLISH
BEGIN:VTIMEZONE
TZID:Europe/Paris
BEGIN:STANDARD
DTSTART:20210208T000000
RDATE:20210328T030000
TZOFFSETFROM:+0200
TZOFFSETTO:+0100
TZNAME:Europe/Paris CET
END:STANDARD
BEGIN:STANDARD
DTSTART:20211031T020000
RDATE:20220327T030000
TZOFFSETFROM:+0200
TZOFFSETTO:+0100
TZNAME:Europe/Paris CET
END:STANDARD
BEGIN:STANDARD
DTSTART:20221030T020000
RDATE:20230326T030000
TZOFFSETFROM:+0200
TZOFFSETTO:+0100
TZNAME:Europe/Paris CET
END:STANDARD
BEGIN:STANDARD
DTSTART:20231029T020000
RDATE:20240331T030000
TZOFFSETFROM:+0200
TZOFFSETTO:+0100
TZNAME:Europe/Paris CET
END:STANDARD
BEGIN:STANDARD
DTSTART:20241027T020000
RDATE:20250330T030000
TZOFFSETFROM:+0200
TZOFFSETTO:+0100
TZNAME:Europe/Paris CET
END:STANDARD
BEGIN:STANDARD
DTSTART:20251026T020000
RDATE:20260329T030000
TZOFFSETFROM:+0200
TZOFFSETTO:+0100
TZNAME:Europe/Paris CET
END:STANDARD
BEGIN:STANDARD
DTSTART:20261025T020000
RDATE:20270328T030000
TZOFFSETFROM:+0200
TZOFFSETTO:+0100
TZNAME:Europe/Paris CET
END:STANDARD
BEGIN:DAYLIGHT
DTSTART:20210328T030000
RDATE:20211031T020000
TZOFFSETFROM:+0100
TZOFFSETTO:+0200
TZNAME:Europe/Paris CEST
END:DAYLIGHT
BEGIN:DAYLIGHT
DTSTART:20220327T030000
RDATE:20221030T020000
TZOFFSETFROM:+0100
TZOFFSETTO:+0200
TZNAME:Europe/Paris CEST
END:DAYLIGHT
BEGIN:DAYLIGHT
DTSTART:20230326T030000
RDATE:20231029T020000
TZOFFSETFROM:+0100
TZOFFSETTO:+0200
TZNAME:Europe/Paris CEST
END:DAYLIGHT
BEGIN:DAYLIGHT
DTSTART:20240331T030000
RDATE:20241027T020000
TZOFFSETFROM:+0100
TZOFFSETTO:+0200
TZNAME:Europe/Paris CEST
END:DAYLIGHT
BEGIN:DAYLIGHT
DTSTART:20250330T030000
RDATE:20251026T020000
TZOFFSETFROM:+0100
TZOFFSETTO:+0200
TZNAME:Europe/Paris CEST
END:DAYLIGHT
BEGIN:DAYLIGHT
DTSTART:20260329T030000
RDATE:20261025T020000
TZOFFSETFROM:+0100
TZOFFSETTO:+0200
TZNAME:Europe/Paris CEST
END:DAYLIGHT
END:VTIMEZONE
BEGIN:VEVENT
UID:4ddf92a78a0013e0feefba499bf8bbf9
CATEGORIES:Compétition Ski de Fond
CREATED:20211117T190002
SUMMARY:NOCTURNE CHAMP DU FEU Crédit Mutuel Sprint n°6
URL;VALUE=URI:https://skivosges.net/agenda/a-venir/detailevenement/1782/-/nocturne-champ-
 du-feu-credit-mutuel-sprint-n-6?tmpl=component
DESCRIPTION:NOCTURNE CHAMP DU FEU Crédit Mutuel Sprint n°6\n - Codex évenement FMVT0140
 \n - Lieu : La Serva\n - Station : CHAMP DU FEU\n - Piste : Piste école\n -
  Organisateur : 14448 MOLSHEIM SKI NORDIQUE\n - Courriel : RegularLabs.Emai
 lProtector.unCloak("ep_d3956c88");\n - Délégué Technique : GRANDEMANGE PHIL
 IPPEPériode d'inscription à l'evènement du mercredi 02 février 2022 à 00:00
  au lundi 07 février 2022 à 12:00Inscriptions ouvertes aux detenteurs des t
 itres Fédéraux valides suivants : Licenciés Compétiteurs\n - Voir les infor
 mations dans l'agenda... (/index.php?option=com_jevents&amp;task=icalevent.
 detail&amp;evid=1777&amp;Itemid=6289)\n - Vers les résultats... (/index.php
 ?option=com_gskiepreuves&amp;view=afficheresultats&amp;format_option=tous&a
 mp;filter[search]=FMVT0140&amp;filter[date_debut]=09-02-2022&amp;filter[dat
 e_fin]=09-02-2022&amp;code_activite=FOND&amp;Itemid=6289)Epreuves :\n - Le 
 mercredi 09 février 2022\n - Codex épreuve FMVF0141\n - KO - Sprint QUALIFI
 CATION\n - Catégorie(s) : U15 (Filles)\n - Le mercredi 09 février 2022\n - 
 Codex épreuve FMVM0141\n - KO - Sprint QUALIFICATION\n - Catégorie(s) : U15
  (Garçons)\n - Le mercredi 09 février 2022\n - Codex épreuve FMVF0142\n - K
 O - Sprint QUALIFICATION\n - Catégorie(s) : U17 (Dames)\n - Le mercredi 09 
 février 2022\n - Codex épreuve FMVM0142\n - KO - Sprint QUALIFICATION\n - C
 atégorie(s) : U17 (Hommes)\n - Le mercredi 09 février 2022\n - Codex épreuv
 e FMVF0143\n - KO - Sprint QUALIFICATION\n - Catégorie(s) : U20/SEN (Dames)
 \n - Le mercredi 09 février 2022\n - Codex épreuve FMVM0143\n - KO - Sprint
  QUALIFICATION\n - Catégorie(s) : U20/SEN (Hommes)\n - Le mercredi 09 févri
 er 2022\n - Codex épreuve FMVF0144\n - Team Sprint ou Relais Sprint\n - Cat
 égorie(s) : U15 (Filles)\n - Le mercredi 09 février 2022\n - Codex épreuve 
 FMVM0144\n - Team Sprint ou Relais Sprint\n - Catégorie(s) : U15 (Garçons)\
 n - Le mercredi 09 février 2022\n - Codex épreuve FMVF0145\n - Team Sprint 
 ou Relais Sprint\n - Catégorie(s) : U17 (Dames)\n - Le mercredi 09 février 
 2022\n - Codex épreuve FMVM0145\n - KO - Sprint FINAL\n - Catégorie(s) : U1
 7 (Hommes)\n - Le mercredi 09 février 2022\n - Codex épreuve FMVF0146\n - K
 O - Sprint FINAL\n - Catégorie(s) : U20/SEN (Dames)\n - Le mercredi 09 févr
 ier 2022\n - Codex épreuve FMVM0146\n - KO - Sprint FINAL\n - Catégorie(s) 
 : U20/SEN (Hommes)\n - Voir les informations dans l'agenda... (/index.php?o
 ption=com_jevents&amp;task=icalevent.detail&amp;evid=1777&amp;Itemid=6289)\
 n - Vers les résultats... (/index.php?option=com_gskiepreuves&amp;view=affi
 cheresultats&amp;format_option=tous&amp;filter[search]=FMVT0140&amp;filter[
 date_debut]=09-02-2022&amp;filter[date_fin]=09-02-2022&amp;code_activite=FO
 ND&amp;Itemid=6289) Cet évènement a été importé depuis :https://skivosges.n
 et/agenda/a-venir/detailevenement/1782/-/nocturne-champ-du-feu-credit-mutue
 l-sprint-n-6?tmpl=component
X-ALT-DESC;FMTTYPE=text/html:<!-- #gskiepreuve code généré par le plugin jevents pour GskiEpreuves. Ne p
 as modifier cette ligne, ni tout le contenu suivant  #gskiepreuve --><div c
 lass="gski-evenement_infos"><div class="gski-evenement-nom">NOCTURNE CHAMP 
 DU FEU Crédit Mutuel Sprint n°6</div><div class="gski-evenement-report"></d
 iv><ul class="gski-evenement-liste-infos"><li>Codex évenement FMVT0140</li>
 <li>Lieu : La Serva</li><li>Station : CHAMP DU FEU</li><li>Piste : Piste &e
 acute;cole</li><li>Organisateur : 14448 MOLSHEIM SKI NORDIQUE</li><li>Courr
 iel : <!-- Cette adresse électronique est protégée contre les robots spamme
 urs. --><span class="cloaked_email ep_d3956c88"><span data-ep-a="&#112;&#10
 5;&#101;&#114;r&#101;" data-ep-b="&#46;&#102;&#114;"><span data-ep-b="i&#99
 ;a&#98;l&#101;" data-ep-a="&#45;c&#104;&#97;&#114;&#98;"><span data-ep-a="&
 #111;&#110;&#110;i&#101;&#114;" data-ep-b="&#64;nu&#109;&#101;r"></span></s
 pan></span></span><script>RegularLabs.EmailProtector.unCloak("ep_d3956c88")
 ;</script></li><li><span class="gski-evenement-obs">Délégué Technique : GRA
 NDEMANGE PHILIPPE</span></li></ul><div class="gski-evenement-infos-2"><div 
 class="gski-evenement-info-inscriptions"><div class="gski-evenement-inscrip
 tions-periodes">Période d'inscription à l'evènement du mercredi 02 février 
 2022 à 00:00 au lundi 07 février 2022 à 12:00<div class="gski-evenement-ins
 criptions-types-titres">Inscriptions ouvertes aux detenteurs des titres Féd
 éraux valides suivants : Licenciés Compétiteurs</div></div></div><div class
 ="gskiepreuves-links"><ul><li><a href="https://skivosges.net/index.php?opti
 on=com_jevents&task=icalevent.detail&evid=1777&Itemid=6289">Voir les inform
 ations dans l'agenda...</a></li><li><a href="https://skivosges.net/index.ph
 p?option=com_gskiepreuves&view=afficheresultats&format_option=tous&filter[s
 earch]=FMVT0140&filter[date_debut]=09-02-2022&filter[date_fin]=09-02-2022&c
 ode_activite=FOND&Itemid=6289">Vers les résultats...</a></li></ul></div><di
 v class="gski-evenement-epreuves"><div class="gski-evenement-epreuves-titre
 s">Epreuves :</div><ul class="gski-evenement-epreuves-list"><li><div class=
 "gski-epreuve-date">Le mercredi 09 février 2022</div><ul class="gski-epreuv
 e-liste-infos"><li>Codex épreuve FMVF0141</li><li>KO - Sprint QUALIFICATION
 </li><li>Catégorie(s) : U15 (Filles)</li></ul></li><li><div class="gski-epr
 euve-date">Le mercredi 09 février 2022</div><ul class="gski-epreuve-liste-i
 nfos"><li>Codex épreuve FMVM0141</li><li>KO - Sprint QUALIFICATION</li><li>
 Catégorie(s) : U15 (Garçons)</li></ul></li><li><div class="gski-epreuve-dat
 e">Le mercredi 09 février 2022</div><ul class="gski-epreuve-liste-infos"><l
 i>Codex épreuve FMVF0142</li><li>KO - Sprint QUALIFICATION</li><li>Catégori
 e(s) : U17 (Dames)</li></ul></li><li><div class="gski-epreuve-date">Le merc
 redi 09 février 2022</div><ul class="gski-epreuve-liste-infos"><li>Codex ép
 reuve FMVM0142</li><li>KO - Sprint QUALIFICATION</li><li>Catégorie(s) : U17
  (Hommes)</li></ul></li><li><div class="gski-epreuve-date">Le mercredi 09 f
 évrier 2022</div><ul class="gski-epreuve-liste-infos"><li>Codex épreuve FMV
 F0143</li><li>KO - Sprint QUALIFICATION</li><li>Catégorie(s) : U20/SEN (Dam
 es)</li></ul></li><li><div class="gski-epreuve-date">Le mercredi 09 février
  2022</div><ul class="gski-epreuve-liste-infos"><li>Codex épreuve FMVM0143<
 /li><li>KO - Sprint QUALIFICATION</li><li>Catégorie(s) : U20/SEN (Hommes)</
 li></ul></li><li><div class="gski-epreuve-date">Le mercredi 09 février 2022
 </div><ul class="gski-epreuve-liste-infos"><li>Codex épreuve FMVF0144</li><
 li>Team Sprint ou Relais Sprint</li><li>Catégorie(s) : U15 (Filles)</li></u
 l></li><li><div class="gski-epreuve-date">Le mercredi 09 février 2022</div>
 <ul class="gski-epreuve-liste-infos"><li>Codex épreuve FMVM0144</li><li>Tea
 m Sprint ou Relais Sprint</li><li>Catégorie(s) : U15 (Garçons)</li></ul></l
 i><li><div class="gski-epreuve-date">Le mercredi 09 février 2022</div><ul c
 lass="gski-epreuve-liste-infos"><li>Codex épreuve FMVF0145</li><li>Team Spr
 int ou Relais Sprint</li><li>Catégorie(s) : U17 (Dames)</li></ul></li><li><
 div class="gski-epreuve-date">Le mercredi 09 février 2022</div><ul class="g
 ski-epreuve-liste-infos"><li>Codex épreuve FMVM0145</li><li>KO - Sprint FIN
 AL</li><li>Catégorie(s) : U17 (Hommes)</li></ul></li><li><div class="gski-e
 preuve-date">Le mercredi 09 février 2022</div><ul class="gski-epreuve-liste
 -infos"><li>Codex épreuve FMVF0146</li><li>KO - Sprint FINAL</li><li>Catégo
 rie(s) : U20/SEN (Dames)</li></ul></li><li><div class="gski-epreuve-date">L
 e mercredi 09 février 2022</div><ul class="gski-epreuve-liste-infos"><li>Co
 dex épreuve FMVM0146</li><li>KO - Sprint FINAL</li><li>Catégorie(s) : U20/S
 EN (Hommes)</li></ul></li></ul></div><div class="gskiepreuves-links"><ul><l
 i><a href="https://skivosges.net/index.php?option=com_jevents&task=icaleven
 t.detail&evid=1777&Itemid=6289">Voir les informations dans l'agenda...</a><
 /li><li><a href="https://skivosges.net/index.php?option=com_gskiepreuves&vi
 ew=afficheresultats&format_option=tous&filter[search]=FMVT0140&filter[date_
 debut]=09-02-2022&filter[date_fin]=09-02-2022&code_activite=FOND&Itemid=628
 9">Vers les résultats...</a></li></ul></div></div"><!-- #/gskiepreuve fin d
 u dode généré par le plugin jevents pour GskiEpreuves. . Ne pas modifier ce
 tte ligne, ni tout le contenu précedant.  #/gskiepreuve --> <a href="https:
 //skivosges.net/agenda/a-venir/detailevenement/1782/-/nocturne-champ-du-feu
 -credit-mutuel-sprint-n-6?tmpl=component">Cet évènement a été importé depui
 s :https://skivosges.net/agenda/a-venir/detailevenement/1782/-/nocturne-cha
 mp-du-feu-credit-mutuel-sprint-n-6?tmpl=component</a>DTSTAMP:20260421T015556
DTSTART;TZID=Europe/Paris;VALUE=DATE:20220209
DTEND;TZID=Europe/Paris;VALUE=DATE:20220210
SEQUENCE:0
TRANSP:OPAQUE
END:VEVENT
END:VCALENDAR