BEGIN:VCALENDAR
VERSION:2.0
PRODID:-//jEvents 2.0 for Joomla//EN
CALSCALE:GREGORIAN
METHOD:PUBLISH
BEGIN:VTIMEZONE
TZID:Europe/Paris
BEGIN:STANDARD
DTSTART:20210209T000000
RDATE:20210328T030000
TZOFFSETFROM:+0200
TZOFFSETTO:+0100
TZNAME:Europe/Paris CET
END:STANDARD
BEGIN:STANDARD
DTSTART:20211031T020000
RDATE:20220327T030000
TZOFFSETFROM:+0200
TZOFFSETTO:+0100
TZNAME:Europe/Paris CET
END:STANDARD
BEGIN:STANDARD
DTSTART:20221030T020000
RDATE:20230326T030000
TZOFFSETFROM:+0200
TZOFFSETTO:+0100
TZNAME:Europe/Paris CET
END:STANDARD
BEGIN:STANDARD
DTSTART:20231029T020000
RDATE:20240331T030000
TZOFFSETFROM:+0200
TZOFFSETTO:+0100
TZNAME:Europe/Paris CET
END:STANDARD
BEGIN:STANDARD
DTSTART:20241027T020000
RDATE:20250330T030000
TZOFFSETFROM:+0200
TZOFFSETTO:+0100
TZNAME:Europe/Paris CET
END:STANDARD
BEGIN:STANDARD
DTSTART:20251026T020000
RDATE:20260329T030000
TZOFFSETFROM:+0200
TZOFFSETTO:+0100
TZNAME:Europe/Paris CET
END:STANDARD
BEGIN:STANDARD
DTSTART:20261025T020000
RDATE:20270328T030000
TZOFFSETFROM:+0200
TZOFFSETTO:+0100
TZNAME:Europe/Paris CET
END:STANDARD
BEGIN:DAYLIGHT
DTSTART:20210328T030000
RDATE:20211031T020000
TZOFFSETFROM:+0100
TZOFFSETTO:+0200
TZNAME:Europe/Paris CEST
END:DAYLIGHT
BEGIN:DAYLIGHT
DTSTART:20220327T030000
RDATE:20221030T020000
TZOFFSETFROM:+0100
TZOFFSETTO:+0200
TZNAME:Europe/Paris CEST
END:DAYLIGHT
BEGIN:DAYLIGHT
DTSTART:20230326T030000
RDATE:20231029T020000
TZOFFSETFROM:+0100
TZOFFSETTO:+0200
TZNAME:Europe/Paris CEST
END:DAYLIGHT
BEGIN:DAYLIGHT
DTSTART:20240331T030000
RDATE:20241027T020000
TZOFFSETFROM:+0100
TZOFFSETTO:+0200
TZNAME:Europe/Paris CEST
END:DAYLIGHT
BEGIN:DAYLIGHT
DTSTART:20250330T030000
RDATE:20251026T020000
TZOFFSETFROM:+0100
TZOFFSETTO:+0200
TZNAME:Europe/Paris CEST
END:DAYLIGHT
BEGIN:DAYLIGHT
DTSTART:20260329T030000
RDATE:20261025T020000
TZOFFSETFROM:+0100
TZOFFSETTO:+0200
TZNAME:Europe/Paris CEST
END:DAYLIGHT
END:VTIMEZONE
BEGIN:VEVENT
UID:86080884d2d7dd78ecc2d3be3607f024
CATEGORIES:Compétition Ski Alpin
CREATED:20211117T190002
SUMMARY:GP International Citadin
URL;VALUE=URI:https://skivosges.net/agenda/a-venir/detailevenement/1783/-/gp-internationa
 l-citadin?tmpl=component
DESCRIPTION:GP International Citadin\n - Codex évenement FRA1155\n - Lieu : Gerardmer\n
  - Station : Gérardmer\n - Organisateur : 14089 GERARDMER SKI ALPIN\n - Cou
 rriel : RegularLabs.EmailProtector.unCloak("ep_0249ed29");\n - Téléphone : 
 03 29 63 41 45Période d'inscription à l'evènement du jeudi 03 février 2022 
 à 00:00 au mardi 08 février 2022 à 12:00Inscriptions ouvertes aux detenteur
 s des titres Fédéraux valides suivants : Licenciés Compétiteurs\n - Voir le
 s informations dans l'agenda... (/index.php?option=com_jevents&amp;task=ica
 levent.detail&amp;evid=1778&amp;Itemid=6289)\n - Vers les résultats... (/in
 dex.php?option=com_gskiepreuves&amp;view=afficheresultats&amp;format_option
 =tous&amp;filter[search]=FRA1155&amp;filter[date_debut]=10-02-2022&amp;filt
 er[date_fin]=10-02-2022&amp;code_activite=ALP&amp;Itemid=6289)Epreuves :\n 
 - Le jeudi 10 février 2022\n - Codex épreuve 6229\n - Slalom Geant\n - Caté
 gorie(s) : Toutes les Categories (Filles)\n - Le jeudi 10 février 2022\n - 
 Codex épreuve 1155\n - Slalom Geant\n - Catégorie(s) : Toutes les Categorie
 s (Garçons)\n - Le jeudi 10 février 2022\n - Codex épreuve 6230\n - Slalom 
 Geant\n - Catégorie(s) : Toutes les Categories (Filles)\n - Le jeudi 10 fév
 rier 2022\n - Codex épreuve 1156\n - Slalom Geant\n - Catégorie(s) : Toutes
  les Categories (Garçons)\n - Voir les informations dans l'agenda... (/inde
 x.php?option=com_jevents&amp;task=icalevent.detail&amp;evid=1778&amp;Itemid
 =6289)\n - Vers les résultats... (/index.php?option=com_gskiepreuves&amp;vi
 ew=afficheresultats&amp;format_option=tous&amp;filter[search]=FRA1155&amp;f
 ilter[date_debut]=10-02-2022&amp;filter[date_fin]=10-02-2022&amp;code_activ
 ite=ALP&amp;Itemid=6289) Cet évènement a été importé depuis :https://skivos
 ges.net/agenda/a-venir/detailevenement/1783/-/gp-international-citadin?tmpl
 =component
X-ALT-DESC;FMTTYPE=text/html:<!-- #gskiepreuve code généré par le plugin jevents pour GskiEpreuves. Ne p
 as modifier cette ligne, ni tout le contenu suivant  #gskiepreuve --><div c
 lass="gski-evenement_infos"><div class="gski-evenement-nom">GP Internationa
 l Citadin</div><div class="gski-evenement-report"></div><ul class="gski-eve
 nement-liste-infos"><li>Codex évenement FRA1155</li><li>Lieu : Gerardmer</l
 i><li>Station : G&eacute;rardmer</li><li>Organisateur : 14089 GERARDMER SKI
  ALPIN</li><li>Courriel : <!-- Cette adresse électronique est protégée cont
 re les robots spammeurs. --><span class="cloaked_email ep_0249ed29"><span d
 ata-ep-a="&#103;&#101;ra&#114;" data-ep-b="&#101;&#46;f&#114;"><span data-e
 p-a="&#100;&#109;&#101;&#114;&#45;" data-ep-b="&#111;rang"><span data-ep-a=
 "&#115;&#107;i&#45;&#97;" data-ep-b="l&#112;i&#110;&#64;"></span></span></s
 pan></span><script>RegularLabs.EmailProtector.unCloak("ep_0249ed29");</scri
 pt></li><li>Téléphone : 03 29 63 41 45</li></ul><div class="gski-evenement-
 infos-2"><div class="gski-evenement-info-inscriptions"><div class="gski-eve
 nement-inscriptions-periodes">Période d'inscription à l'evènement du jeudi 
 03 février 2022 à 00:00 au mardi 08 février 2022 à 12:00<div class="gski-ev
 enement-inscriptions-types-titres">Inscriptions ouvertes aux detenteurs des
  titres Fédéraux valides suivants : Licenciés Compétiteurs</div></div></div
 ><div class="gskiepreuves-links"><ul><li><a href="https://skivosges.net/ind
 ex.php?option=com_jevents&task=icalevent.detail&evid=1778&Itemid=6289">Voir
  les informations dans l'agenda...</a></li><li><a href="https://skivosges.n
 et/index.php?option=com_gskiepreuves&view=afficheresultats&format_option=to
 us&filter[search]=FRA1155&filter[date_debut]=10-02-2022&filter[date_fin]=10
 -02-2022&code_activite=ALP&Itemid=6289">Vers les résultats...</a></li></ul>
 </div><div class="gski-evenement-epreuves"><div class="gski-evenement-epreu
 ves-titres">Epreuves :</div><ul class="gski-evenement-epreuves-list"><li><d
 iv class="gski-epreuve-date">Le jeudi 10 février 2022</div><ul class="gski-
 epreuve-liste-infos"><li>Codex épreuve 6229</li><li>Slalom Geant</li><li>Ca
 tégorie(s) : Toutes les Categories (Filles)</li></ul></li><li><div class="g
 ski-epreuve-date">Le jeudi 10 février 2022</div><ul class="gski-epreuve-lis
 te-infos"><li>Codex épreuve 1155</li><li>Slalom Geant</li><li>Catégorie(s) 
 : Toutes les Categories (Garçons)</li></ul></li><li><div class="gski-epreuv
 e-date">Le jeudi 10 février 2022</div><ul class="gski-epreuve-liste-infos">
 <li>Codex épreuve 6230</li><li>Slalom Geant</li><li>Catégorie(s) : Toutes l
 es Categories (Filles)</li></ul></li><li><div class="gski-epreuve-date">Le 
 jeudi 10 février 2022</div><ul class="gski-epreuve-liste-infos"><li>Codex é
 preuve 1156</li><li>Slalom Geant</li><li>Catégorie(s) : Toutes les Categori
 es (Garçons)</li></ul></li></ul></div><div class="gskiepreuves-links"><ul><
 li><a href="https://skivosges.net/index.php?option=com_jevents&task=icaleve
 nt.detail&evid=1778&Itemid=6289">Voir les informations dans l'agenda...</a>
 </li><li><a href="https://skivosges.net/index.php?option=com_gskiepreuves&v
 iew=afficheresultats&format_option=tous&filter[search]=FRA1155&filter[date_
 debut]=10-02-2022&filter[date_fin]=10-02-2022&code_activite=ALP&Itemid=6289
 ">Vers les résultats...</a></li></ul></div></div"><!-- #/gskiepreuve fin du
  dode généré par le plugin jevents pour GskiEpreuves. . Ne pas modifier cet
 te ligne, ni tout le contenu précedant.  #/gskiepreuve --> <a href="https:/
 /skivosges.net/agenda/a-venir/detailevenement/1783/-/gp-international-citad
 in?tmpl=component">Cet évènement a été importé depuis :https://skivosges.ne
 t/agenda/a-venir/detailevenement/1783/-/gp-international-citadin?tmpl=compo
 nent</a>DTSTAMP:20260421T051428
DTSTART;TZID=Europe/Paris;VALUE=DATE:20220210
DTEND;TZID=Europe/Paris;VALUE=DATE:20220211
SEQUENCE:0
TRANSP:OPAQUE
END:VEVENT
END:VCALENDAR