BEGIN:VCALENDAR
VERSION:2.0
PRODID:-//jEvents 2.0 for Joomla//EN
CALSCALE:GREGORIAN
METHOD:PUBLISH
BEGIN:VTIMEZONE
TZID:Europe/Paris
BEGIN:STANDARD
DTSTART:20210211T000000
RDATE:20210328T030000
TZOFFSETFROM:+0200
TZOFFSETTO:+0100
TZNAME:Europe/Paris CET
END:STANDARD
BEGIN:STANDARD
DTSTART:20211031T020000
RDATE:20220327T030000
TZOFFSETFROM:+0200
TZOFFSETTO:+0100
TZNAME:Europe/Paris CET
END:STANDARD
BEGIN:STANDARD
DTSTART:20221030T020000
RDATE:20230326T030000
TZOFFSETFROM:+0200
TZOFFSETTO:+0100
TZNAME:Europe/Paris CET
END:STANDARD
BEGIN:STANDARD
DTSTART:20231029T020000
RDATE:20240331T030000
TZOFFSETFROM:+0200
TZOFFSETTO:+0100
TZNAME:Europe/Paris CET
END:STANDARD
BEGIN:STANDARD
DTSTART:20241027T020000
RDATE:20250330T030000
TZOFFSETFROM:+0200
TZOFFSETTO:+0100
TZNAME:Europe/Paris CET
END:STANDARD
BEGIN:STANDARD
DTSTART:20251026T020000
RDATE:20260329T030000
TZOFFSETFROM:+0200
TZOFFSETTO:+0100
TZNAME:Europe/Paris CET
END:STANDARD
BEGIN:STANDARD
DTSTART:20261025T020000
RDATE:20270328T030000
TZOFFSETFROM:+0200
TZOFFSETTO:+0100
TZNAME:Europe/Paris CET
END:STANDARD
BEGIN:DAYLIGHT
DTSTART:20210328T030000
RDATE:20211031T020000
TZOFFSETFROM:+0100
TZOFFSETTO:+0200
TZNAME:Europe/Paris CEST
END:DAYLIGHT
BEGIN:DAYLIGHT
DTSTART:20220327T030000
RDATE:20221030T020000
TZOFFSETFROM:+0100
TZOFFSETTO:+0200
TZNAME:Europe/Paris CEST
END:DAYLIGHT
BEGIN:DAYLIGHT
DTSTART:20230326T030000
RDATE:20231029T020000
TZOFFSETFROM:+0100
TZOFFSETTO:+0200
TZNAME:Europe/Paris CEST
END:DAYLIGHT
BEGIN:DAYLIGHT
DTSTART:20240331T030000
RDATE:20241027T020000
TZOFFSETFROM:+0100
TZOFFSETTO:+0200
TZNAME:Europe/Paris CEST
END:DAYLIGHT
BEGIN:DAYLIGHT
DTSTART:20250330T030000
RDATE:20251026T020000
TZOFFSETFROM:+0100
TZOFFSETTO:+0200
TZNAME:Europe/Paris CEST
END:DAYLIGHT
BEGIN:DAYLIGHT
DTSTART:20260329T030000
RDATE:20261025T020000
TZOFFSETFROM:+0100
TZOFFSETTO:+0200
TZNAME:Europe/Paris CEST
END:DAYLIGHT
END:VTIMEZONE
BEGIN:VEVENT
UID:e14304f7d4dbad943c1fc7a16c330db8
CATEGORIES:Compétition Ski Alpin
CREATED:20211117T190002
SUMMARY:GP International Citadin
URL;VALUE=URI:https://skivosges.net/agenda/a-venir/detailevenement/1784/-/gp-internationa
 l-citadin?tmpl=component
DESCRIPTION:<!-- #gskiepreuve code généré par le plugin jevents pour GskiEpreuves. Ne p
 as modifier cette ligne, ni tout le contenu suivant  #gskiepreuve --><div c
 lass="gski-evenement_infos"><div class="gski-evenement-nom">GP Internationa
 l Citadin</div><div class="gski-evenement-report"></div><ul class="gski-eve
 nement-liste-infos"><li>Codex évenement FRA1157</li><li>Lieu : Markstein</l
 i><li>Station : Markstein</li><li>Organisateur : 14186 S.C VALLEE DE WESSER
 LING</li><li>Courriel : <!-- Cette adresse électronique est protégée contre
  les robots spammeurs. --><span class="cloaked_email ep_2f827e33"><span dat
 a-ep-a="&#115;c&#118;&#119;" data-ep-b="m"><span data-ep-a="&#101;s&#115;&#
 101;" data-ep-b="&#108;&#46;&#99;&#111;"><span data-ep-a="r&#108;&#105;&#11
 0;" data-ep-b="g&#64;ao"></span></span></span></span><script>RegularLabs.Em
 ailProtector.unCloak("ep_2f827e33");</script></li><li>Téléphone : 03 89 82 
 78 08</li></ul><div class="gski-evenement-infos-2"><div class="gski-eveneme
 nt-info-inscriptions"><div class="gski-evenement-inscriptions-periodes">Pér
 iode d'inscription à l'evènement du samedi 05 février 2022 à 00:00 au jeudi
  10 février 2022 à 12:00<div class="gski-evenement-inscriptions-types-titre
 s">Inscriptions ouvertes aux detenteurs des titres Fédéraux valides suivant
 s : Licenciés Compétiteurs</div></div></div><div class="gskiepreuves-links"
 ><ul><li><a href="/index.php?option=com_jevents&task=icalevent.detail&evid=
 1779&Itemid=6289">Voir les informations dans l'agenda...</a></li><li><a hre
 f="/index.php?option=com_gskiepreuves&view=afficheresultats&format_option=t
 ous&filter[search]=FRA1157&filter[date_debut]=12-02-2022&filter[date_fin]=1
 2-02-2022&code_activite=ALP&Itemid=6289">Vers les résultats...</a></li><li>
 Publications concernant cet évènement :<ul><li><a href="/index.php?option=c
 om_content&view=article&id=7603&Itemid=6289">Samedi 12 Février 2022 à 22:49
  : Le 12/02/2022 Markstein Résultats FIS</a></li></ul></li></ul></div><div 
 class="gski-evenement-epreuves"><div class="gski-evenement-epreuves-titres"
 >Epreuves :</div><ul class="gski-evenement-epreuves-list"><li><div class="g
 ski-epreuve-date">Le samedi 12 février 2022</div><ul class="gski-epreuve-li
 ste-infos"><li>Codex épreuve 6231</li><li>Slalom</li><li>Catégorie(s) : Tou
 tes les Categories (Filles)</li></ul></li><li><div class="gski-epreuve-date
 ">Le samedi 12 février 2022</div><ul class="gski-epreuve-liste-infos"><li>C
 odex épreuve 1157</li><li>Slalom</li><li>Catégorie(s) : Toutes les Categori
 es (Garçons)</li></ul></li><li><div class="gski-epreuve-date">Le samedi 12 
 février 2022</div><ul class="gski-epreuve-liste-infos"><li>Codex épreuve 62
 32</li><li>Slalom</li><li>Catégorie(s) : Toutes les Categories (Filles)</li
 ></ul></li><li><div class="gski-epreuve-date">Le samedi 12 février 2022</di
 v><ul class="gski-epreuve-liste-infos"><li>Codex épreuve 1159</li><li>Slalo
 m</li><li>Catégorie(s) : Toutes les Categories (Garçons)</li></ul></li></ul
 ></div><div class="gskiepreuves-links"><ul><li><a href="/index.php?option=c
 om_jevents&task=icalevent.detail&evid=1779&Itemid=6289">Voir les informatio
 ns dans l'agenda...</a></li><li><a href="/index.php?option=com_gskiepreuves
 &view=afficheresultats&format_option=tous&filter[search]=FRA1157&filter[dat
 e_debut]=12-02-2022&filter[date_fin]=12-02-2022&code_activite=ALP&Itemid=62
 89">Vers les résultats...</a></li><li>Publications concernant cet évènement
  :<ul><li><a href="/index.php?option=com_content&view=article&id=7603&Itemi
 d=6289">Samedi 12 Février 2022 à 22:49 : Le 12/02/2022 Markstein Résultats 
 FIS</a></li></ul></li></ul></div></div"><!-- #/gskiepreuve fin du dode géné
 ré par le plugin jevents pour GskiEpreuves. . Ne pas modifier cette ligne, 
 ni tout le contenu précedant.  #/gskiepreuve --> <a href="https://skivosges
 .net/agenda/a-venir/detailevenement/1784/-/gp-international-citadin?tmpl=co
 mponent">Cet évènement a été importé depuis :https://skivosges.net/agenda/a
 -venir/detailevenement/1784/-/gp-international-citadin?tmpl=component</a>
X-ALT-DESC;FMTTYPE=text/html:<!-- #gskiepreuve code généré par le plugin jevents pour GskiEpreuves. Ne p
 as modifier cette ligne, ni tout le contenu suivant  #gskiepreuve --><div c
 lass="gski-evenement_infos"><div class="gski-evenement-nom">GP Internationa
 l Citadin</div><div class="gski-evenement-report"></div><ul class="gski-eve
 nement-liste-infos"><li>Codex évenement FRA1157</li><li>Lieu : Markstein</l
 i><li>Station : Markstein</li><li>Organisateur : 14186 S.C VALLEE DE WESSER
 LING</li><li>Courriel : <!-- Cette adresse électronique est protégée contre
  les robots spammeurs. --><span class="cloaked_email ep_2f827e33"><span dat
 a-ep-a="&#115;c&#118;&#119;" data-ep-b="m"><span data-ep-a="&#101;s&#115;&#
 101;" data-ep-b="&#108;&#46;&#99;&#111;"><span data-ep-a="r&#108;&#105;&#11
 0;" data-ep-b="g&#64;ao"></span></span></span></span><script>RegularLabs.Em
 ailProtector.unCloak("ep_2f827e33");</script></li><li>Téléphone : 03 89 82 
 78 08</li></ul><div class="gski-evenement-infos-2"><div class="gski-eveneme
 nt-info-inscriptions"><div class="gski-evenement-inscriptions-periodes">Pér
 iode d'inscription à l'evènement du samedi 05 février 2022 à 00:00 au jeudi
  10 février 2022 à 12:00<div class="gski-evenement-inscriptions-types-titre
 s">Inscriptions ouvertes aux detenteurs des titres Fédéraux valides suivant
 s : Licenciés Compétiteurs</div></div></div><div class="gskiepreuves-links"
 ><ul><li><a href="https://skivosges.net/index.php?option=com_jevents&task=i
 calevent.detail&evid=1779&Itemid=6289">Voir les informations dans l'agenda.
 ..</a></li><li><a href="https://skivosges.net/index.php?option=com_gskiepre
 uves&view=afficheresultats&format_option=tous&filter[search]=FRA1157&filter
 [date_debut]=12-02-2022&filter[date_fin]=12-02-2022&code_activite=ALP&Itemi
 d=6289">Vers les résultats...</a></li><li>Publications concernant cet évène
 ment :<ul><li><a href="https://skivosges.net/index.php?option=com_content&v
 iew=article&id=7603&Itemid=6289">Samedi 12 Février 2022 à 22:49 : Le 12/02/
 2022 Markstein Résultats FIS</a></li></ul></li></ul></div><div class="gski-
 evenement-epreuves"><div class="gski-evenement-epreuves-titres">Epreuves :<
 /div><ul class="gski-evenement-epreuves-list"><li><div class="gski-epreuve-
 date">Le samedi 12 février 2022</div><ul class="gski-epreuve-liste-infos"><
 li>Codex épreuve 6231</li><li>Slalom</li><li>Catégorie(s) : Toutes les Cate
 gories (Filles)</li></ul></li><li><div class="gski-epreuve-date">Le samedi 
 12 février 2022</div><ul class="gski-epreuve-liste-infos"><li>Codex épreuve
  1157</li><li>Slalom</li><li>Catégorie(s) : Toutes les Categories (Garçons)
 </li></ul></li><li><div class="gski-epreuve-date">Le samedi 12 février 2022
 </div><ul class="gski-epreuve-liste-infos"><li>Codex épreuve 6232</li><li>S
 lalom</li><li>Catégorie(s) : Toutes les Categories (Filles)</li></ul></li><
 li><div class="gski-epreuve-date">Le samedi 12 février 2022</div><ul class=
 "gski-epreuve-liste-infos"><li>Codex épreuve 1159</li><li>Slalom</li><li>Ca
 tégorie(s) : Toutes les Categories (Garçons)</li></ul></li></ul></div><div 
 class="gskiepreuves-links"><ul><li><a href="https://skivosges.net/index.php
 ?option=com_jevents&task=icalevent.detail&evid=1779&Itemid=6289">Voir les i
 nformations dans l'agenda...</a></li><li><a href="https://skivosges.net/ind
 ex.php?option=com_gskiepreuves&view=afficheresultats&format_option=tous&fil
 ter[search]=FRA1157&filter[date_debut]=12-02-2022&filter[date_fin]=12-02-20
 22&code_activite=ALP&Itemid=6289">Vers les résultats...</a></li><li>Publica
 tions concernant cet évènement :<ul><li><a href="https://skivosges.net/inde
 x.php?option=com_content&view=article&id=7603&Itemid=6289">Samedi 12 Févrie
 r 2022 à 22:49 : Le 12/02/2022 Markstein Résultats FIS</a></li></ul></li></
 ul></div></div"><!-- #/gskiepreuve fin du dode généré par le plugin jevents
  pour GskiEpreuves. . Ne pas modifier cette ligne, ni tout le contenu préce
 dant.  #/gskiepreuve --> <a href="https://skivosges.net/agenda/a-venir/deta
 ilevenement/1784/-/gp-international-citadin?tmpl=component">Cet évènement a
  été importé depuis :https://skivosges.net/agenda/a-venir/detailevenement/1
 784/-/gp-international-citadin?tmpl=component</a>DTSTAMP:20260421T051505
DTSTART;TZID=Europe/Paris;VALUE=DATE:20220212
DTEND;TZID=Europe/Paris;VALUE=DATE:20220213
SEQUENCE:0
TRANSP:OPAQUE
END:VEVENT
END:VCALENDAR