BEGIN:VCALENDAR
VERSION:2.0
PRODID:-//jEvents 2.0 for Joomla//EN
CALSCALE:GREGORIAN
METHOD:PUBLISH
BEGIN:VTIMEZONE
TZID:Europe/Paris
BEGIN:STANDARD
DTSTART:20210212T000000
RDATE:20210328T030000
TZOFFSETFROM:+0200
TZOFFSETTO:+0100
TZNAME:Europe/Paris CET
END:STANDARD
BEGIN:STANDARD
DTSTART:20211031T020000
RDATE:20220327T030000
TZOFFSETFROM:+0200
TZOFFSETTO:+0100
TZNAME:Europe/Paris CET
END:STANDARD
BEGIN:STANDARD
DTSTART:20221030T020000
RDATE:20230326T030000
TZOFFSETFROM:+0200
TZOFFSETTO:+0100
TZNAME:Europe/Paris CET
END:STANDARD
BEGIN:STANDARD
DTSTART:20231029T020000
RDATE:20240331T030000
TZOFFSETFROM:+0200
TZOFFSETTO:+0100
TZNAME:Europe/Paris CET
END:STANDARD
BEGIN:STANDARD
DTSTART:20241027T020000
RDATE:20250330T030000
TZOFFSETFROM:+0200
TZOFFSETTO:+0100
TZNAME:Europe/Paris CET
END:STANDARD
BEGIN:STANDARD
DTSTART:20251026T020000
RDATE:20260329T030000
TZOFFSETFROM:+0200
TZOFFSETTO:+0100
TZNAME:Europe/Paris CET
END:STANDARD
BEGIN:STANDARD
DTSTART:20261025T020000
RDATE:20270328T030000
TZOFFSETFROM:+0200
TZOFFSETTO:+0100
TZNAME:Europe/Paris CET
END:STANDARD
BEGIN:DAYLIGHT
DTSTART:20210328T030000
RDATE:20211031T020000
TZOFFSETFROM:+0100
TZOFFSETTO:+0200
TZNAME:Europe/Paris CEST
END:DAYLIGHT
BEGIN:DAYLIGHT
DTSTART:20220327T030000
RDATE:20221030T020000
TZOFFSETFROM:+0100
TZOFFSETTO:+0200
TZNAME:Europe/Paris CEST
END:DAYLIGHT
BEGIN:DAYLIGHT
DTSTART:20230326T030000
RDATE:20231029T020000
TZOFFSETFROM:+0100
TZOFFSETTO:+0200
TZNAME:Europe/Paris CEST
END:DAYLIGHT
BEGIN:DAYLIGHT
DTSTART:20240331T030000
RDATE:20241027T020000
TZOFFSETFROM:+0100
TZOFFSETTO:+0200
TZNAME:Europe/Paris CEST
END:DAYLIGHT
BEGIN:DAYLIGHT
DTSTART:20250330T030000
RDATE:20251026T020000
TZOFFSETFROM:+0100
TZOFFSETTO:+0200
TZNAME:Europe/Paris CEST
END:DAYLIGHT
BEGIN:DAYLIGHT
DTSTART:20260329T030000
RDATE:20261025T020000
TZOFFSETFROM:+0100
TZOFFSETTO:+0200
TZNAME:Europe/Paris CEST
END:DAYLIGHT
END:VTIMEZONE
BEGIN:VEVENT
UID:40f516939f4687907e86484def555f4d
CATEGORIES:Opens et Promos (alpin)
CREATED:20211117T190002
SUMMARY:OPEN Prix du Bar Le Calice  ANNULEE **REPORTE**
URL;VALUE=URI:https://skivosges.net/agenda/a-venir/detailevenement/1786/-/open-prix-du-ba
 r-le-calice-annulee-reporte?tmpl=component
DESCRIPTION:<!-- #gskiepreuve code généré par le plugin jevents pour GskiEpreuves. Ne p
 as modifier cette ligne, ni tout le contenu suivant  #gskiepreuve --><div c
 lass="gski-evenement_infos"><div class="gski-evenement-nom">OPEN Prix du Ba
 r Le Calice  ANNULEE</div><div class="gski-evenement-report"> <font class="
 gskiattention">(Epreuve reportée, date à determiner)</font></div><ul class=
 "gski-evenement-liste-infos"><li>Codex évenement AMVT0410</li><li>Lieu : LA
 NGENBERG</li><li>Station : BALLON D ALSACE</li><li>Piste : STADE DE SLALOM<
 /li><li>Organisateur : 14063 SKIEURS DE ST MAURICE/MOSELLE</li><li>Courriel
  : <!-- Cette adresse électronique est protégée contre les robots spammeurs
 . --><span class="cloaked_email ep_544edc2b"><span data-ep-b="" data-ep-a="
 d&#97;&#110;i"><span data-ep-a="&#101;l&#46;m" data-ep-b="r&#46;&#102;&#114
 ;"><span data-ep-b="&#53;&#64;sf" data-ep-a="&#111;&#114;&#101;l"></span></
 span></span></span><script>RegularLabs.EmailProtector.unCloak("ep_544edc2b"
 );</script></li><li><span class="gski-evenement-obs">Délégué Technique : NO
 EL JEAN CHRISTOPHE</span></li></ul><div class="gski-evenement-infos-2"><div
  class="gski-evenement-info-inscriptions"><div class="gski-evenement-inscri
 ptions-periodes">Période d'inscription à l'evènement du lundi 07 février 20
 22 à 08:00 au vendredi 11 février 2022 à 19:00<div class="gski-evenement-in
 scriptions-types-titres">Inscriptions ouvertes aux detenteurs des titres Fé
 déraux valides suivants : Licenciés Compétiteurs</div></div></div><div clas
 s="gskiepreuves-links"><ul><li><a href="/index.php?option=com_jevents&task=
 icalevent.detail&evid=1781&Itemid=6289">Voir les informations dans l'agenda
 ...</a></li><li>Publications concernant cet évènement :<ul><li><a href="/in
 dex.php?option=com_content&view=article&id=7601&Itemid=6289">Samedi 12 Févr
 ier 2022 à 08:57 : Le 13/02/2022 BALLON D'ALSACE Informations</a></li></ul>
 </li></ul></div><div class="gski-evenement-epreuves"><div class="gski-evene
 ment-epreuves-titres">Epreuves :</div><ul class="gski-evenement-epreuves-li
 st"><li><div class="gski-epreuve-date">Le dimanche 13 février 2022 à 10:00<
 /div><ul class="gski-epreuve-liste-infos"><li>Codex épreuve AMVM0411</li><l
 i>Parallele</li><li>Catégorie(s) : U14/U16 (Garçons)</li></ul></li><li><div
  class="gski-epreuve-date">Le dimanche 13 février 2022</div><ul class="gski
 -epreuve-liste-infos"><li>Codex épreuve AMVF0411</li><li>Parallele</li><li>
 Catégorie(s) : U14/U16 (Filles)</li></ul></li><li><div class="gski-epreuve-
 date">Le dimanche 13 février 2022 à 10:00</div><ul class="gski-epreuve-list
 e-infos"><li>Codex épreuve AMVM0412</li><li>Parallele</li><li>Catégorie(s) 
 : U18 a Masters (Hommes)</li></ul></li><li><div class="gski-epreuve-date">L
 e dimanche 13 février 2022 à 10:00</div><ul class="gski-epreuve-liste-infos
 "><li>Codex épreuve AMVF0412</li><li>Parallele</li><li>Catégorie(s) : U18 a
  Masters (Dames)</li></ul></li></ul></div><div class="gskiepreuves-links"><
 ul><li><a href="/index.php?option=com_jevents&task=icalevent.detail&evid=17
 81&Itemid=6289">Voir les informations dans l'agenda...</a></li><li>Publicat
 ions concernant cet évènement :<ul><li><a href="/index.php?option=com_conte
 nt&view=article&id=7601&Itemid=6289">Samedi 12 Février 2022 à 08:57 : Le 13
 /02/2022 BALLON D'ALSACE Informations</a></li></ul></li></ul></div></div"><
 !-- #/gskiepreuve fin du dode généré par le plugin jevents pour GskiEpreuve
 s. . Ne pas modifier cette ligne, ni tout le contenu précedant.  #/gskiepre
 uve --> <a href="https://skivosges.net/agenda/a-venir/detailevenement/1786/
 -/open-prix-du-bar-le-calice-annulee-reporte?tmpl=component">Cet évènement 
 a été importé depuis :https://skivosges.net/agenda/a-venir/detailevenement/
 1786/-/open-prix-du-bar-le-calice-annulee-reporte?tmpl=component</a>
X-ALT-DESC;FMTTYPE=text/html:<!-- #gskiepreuve code généré par le plugin jevents pour GskiEpreuves. Ne p
 as modifier cette ligne, ni tout le contenu suivant  #gskiepreuve --><div c
 lass="gski-evenement_infos"><div class="gski-evenement-nom">OPEN Prix du Ba
 r Le Calice  ANNULEE</div><div class="gski-evenement-report"> <font class="
 gskiattention">(Epreuve reportée, date à determiner)</font></div><ul class=
 "gski-evenement-liste-infos"><li>Codex évenement AMVT0410</li><li>Lieu : LA
 NGENBERG</li><li>Station : BALLON D ALSACE</li><li>Piste : STADE DE SLALOM<
 /li><li>Organisateur : 14063 SKIEURS DE ST MAURICE/MOSELLE</li><li>Courriel
  : <!-- Cette adresse électronique est protégée contre les robots spammeurs
 . --><span class="cloaked_email ep_544edc2b"><span data-ep-b="" data-ep-a="
 d&#97;&#110;i"><span data-ep-a="&#101;l&#46;m" data-ep-b="r&#46;&#102;&#114
 ;"><span data-ep-b="&#53;&#64;sf" data-ep-a="&#111;&#114;&#101;l"></span></
 span></span></span><script>RegularLabs.EmailProtector.unCloak("ep_544edc2b"
 );</script></li><li><span class="gski-evenement-obs">Délégué Technique : NO
 EL JEAN CHRISTOPHE</span></li></ul><div class="gski-evenement-infos-2"><div
  class="gski-evenement-info-inscriptions"><div class="gski-evenement-inscri
 ptions-periodes">Période d'inscription à l'evènement du lundi 07 février 20
 22 à 08:00 au vendredi 11 février 2022 à 19:00<div class="gski-evenement-in
 scriptions-types-titres">Inscriptions ouvertes aux detenteurs des titres Fé
 déraux valides suivants : Licenciés Compétiteurs</div></div></div><div clas
 s="gskiepreuves-links"><ul><li><a href="https://skivosges.net/index.php?opt
 ion=com_jevents&task=icalevent.detail&evid=1781&Itemid=6289">Voir les infor
 mations dans l'agenda...</a></li><li>Publications concernant cet évènement 
 :<ul><li><a href="https://skivosges.net/index.php?option=com_content&view=a
 rticle&id=7601&Itemid=6289">Samedi 12 Février 2022 à 08:57 : Le 13/02/2022 
 BALLON D'ALSACE Informations</a></li></ul></li></ul></div><div class="gski-
 evenement-epreuves"><div class="gski-evenement-epreuves-titres">Epreuves :<
 /div><ul class="gski-evenement-epreuves-list"><li><div class="gski-epreuve-
 date">Le dimanche 13 février 2022 à 10:00</div><ul class="gski-epreuve-list
 e-infos"><li>Codex épreuve AMVM0411</li><li>Parallele</li><li>Catégorie(s) 
 : U14/U16 (Garçons)</li></ul></li><li><div class="gski-epreuve-date">Le dim
 anche 13 février 2022</div><ul class="gski-epreuve-liste-infos"><li>Codex é
 preuve AMVF0411</li><li>Parallele</li><li>Catégorie(s) : U14/U16 (Filles)</
 li></ul></li><li><div class="gski-epreuve-date">Le dimanche 13 février 2022
  à 10:00</div><ul class="gski-epreuve-liste-infos"><li>Codex épreuve AMVM04
 12</li><li>Parallele</li><li>Catégorie(s) : U18 a Masters (Hommes)</li></ul
 ></li><li><div class="gski-epreuve-date">Le dimanche 13 février 2022 à 10:0
 0</div><ul class="gski-epreuve-liste-infos"><li>Codex épreuve AMVF0412</li>
 <li>Parallele</li><li>Catégorie(s) : U18 a Masters (Dames)</li></ul></li></
 ul></div><div class="gskiepreuves-links"><ul><li><a href="https://skivosges
 .net/index.php?option=com_jevents&task=icalevent.detail&evid=1781&Itemid=62
 89">Voir les informations dans l'agenda...</a></li><li>Publications concern
 ant cet évènement :<ul><li><a href="https://skivosges.net/index.php?option=
 com_content&view=article&id=7601&Itemid=6289">Samedi 12 Février 2022 à 08:5
 7 : Le 13/02/2022 BALLON D'ALSACE Informations</a></li></ul></li></ul></div
 ></div"><!-- #/gskiepreuve fin du dode généré par le plugin jevents pour Gs
 kiEpreuves. . Ne pas modifier cette ligne, ni tout le contenu précedant.  #
 /gskiepreuve --> <a href="https://skivosges.net/agenda/a-venir/detailevenem
 ent/1786/-/open-prix-du-bar-le-calice-annulee-reporte?tmpl=component">Cet é
 vènement a été importé depuis :https://skivosges.net/agenda/a-venir/detaile
 venement/1786/-/open-prix-du-bar-le-calice-annulee-reporte?tmpl=component</
 a>DTSTAMP:20260421T051504
DTSTART;TZID=Europe/Paris;VALUE=DATE:20220213
DTEND;TZID=Europe/Paris;VALUE=DATE:20220214
SEQUENCE:0
TRANSP:OPAQUE
END:VEVENT
END:VCALENDAR