BEGIN:VCALENDAR
VERSION:2.0
PRODID:-//jEvents 2.0 for Joomla//EN
CALSCALE:GREGORIAN
METHOD:PUBLISH
BEGIN:VTIMEZONE
TZID:Europe/Paris
BEGIN:STANDARD
DTSTART:20210225T000000
RDATE:20210328T030000
TZOFFSETFROM:+0200
TZOFFSETTO:+0100
TZNAME:Europe/Paris CET
END:STANDARD
BEGIN:STANDARD
DTSTART:20211031T020000
RDATE:20220327T030000
TZOFFSETFROM:+0200
TZOFFSETTO:+0100
TZNAME:Europe/Paris CET
END:STANDARD
BEGIN:STANDARD
DTSTART:20221030T020000
RDATE:20230326T030000
TZOFFSETFROM:+0200
TZOFFSETTO:+0100
TZNAME:Europe/Paris CET
END:STANDARD
BEGIN:STANDARD
DTSTART:20231029T020000
RDATE:20240331T030000
TZOFFSETFROM:+0200
TZOFFSETTO:+0100
TZNAME:Europe/Paris CET
END:STANDARD
BEGIN:STANDARD
DTSTART:20241027T020000
RDATE:20250330T030000
TZOFFSETFROM:+0200
TZOFFSETTO:+0100
TZNAME:Europe/Paris CET
END:STANDARD
BEGIN:STANDARD
DTSTART:20251026T020000
RDATE:20260329T030000
TZOFFSETFROM:+0200
TZOFFSETTO:+0100
TZNAME:Europe/Paris CET
END:STANDARD
BEGIN:STANDARD
DTSTART:20261025T020000
RDATE:20270328T030000
TZOFFSETFROM:+0200
TZOFFSETTO:+0100
TZNAME:Europe/Paris CET
END:STANDARD
BEGIN:DAYLIGHT
DTSTART:20210328T030000
RDATE:20211031T020000
TZOFFSETFROM:+0100
TZOFFSETTO:+0200
TZNAME:Europe/Paris CEST
END:DAYLIGHT
BEGIN:DAYLIGHT
DTSTART:20220327T030000
RDATE:20221030T020000
TZOFFSETFROM:+0100
TZOFFSETTO:+0200
TZNAME:Europe/Paris CEST
END:DAYLIGHT
BEGIN:DAYLIGHT
DTSTART:20230326T030000
RDATE:20231029T020000
TZOFFSETFROM:+0100
TZOFFSETTO:+0200
TZNAME:Europe/Paris CEST
END:DAYLIGHT
BEGIN:DAYLIGHT
DTSTART:20240331T030000
RDATE:20241027T020000
TZOFFSETFROM:+0100
TZOFFSETTO:+0200
TZNAME:Europe/Paris CEST
END:DAYLIGHT
BEGIN:DAYLIGHT
DTSTART:20250330T030000
RDATE:20251026T020000
TZOFFSETFROM:+0100
TZOFFSETTO:+0200
TZNAME:Europe/Paris CEST
END:DAYLIGHT
BEGIN:DAYLIGHT
DTSTART:20260329T030000
RDATE:20261025T020000
TZOFFSETFROM:+0100
TZOFFSETTO:+0200
TZNAME:Europe/Paris CEST
END:DAYLIGHT
END:VTIMEZONE
BEGIN:VEVENT
UID:d54c58300853adc0f13ca167f209ef68
CATEGORIES:Circuit Massif Jeunes (alpin)
CREATED:20211117T190002
SUMMARY:CJM U12
URL;VALUE=URI:https://skivosges.net/agenda/a-venir/detailevenement/1795/-/cjm-u12?tmpl=co
 mponent
DESCRIPTION:CJM U12\n - Codex évenement AMVT0460\n - Station : GERARDMER\n - Organisate
 ur : 14128 A.S ELECTRICITE STRASBOURG\n - Courriel : RegularLabs.EmailProte
 ctor.unCloak("ep_0b7cc557");Période d'inscription à l'evènement du samedi 1
 9 février 2022 à 00:00 au vendredi 25 février 2022 à 12:00Inscriptions ouve
 rtes aux detenteurs des titres Fédéraux valides suivants : Licenciés Compét
 iteurs\n - Voir les informations dans l'agenda... (/index.php?option=com_je
 vents&amp;task=icalevent.detail&amp;evid=1790&amp;Itemid=6289)\n - Vers les
  résultats... (/index.php?option=com_gskiepreuves&amp;view=afficheresultats
 &amp;format_option=tous&amp;filter[search]=AMVT0460&amp;filter[date_debut]=
 26-02-2022&amp;filter[date_fin]=26-02-2022&amp;code_activite=ALP&amp;Itemid
 =6289)\n - Publications concernant cet évènement :\n - Samedi 26 Février 20
 22 à 14:39 : Le 26/02/2022 GERARDMER RésultatsEpreuves :\n - Le samedi 26 f
 évrier 2022\n - Codex épreuve AMVM0461\n - Slalom Geant\n - Catégorie(s) : 
 U12 (Garçons)\n - Le samedi 26 février 2022\n - Codex épreuve AMVF0461\n - 
 Slalom Geant\n - Catégorie(s) : U12 (Filles)\n - Voir les informations dans
  l'agenda... (/index.php?option=com_jevents&amp;task=icalevent.detail&amp;e
 vid=1790&amp;Itemid=6289)\n - Vers les résultats... (/index.php?option=com_
 gskiepreuves&amp;view=afficheresultats&amp;format_option=tous&amp;filter[se
 arch]=AMVT0460&amp;filter[date_debut]=26-02-2022&amp;filter[date_fin]=26-02
 -2022&amp;code_activite=ALP&amp;Itemid=6289)\n - Publications concernant ce
 t évènement :\n - Samedi 26 Février 2022 à 14:39 : Le 26/02/2022 GERARDMER 
 Résultats Cet évènement a été importé depuis :https://skivosges.net/agenda/
 a-venir/detailevenement/1795/-/cjm-u12?tmpl=component
X-ALT-DESC;FMTTYPE=text/html:<!-- #gskiepreuve code généré par le plugin jevents pour GskiEpreuves. Ne p
 as modifier cette ligne, ni tout le contenu suivant  #gskiepreuve --><div c
 lass="gski-evenement_infos"><div class="gski-evenement-nom">CJM U12</div><d
 iv class="gski-evenement-report"></div><ul class="gski-evenement-liste-info
 s"><li>Codex évenement AMVT0460</li><li>Station : GERARDMER</li><li>Organis
 ateur : 14128 A.S ELECTRICITE STRASBOURG</li><li>Courriel : <!-- Cette adre
 sse électronique est protégée contre les robots spammeurs. --><span class="
 cloaked_email ep_0b7cc557"><span data-ep-a="&#102;&#98;" data-ep-b="&#114;"
 ><span data-ep-b="&#46;&#102;" data-ep-a="&#64;&#109;"><span data-ep-a="&#1
 03;m" data-ep-b="&#54;&#55;"></span></span></span></span><script>RegularLab
 s.EmailProtector.unCloak("ep_0b7cc557");</script></li></ul><div class="gski
 -evenement-infos-2"><div class="gski-evenement-info-inscriptions"><div clas
 s="gski-evenement-inscriptions-periodes">Période d'inscription à l'evènemen
 t du samedi 19 février 2022 à 00:00 au vendredi 25 février 2022 à 12:00<div
  class="gski-evenement-inscriptions-types-titres">Inscriptions ouvertes aux
  detenteurs des titres Fédéraux valides suivants : Licenciés Compétiteurs</
 div></div></div><div class="gskiepreuves-links"><ul><li><a href="https://sk
 ivosges.net/index.php?option=com_jevents&task=icalevent.detail&evid=1790&It
 emid=6289">Voir les informations dans l'agenda...</a></li><li><a href="http
 s://skivosges.net/index.php?option=com_gskiepreuves&view=afficheresultats&f
 ormat_option=tous&filter[search]=AMVT0460&filter[date_debut]=26-02-2022&fil
 ter[date_fin]=26-02-2022&code_activite=ALP&Itemid=6289">Vers les résultats.
 ..</a></li><li>Publications concernant cet évènement :<ul><li><a href="http
 s://skivosges.net/index.php?option=com_content&view=article&id=7656&Itemid=
 6289">Samedi 26 Février 2022 à 14:39 : Le 26/02/2022 GERARDMER Résultats</a
 ></li></ul></li></ul></div><div class="gski-evenement-epreuves"><div class=
 "gski-evenement-epreuves-titres">Epreuves :</div><ul class="gski-evenement-
 epreuves-list"><li><div class="gski-epreuve-date">Le samedi 26 février 2022
 </div><ul class="gski-epreuve-liste-infos"><li>Codex épreuve AMVM0461</li><
 li>Slalom Geant</li><li>Catégorie(s) : U12 (Garçons)</li></ul></li><li><div
  class="gski-epreuve-date">Le samedi 26 février 2022</div><ul class="gski-e
 preuve-liste-infos"><li>Codex épreuve AMVF0461</li><li>Slalom Geant</li><li
 >Catégorie(s) : U12 (Filles)</li></ul></li></ul></div><div class="gskiepreu
 ves-links"><ul><li><a href="https://skivosges.net/index.php?option=com_jeve
 nts&task=icalevent.detail&evid=1790&Itemid=6289">Voir les informations dans
  l'agenda...</a></li><li><a href="https://skivosges.net/index.php?option=co
 m_gskiepreuves&view=afficheresultats&format_option=tous&filter[search]=AMVT
 0460&filter[date_debut]=26-02-2022&filter[date_fin]=26-02-2022&code_activit
 e=ALP&Itemid=6289">Vers les résultats...</a></li><li>Publications concernan
 t cet évènement :<ul><li><a href="https://skivosges.net/index.php?option=co
 m_content&view=article&id=7656&Itemid=6289">Samedi 26 Février 2022 à 14:39 
 : Le 26/02/2022 GERARDMER Résultats</a></li></ul></li></ul></div></div"><!-
 - #/gskiepreuve fin du dode généré par le plugin jevents pour GskiEpreuves.
  . Ne pas modifier cette ligne, ni tout le contenu précedant.  #/gskiepreuv
 e --> <a href="https://skivosges.net/agenda/a-venir/detailevenement/1795/-/
 cjm-u12?tmpl=component">Cet évènement a été importé depuis :https://skivosg
 es.net/agenda/a-venir/detailevenement/1795/-/cjm-u12?tmpl=component</a>DTSTAMP:20260421T051420
DTSTART;TZID=Europe/Paris;VALUE=DATE:20220226
DTEND;TZID=Europe/Paris;VALUE=DATE:20220227
SEQUENCE:0
TRANSP:OPAQUE
END:VEVENT
END:VCALENDAR