BEGIN:VCALENDAR
VERSION:2.0
PRODID:-//jEvents 2.0 for Joomla//EN
CALSCALE:GREGORIAN
METHOD:PUBLISH
BEGIN:VTIMEZONE
TZID:Europe/Paris
BEGIN:STANDARD
DTSTART:20210226T000000
RDATE:20210328T030000
TZOFFSETFROM:+0200
TZOFFSETTO:+0100
TZNAME:Europe/Paris CET
END:STANDARD
BEGIN:STANDARD
DTSTART:20211031T020000
RDATE:20220327T030000
TZOFFSETFROM:+0200
TZOFFSETTO:+0100
TZNAME:Europe/Paris CET
END:STANDARD
BEGIN:STANDARD
DTSTART:20221030T020000
RDATE:20230326T030000
TZOFFSETFROM:+0200
TZOFFSETTO:+0100
TZNAME:Europe/Paris CET
END:STANDARD
BEGIN:STANDARD
DTSTART:20231029T020000
RDATE:20240331T030000
TZOFFSETFROM:+0200
TZOFFSETTO:+0100
TZNAME:Europe/Paris CET
END:STANDARD
BEGIN:STANDARD
DTSTART:20241027T020000
RDATE:20250330T030000
TZOFFSETFROM:+0200
TZOFFSETTO:+0100
TZNAME:Europe/Paris CET
END:STANDARD
BEGIN:STANDARD
DTSTART:20251026T020000
RDATE:20260329T030000
TZOFFSETFROM:+0200
TZOFFSETTO:+0100
TZNAME:Europe/Paris CET
END:STANDARD
BEGIN:STANDARD
DTSTART:20261025T020000
RDATE:20270328T030000
TZOFFSETFROM:+0200
TZOFFSETTO:+0100
TZNAME:Europe/Paris CET
END:STANDARD
BEGIN:DAYLIGHT
DTSTART:20210328T030000
RDATE:20211031T020000
TZOFFSETFROM:+0100
TZOFFSETTO:+0200
TZNAME:Europe/Paris CEST
END:DAYLIGHT
BEGIN:DAYLIGHT
DTSTART:20220327T030000
RDATE:20221030T020000
TZOFFSETFROM:+0100
TZOFFSETTO:+0200
TZNAME:Europe/Paris CEST
END:DAYLIGHT
BEGIN:DAYLIGHT
DTSTART:20230326T030000
RDATE:20231029T020000
TZOFFSETFROM:+0100
TZOFFSETTO:+0200
TZNAME:Europe/Paris CEST
END:DAYLIGHT
BEGIN:DAYLIGHT
DTSTART:20240331T030000
RDATE:20241027T020000
TZOFFSETFROM:+0100
TZOFFSETTO:+0200
TZNAME:Europe/Paris CEST
END:DAYLIGHT
BEGIN:DAYLIGHT
DTSTART:20250330T030000
RDATE:20251026T020000
TZOFFSETFROM:+0100
TZOFFSETTO:+0200
TZNAME:Europe/Paris CEST
END:DAYLIGHT
BEGIN:DAYLIGHT
DTSTART:20260329T030000
RDATE:20261025T020000
TZOFFSETFROM:+0100
TZOFFSETTO:+0200
TZNAME:Europe/Paris CEST
END:DAYLIGHT
END:VTIMEZONE
BEGIN:VEVENT
UID:2aa4ce2d2d5d829129ca55322b32e0a2
CATEGORIES:Opens et Promos (alpin)
CREATED:20211117T190002
SUMMARY:PROMO
URL;VALUE=URI:https://skivosges.net/agenda/a-venir/detailevenement/1799/-/promo?tmpl=comp
 onent
DESCRIPTION:PROMO\n - Codex évenement AMVT0530\n - Station : CHAMP DU FEU\n - Organisat
 eur : 14492 SKI TEAM KOCHERSBERG\n - Courriel : RegularLabs.EmailProtector.
 unCloak("ep_bcdcb2d7");Période d'inscription à l'evènement du dimanche 20 f
 évrier 2022 à 00:00 au samedi 26 février 2022 à 16:00Inscriptions ouvertes 
 aux detenteurs des titres Fédéraux valides suivants : Licenciés Compétiteur
 s et Titres Loisirs et Dirigeants\n - Voir les informations dans l'agenda..
 . (/index.php?option=com_jevents&amp;task=icalevent.detail&amp;evid=1794&am
 p;Itemid=6289)\n - Vers les résultats... (/index.php?option=com_gskiepreuve
 s&amp;view=afficheresultats&amp;format_option=tous&amp;filter[search]=AMVT0
 530&amp;filter[date_debut]=27-02-2022&amp;filter[date_fin]=27-02-2022&amp;c
 ode_activite=ALP&amp;Itemid=6289)Epreuves :\n - Le dimanche 27 février 2022
 \n - Codex épreuve AMVM0531\n - Slalom\n - Catégorie(s) : U8/U10 (Garçons)\
 n - Le dimanche 27 février 2022\n - Codex épreuve AMVF0531\n - Slalom\n - C
 atégorie(s) : U8/U10 (Filles)\n - Le dimanche 27 février 2022\n - Codex épr
 euve AMVM0532\n - Slalom Geant\n - Catégorie(s) : U12 a U16 (Garçons)\n - L
 e dimanche 27 février 2022\n - Codex épreuve AMVF0532\n - Slalom Geant\n - 
 Catégorie(s) : U12 a U16 (Filles)\n - Voir les informations dans l'agenda..
 . (/index.php?option=com_jevents&amp;task=icalevent.detail&amp;evid=1794&am
 p;Itemid=6289)\n - Vers les résultats... (/index.php?option=com_gskiepreuve
 s&amp;view=afficheresultats&amp;format_option=tous&amp;filter[search]=AMVT0
 530&amp;filter[date_debut]=27-02-2022&amp;filter[date_fin]=27-02-2022&amp;c
 ode_activite=ALP&amp;Itemid=6289) Cet évènement a été importé depuis :https
 ://skivosges.net/agenda/a-venir/detailevenement/1799/-/promo?tmpl=component
X-ALT-DESC;FMTTYPE=text/html:<!-- #gskiepreuve code généré par le plugin jevents pour GskiEpreuves. Ne p
 as modifier cette ligne, ni tout le contenu suivant  #gskiepreuve --><div c
 lass="gski-evenement_infos"><div class="gski-evenement-nom">PROMO</div><div
  class="gski-evenement-report"></div><ul class="gski-evenement-liste-infos"
 ><li>Codex évenement AMVT0530</li><li>Station : CHAMP DU FEU</li><li>Organi
 sateur : 14492 SKI TEAM KOCHERSBERG</li><li>Courriel : <!-- Cette adresse é
 lectronique est protégée contre les robots spammeurs. --><span class="cloak
 ed_email ep_bcdcb2d7"><span data-ep-a="&#106;&#112;&#104;&#46;" data-ep-b="
 &#102;&#114;"><span data-ep-a="h&#111;&#108;&#119;" data-ep-b="&#110;&#103;
 &#101;&#46;"><span data-ep-b="&#64;o&#114;&#97;" data-ep-a="&#101;&#103;6&#
 55;"></span></span></span></span><script>RegularLabs.EmailProtector.unCloak
 ("ep_bcdcb2d7");</script></li></ul><div class="gski-evenement-infos-2"><div
  class="gski-evenement-info-inscriptions"><div class="gski-evenement-inscri
 ptions-periodes">Période d'inscription à l'evènement du dimanche 20 février
  2022 à 00:00 au samedi 26 février 2022 à 16:00<div class="gski-evenement-i
 nscriptions-types-titres">Inscriptions ouvertes aux detenteurs des titres F
 édéraux valides suivants : Licenciés Compétiteurs et Titres Loisirs et Diri
 geants</div></div></div><div class="gskiepreuves-links"><ul><li><a href="ht
 tps://skivosges.net/index.php?option=com_jevents&task=icalevent.detail&evid
 =1794&Itemid=6289">Voir les informations dans l'agenda...</a></li><li><a hr
 ef="https://skivosges.net/index.php?option=com_gskiepreuves&view=afficheres
 ultats&format_option=tous&filter[search]=AMVT0530&filter[date_debut]=27-02-
 2022&filter[date_fin]=27-02-2022&code_activite=ALP&Itemid=6289">Vers les ré
 sultats...</a></li></ul></div><div class="gski-evenement-epreuves"><div cla
 ss="gski-evenement-epreuves-titres">Epreuves :</div><ul class="gski-eveneme
 nt-epreuves-list"><li><div class="gski-epreuve-date">Le dimanche 27 février
  2022</div><ul class="gski-epreuve-liste-infos"><li>Codex épreuve AMVM0531<
 /li><li>Slalom</li><li>Catégorie(s) : U8/U10 (Garçons)</li></ul></li><li><d
 iv class="gski-epreuve-date">Le dimanche 27 février 2022</div><ul class="gs
 ki-epreuve-liste-infos"><li>Codex épreuve AMVF0531</li><li>Slalom</li><li>C
 atégorie(s) : U8/U10 (Filles)</li></ul></li><li><div class="gski-epreuve-da
 te">Le dimanche 27 février 2022</div><ul class="gski-epreuve-liste-infos"><
 li>Codex épreuve AMVM0532</li><li>Slalom Geant</li><li>Catégorie(s) : U12 a
  U16 (Garçons)</li></ul></li><li><div class="gski-epreuve-date">Le dimanche
  27 février 2022</div><ul class="gski-epreuve-liste-infos"><li>Codex épreuv
 e AMVF0532</li><li>Slalom Geant</li><li>Catégorie(s) : U12 a U16 (Filles)</
 li></ul></li></ul></div><div class="gskiepreuves-links"><ul><li><a href="ht
 tps://skivosges.net/index.php?option=com_jevents&task=icalevent.detail&evid
 =1794&Itemid=6289">Voir les informations dans l'agenda...</a></li><li><a hr
 ef="https://skivosges.net/index.php?option=com_gskiepreuves&view=afficheres
 ultats&format_option=tous&filter[search]=AMVT0530&filter[date_debut]=27-02-
 2022&filter[date_fin]=27-02-2022&code_activite=ALP&Itemid=6289">Vers les ré
 sultats...</a></li></ul></div></div"><!-- #/gskiepreuve fin du dode généré 
 par le plugin jevents pour GskiEpreuves. . Ne pas modifier cette ligne, ni 
 tout le contenu précedant.  #/gskiepreuve --> <a href="https://skivosges.ne
 t/agenda/a-venir/detailevenement/1799/-/promo?tmpl=component">Cet évènement
  a été importé depuis :https://skivosges.net/agenda/a-venir/detailevenement
 /1799/-/promo?tmpl=component</a>DTSTAMP:20260421T051321
DTSTART;TZID=Europe/Paris;VALUE=DATE:20220227
DTEND;TZID=Europe/Paris;VALUE=DATE:20220228
SEQUENCE:0
TRANSP:OPAQUE
END:VEVENT
END:VCALENDAR