BEGIN:VCALENDAR
VERSION:2.0
PRODID:-//jEvents 2.0 for Joomla//EN
CALSCALE:GREGORIAN
METHOD:PUBLISH
BEGIN:VTIMEZONE
TZID:Europe/Paris
BEGIN:STANDARD
DTSTART:20120207T000000
RDATE:20120325T030000
TZOFFSETFROM:+0200
TZOFFSETTO:+0100
TZNAME:Europe/Paris CET
END:STANDARD
BEGIN:STANDARD
DTSTART:20121028T020000
RDATE:20130331T030000
TZOFFSETFROM:+0200
TZOFFSETTO:+0100
TZNAME:Europe/Paris CET
END:STANDARD
BEGIN:STANDARD
DTSTART:20131027T020000
RDATE:20140330T030000
TZOFFSETFROM:+0200
TZOFFSETTO:+0100
TZNAME:Europe/Paris CET
END:STANDARD
BEGIN:STANDARD
DTSTART:20141026T020000
RDATE:20150329T030000
TZOFFSETFROM:+0200
TZOFFSETTO:+0100
TZNAME:Europe/Paris CET
END:STANDARD
BEGIN:STANDARD
DTSTART:20151025T020000
RDATE:20160327T030000
TZOFFSETFROM:+0200
TZOFFSETTO:+0100
TZNAME:Europe/Paris CET
END:STANDARD
BEGIN:STANDARD
DTSTART:20161030T020000
RDATE:20170326T030000
TZOFFSETFROM:+0200
TZOFFSETTO:+0100
TZNAME:Europe/Paris CET
END:STANDARD
BEGIN:STANDARD
DTSTART:20171029T020000
RDATE:20180325T030000
TZOFFSETFROM:+0200
TZOFFSETTO:+0100
TZNAME:Europe/Paris CET
END:STANDARD
BEGIN:STANDARD
DTSTART:20181028T020000
RDATE:20190331T030000
TZOFFSETFROM:+0200
TZOFFSETTO:+0100
TZNAME:Europe/Paris CET
END:STANDARD
BEGIN:STANDARD
DTSTART:20191027T020000
RDATE:20200329T030000
TZOFFSETFROM:+0200
TZOFFSETTO:+0100
TZNAME:Europe/Paris CET
END:STANDARD
BEGIN:STANDARD
DTSTART:20201025T020000
RDATE:20210328T030000
TZOFFSETFROM:+0200
TZOFFSETTO:+0100
TZNAME:Europe/Paris CET
END:STANDARD
BEGIN:STANDARD
DTSTART:20211031T020000
RDATE:20220327T030000
TZOFFSETFROM:+0200
TZOFFSETTO:+0100
TZNAME:Europe/Paris CET
END:STANDARD
BEGIN:STANDARD
DTSTART:20221030T020000
RDATE:20230326T030000
TZOFFSETFROM:+0200
TZOFFSETTO:+0100
TZNAME:Europe/Paris CET
END:STANDARD
BEGIN:STANDARD
DTSTART:20231029T020000
RDATE:20240331T030000
TZOFFSETFROM:+0200
TZOFFSETTO:+0100
TZNAME:Europe/Paris CET
END:STANDARD
BEGIN:STANDARD
DTSTART:20241027T020000
RDATE:20250330T030000
TZOFFSETFROM:+0200
TZOFFSETTO:+0100
TZNAME:Europe/Paris CET
END:STANDARD
BEGIN:STANDARD
DTSTART:20251026T020000
RDATE:20260329T030000
TZOFFSETFROM:+0200
TZOFFSETTO:+0100
TZNAME:Europe/Paris CET
END:STANDARD
BEGIN:STANDARD
DTSTART:20261025T020000
RDATE:20270328T030000
TZOFFSETFROM:+0200
TZOFFSETTO:+0100
TZNAME:Europe/Paris CET
END:STANDARD
BEGIN:DAYLIGHT
DTSTART:20120325T030000
RDATE:20121028T020000
TZOFFSETFROM:+0100
TZOFFSETTO:+0200
TZNAME:Europe/Paris CEST
END:DAYLIGHT
BEGIN:DAYLIGHT
DTSTART:20130331T030000
RDATE:20131027T020000
TZOFFSETFROM:+0100
TZOFFSETTO:+0200
TZNAME:Europe/Paris CEST
END:DAYLIGHT
BEGIN:DAYLIGHT
DTSTART:20140330T030000
RDATE:20141026T020000
TZOFFSETFROM:+0100
TZOFFSETTO:+0200
TZNAME:Europe/Paris CEST
END:DAYLIGHT
BEGIN:DAYLIGHT
DTSTART:20150329T030000
RDATE:20151025T020000
TZOFFSETFROM:+0100
TZOFFSETTO:+0200
TZNAME:Europe/Paris CEST
END:DAYLIGHT
BEGIN:DAYLIGHT
DTSTART:20160327T030000
RDATE:20161030T020000
TZOFFSETFROM:+0100
TZOFFSETTO:+0200
TZNAME:Europe/Paris CEST
END:DAYLIGHT
BEGIN:DAYLIGHT
DTSTART:20170326T030000
RDATE:20171029T020000
TZOFFSETFROM:+0100
TZOFFSETTO:+0200
TZNAME:Europe/Paris CEST
END:DAYLIGHT
BEGIN:DAYLIGHT
DTSTART:20180325T030000
RDATE:20181028T020000
TZOFFSETFROM:+0100
TZOFFSETTO:+0200
TZNAME:Europe/Paris CEST
END:DAYLIGHT
BEGIN:DAYLIGHT
DTSTART:20190331T030000
RDATE:20191027T020000
TZOFFSETFROM:+0100
TZOFFSETTO:+0200
TZNAME:Europe/Paris CEST
END:DAYLIGHT
BEGIN:DAYLIGHT
DTSTART:20200329T030000
RDATE:20201025T020000
TZOFFSETFROM:+0100
TZOFFSETTO:+0200
TZNAME:Europe/Paris CEST
END:DAYLIGHT
BEGIN:DAYLIGHT
DTSTART:20210328T030000
RDATE:20211031T020000
TZOFFSETFROM:+0100
TZOFFSETTO:+0200
TZNAME:Europe/Paris CEST
END:DAYLIGHT
BEGIN:DAYLIGHT
DTSTART:20220327T030000
RDATE:20221030T020000
TZOFFSETFROM:+0100
TZOFFSETTO:+0200
TZNAME:Europe/Paris CEST
END:DAYLIGHT
BEGIN:DAYLIGHT
DTSTART:20230326T030000
RDATE:20231029T020000
TZOFFSETFROM:+0100
TZOFFSETTO:+0200
TZNAME:Europe/Paris CEST
END:DAYLIGHT
BEGIN:DAYLIGHT
DTSTART:20240331T030000
RDATE:20241027T020000
TZOFFSETFROM:+0100
TZOFFSETTO:+0200
TZNAME:Europe/Paris CEST
END:DAYLIGHT
BEGIN:DAYLIGHT
DTSTART:20250330T030000
RDATE:20251026T020000
TZOFFSETFROM:+0100
TZOFFSETTO:+0200
TZNAME:Europe/Paris CEST
END:DAYLIGHT
BEGIN:DAYLIGHT
DTSTART:20260329T030000
RDATE:20261025T020000
TZOFFSETFROM:+0100
TZOFFSETTO:+0200
TZNAME:Europe/Paris CEST
END:DAYLIGHT
END:VTIMEZONE
BEGIN:VEVENT
UID:f0377edbd2c4d359109e4d5b3c38549d
CATEGORIES:Ski Loisir - Sorties CRMVS
CREATED:20121105T174342
SUMMARY:Championnats du Monde de Ski Alpin
LOCATION:Schladming
URL;VALUE=URI:https://skivosges.net/agenda/a-venir/detailevenement/18/-/championnats-du-m
 onde-de-ski-alpin?tmpl=component
DESCRIPTION:<p>La Commission Régionale Ski Loisirs / Développement a décidé d’organiser
  avec l'A.D.T. un déplacement à l’occasion des Championnats du Monde de Ski
  Alpin à SCHLADMING (Autriche).</p><p>Ce déplacement sera réservé <b>priori
 tairement</b> aux licenciés.</p><p> </p><p>Vous trouverez toutes les inform
 ations dans le document : <a target="_blank" class="jcepopup" href="documen
 ts/2012/secretariat/Manifestations_Sorties/130207-10_Schladming/130207-10_s
 chladming_infos_et_programme.pdf">Programme et informations sur la sortie..
 .</a></p><p> </p><p><strong>Pré-Inscription obligatoire en complétant le fo
 rmulaire ci-dessous</strong>.<br />Après validation vous recevrez un courri
 el avec un lien de validation sur lequel il faudra impérativement cliquer p
 our reserver votre place.</p><p>Il faudra ensuite retourner au siège du CRM
 VS <strong>avant le 17/01/2013 imperativement</strong> :</p><ul><li>Le <a t
 arget="_blank" class="jcepopup" href="documents/2012/secretariat/Manifestat
 ions_Sorties/130207-10_Schladming/130207-10_schladming_fiche_inscription.pd
 f">formulaire d'inscription rempli...</a></li><li>L'<a target="_blank" clas
 s="jcepopup" href="documents/2012/secretariat/Manifestations_Sorties/130207
 -10_Schladming/130207-10_schladming_decharge.pdf">engagement / décharge rem
 pli et signé...</a></li><li>La <a class="jcepopup" href="documents/2012/sec
 retariat/Manifestations_Sorties/fiche_sanitaire.pdf" target="_blank">Fiche 
 sanitaire de liaison dûment remplie...</a></li><li>Photocopie de la carte d
 'identité (orignal à avoir sur soi lors de déplacement)</li><li>Photocopie 
 de l'autorisation de sortie du territoire (original à presenter lors du dép
 lacement)</li><li>Chèque de 425euros à l'ordre du CRMVS</li></ul><p> </p> <
 a href="https://skivosges.net/agenda/a-venir/detailevenement/18/-/championn
 ats-du-monde-de-ski-alpin?tmpl=component">Cet évènement a été importé depui
 s :https://skivosges.net/agenda/a-venir/detailevenement/18/-/championnats-d
 u-monde-de-ski-alpin?tmpl=component</a>
X-ALT-DESC;FMTTYPE=text/html:<p>La Commission Régionale Ski Loisirs / Développement a décidé d’organiser
  avec l'A.D.T. un déplacement à l’occasion des Championnats du Monde de Ski
  Alpin à SCHLADMING (Autriche).</p><p>Ce déplacement sera réservé <b>priori
 tairement</b> aux licenciés.</p><p> </p><p>Vous trouverez toutes les inform
 ations dans le document : <a target="_blank" class="jcepopup" href="https:/
 /skivosges.net/documents/2012/secretariat/Manifestations_Sorties/130207-10_
 Schladming/130207-10_schladming_infos_et_programme.pdf">Programme et inform
 ations sur la sortie...</a></p><p> </p><p><strong>Pré-Inscription obligatoi
 re en complétant le formulaire ci-dessous</strong>.<br />Après validation v
 ous recevrez un courriel avec un lien de validation sur lequel il faudra im
 pérativement cliquer pour reserver votre place.</p><p>Il faudra ensuite ret
 ourner au siège du CRMVS <strong>avant le 17/01/2013 imperativement</strong
 > :</p><ul><li>Le <a target="_blank" class="jcepopup" href="https://skivosg
 es.net/documents/2012/secretariat/Manifestations_Sorties/130207-10_Schladmi
 ng/130207-10_schladming_fiche_inscription.pdf">formulaire d'inscription rem
 pli...</a></li><li>L'<a target="_blank" class="jcepopup" href="https://skiv
 osges.net/documents/2012/secretariat/Manifestations_Sorties/130207-10_Schla
 dming/130207-10_schladming_decharge.pdf">engagement / décharge rempli et si
 gné...</a></li><li>La <a class="jcepopup" href="https://skivosges.net/docum
 ents/2012/secretariat/Manifestations_Sorties/fiche_sanitaire.pdf" target="_
 blank">Fiche sanitaire de liaison dûment remplie...</a></li><li>Photocopie 
 de la carte d'identité (orignal à avoir sur soi lors de déplacement)</li><l
 i>Photocopie de l'autorisation de sortie du territoire (original à presente
 r lors du déplacement)</li><li>Chèque de 425euros à l'ordre du CRMVS</li></
 ul><p> </p> <a href="https://skivosges.net/agenda/a-venir/detailevenement/1
 8/-/championnats-du-monde-de-ski-alpin?tmpl=component">Cet évènement a été 
 importé depuis :https://skivosges.net/agenda/a-venir/detailevenement/18/-/c
 hampionnats-du-monde-de-ski-alpin?tmpl=component</a>DTSTAMP:20260424T012607
DTSTART;TZID=Europe/Paris;VALUE=DATE:20130207
DTEND;TZID=Europe/Paris;VALUE=DATE:20130211
SEQUENCE:0
TRANSP:OPAQUE
END:VEVENT
END:VCALENDAR