BEGIN:VCALENDAR
VERSION:2.0
PRODID:-//jEvents 2.0 for Joomla//EN
CALSCALE:GREGORIAN
METHOD:PUBLISH
BEGIN:VTIMEZONE
TZID:Europe/Paris
BEGIN:STANDARD
DTSTART:20130315T080000
RDATE:20130331T030000
TZOFFSETFROM:+0200
TZOFFSETTO:+0100
TZNAME:Europe/Paris CET
END:STANDARD
BEGIN:STANDARD
DTSTART:20131027T020000
RDATE:20140330T030000
TZOFFSETFROM:+0200
TZOFFSETTO:+0100
TZNAME:Europe/Paris CET
END:STANDARD
BEGIN:STANDARD
DTSTART:20141026T020000
RDATE:20150329T030000
TZOFFSETFROM:+0200
TZOFFSETTO:+0100
TZNAME:Europe/Paris CET
END:STANDARD
BEGIN:STANDARD
DTSTART:20151025T020000
RDATE:20160327T030000
TZOFFSETFROM:+0200
TZOFFSETTO:+0100
TZNAME:Europe/Paris CET
END:STANDARD
BEGIN:STANDARD
DTSTART:20161030T020000
RDATE:20170326T030000
TZOFFSETFROM:+0200
TZOFFSETTO:+0100
TZNAME:Europe/Paris CET
END:STANDARD
BEGIN:STANDARD
DTSTART:20171029T020000
RDATE:20180325T030000
TZOFFSETFROM:+0200
TZOFFSETTO:+0100
TZNAME:Europe/Paris CET
END:STANDARD
BEGIN:STANDARD
DTSTART:20181028T020000
RDATE:20190331T030000
TZOFFSETFROM:+0200
TZOFFSETTO:+0100
TZNAME:Europe/Paris CET
END:STANDARD
BEGIN:STANDARD
DTSTART:20191027T020000
RDATE:20200329T030000
TZOFFSETFROM:+0200
TZOFFSETTO:+0100
TZNAME:Europe/Paris CET
END:STANDARD
BEGIN:STANDARD
DTSTART:20201025T020000
RDATE:20210328T030000
TZOFFSETFROM:+0200
TZOFFSETTO:+0100
TZNAME:Europe/Paris CET
END:STANDARD
BEGIN:STANDARD
DTSTART:20211031T020000
RDATE:20220327T030000
TZOFFSETFROM:+0200
TZOFFSETTO:+0100
TZNAME:Europe/Paris CET
END:STANDARD
BEGIN:STANDARD
DTSTART:20221030T020000
RDATE:20230326T030000
TZOFFSETFROM:+0200
TZOFFSETTO:+0100
TZNAME:Europe/Paris CET
END:STANDARD
BEGIN:STANDARD
DTSTART:20231029T020000
RDATE:20240331T030000
TZOFFSETFROM:+0200
TZOFFSETTO:+0100
TZNAME:Europe/Paris CET
END:STANDARD
BEGIN:STANDARD
DTSTART:20241027T020000
RDATE:20250330T030000
TZOFFSETFROM:+0200
TZOFFSETTO:+0100
TZNAME:Europe/Paris CET
END:STANDARD
BEGIN:STANDARD
DTSTART:20251026T020000
RDATE:20260329T030000
TZOFFSETFROM:+0200
TZOFFSETTO:+0100
TZNAME:Europe/Paris CET
END:STANDARD
BEGIN:STANDARD
DTSTART:20261025T020000
RDATE:20270328T030000
TZOFFSETFROM:+0200
TZOFFSETTO:+0100
TZNAME:Europe/Paris CET
END:STANDARD
BEGIN:DAYLIGHT
DTSTART:20130331T030000
RDATE:20131027T020000
TZOFFSETFROM:+0100
TZOFFSETTO:+0200
TZNAME:Europe/Paris CEST
END:DAYLIGHT
BEGIN:DAYLIGHT
DTSTART:20140330T030000
RDATE:20141026T020000
TZOFFSETFROM:+0100
TZOFFSETTO:+0200
TZNAME:Europe/Paris CEST
END:DAYLIGHT
BEGIN:DAYLIGHT
DTSTART:20150329T030000
RDATE:20151025T020000
TZOFFSETFROM:+0100
TZOFFSETTO:+0200
TZNAME:Europe/Paris CEST
END:DAYLIGHT
BEGIN:DAYLIGHT
DTSTART:20160327T030000
RDATE:20161030T020000
TZOFFSETFROM:+0100
TZOFFSETTO:+0200
TZNAME:Europe/Paris CEST
END:DAYLIGHT
BEGIN:DAYLIGHT
DTSTART:20170326T030000
RDATE:20171029T020000
TZOFFSETFROM:+0100
TZOFFSETTO:+0200
TZNAME:Europe/Paris CEST
END:DAYLIGHT
BEGIN:DAYLIGHT
DTSTART:20180325T030000
RDATE:20181028T020000
TZOFFSETFROM:+0100
TZOFFSETTO:+0200
TZNAME:Europe/Paris CEST
END:DAYLIGHT
BEGIN:DAYLIGHT
DTSTART:20190331T030000
RDATE:20191027T020000
TZOFFSETFROM:+0100
TZOFFSETTO:+0200
TZNAME:Europe/Paris CEST
END:DAYLIGHT
BEGIN:DAYLIGHT
DTSTART:20200329T030000
RDATE:20201025T020000
TZOFFSETFROM:+0100
TZOFFSETTO:+0200
TZNAME:Europe/Paris CEST
END:DAYLIGHT
BEGIN:DAYLIGHT
DTSTART:20210328T030000
RDATE:20211031T020000
TZOFFSETFROM:+0100
TZOFFSETTO:+0200
TZNAME:Europe/Paris CEST
END:DAYLIGHT
BEGIN:DAYLIGHT
DTSTART:20220327T030000
RDATE:20221030T020000
TZOFFSETFROM:+0100
TZOFFSETTO:+0200
TZNAME:Europe/Paris CEST
END:DAYLIGHT
BEGIN:DAYLIGHT
DTSTART:20230326T030000
RDATE:20231029T020000
TZOFFSETFROM:+0100
TZOFFSETTO:+0200
TZNAME:Europe/Paris CEST
END:DAYLIGHT
BEGIN:DAYLIGHT
DTSTART:20240331T030000
RDATE:20241027T020000
TZOFFSETFROM:+0100
TZOFFSETTO:+0200
TZNAME:Europe/Paris CEST
END:DAYLIGHT
BEGIN:DAYLIGHT
DTSTART:20250330T030000
RDATE:20251026T020000
TZOFFSETFROM:+0100
TZOFFSETTO:+0200
TZNAME:Europe/Paris CEST
END:DAYLIGHT
BEGIN:DAYLIGHT
DTSTART:20260329T030000
RDATE:20261025T020000
TZOFFSETFROM:+0100
TZOFFSETTO:+0200
TZNAME:Europe/Paris CEST
END:DAYLIGHT
END:VTIMEZONE
BEGIN:VEVENT
UID:ca798dda2efd923f8348bf194d4417d4
CATEGORIES:Circuit Massif Jeunes (alpin)
CREATED:20131203T122100
SUMMARY:GPJ U12 et U14 GP Table du Rouan/Hotel de la Jamagne/Cpe d´Argent
URL;VALUE=URI:https://skivosges.net/agenda/a-venir/detailevenement/180/-/gpj-u12-et-u14-g
 p-table-du-rouan-hotel-de-la-jamagne-cpe-dargent?tmpl=component
DESCRIPTION:GPJ U12 et U14 GP Table du Rouan/Hotel de la Jamagne/Cpe d´Argent \n(Grand 
 Prix Jeunes)\n\nLieu : GERARDMER \nOrganisateur : GERARDMER SKI ALPIN  (140
 89 GERARDMER SKI ALPIN)\nEmail : RegularLabs.EmailProtector.unCloak("ep_171
 c36ed");\nTelecopie : 03 29 60 98 04\nTelecopie : 03 29 60 98 04\n\nInscrip
 tions closes, les listes de départ sont visualisables sur ce site\n - AMVF0
 801  Slalom Geant (Coupe d'Argent) de 10 a 13ans au 31/12/2012 (Pou/Ben) Fi
 lles\n  GPJ U12 et U14 GP Table du Rouan/Hotel de la Jamagne/Cpe d'Argent\n
  - AMVM0801  Slalom Geant (Coupe d'Argent) de 10 a 13ans au 31/12/2012 (Pou
 /Ben) Garçons\n  GPJ U12 et U14 GP Table du Rouan/Hotel de la Jamagne/Cpe d
 'Argent Cet évènement a été importé depuis :https://skivosges.net/agenda/a-
 venir/detailevenement/180/-/gpj-u12-et-u14-gp-table-du-rouan-hotel-de-la-ja
 magne-cpe-dargent?tmpl=component
X-ALT-DESC;FMTTYPE=text/html:<strong>GPJ U12 et U14 GP Table du Rouan/Hotel de la Jamagne/Cpe d´Argent</
 strong> <br /><i>(Grand Prix Jeunes)</i><br /><br />Lieu : GERARDMER <br />
 Organisateur : GERARDMER SKI ALPIN  <small>(14089 GERARDMER SKI ALPIN)</sma
 ll><br />Email : <!-- Cette adresse électronique est protégée contre les ro
 bots spammeurs. --><span class="cloaked_email ep_171c36ed"><span data-ep-b=
 "e&#46;fr" data-ep-a="g&#101;&#114;&#97;&#114;"><span data-ep-b="ora&#110;&
 #103;" data-ep-a="&#100;&#109;&#101;r&#45;"><span data-ep-a="&#115;ki&#45;a
 " data-ep-b="l&#112;&#105;&#110;&#64;"></span></span></span></span><script>
 RegularLabs.EmailProtector.unCloak("ep_171c36ed");</script><br />Telecopie 
 : 03 29 60 98 04<br />Telecopie : 03 29 60 98 04<br /><br />Inscriptions cl
 oses, les listes de départ sont visualisables sur ce site<ul type="disc"><l
 i>AMVF0801  Slalom Geant <nobr><i>(Coupe d'Argent)</i></nobr> <nobr>de 10 a
  13ans au 31/12/2012 (Pou/Ben)</nobr> Filles<br />&nbsp;&nbsp;GPJ U12 et U1
 4 GP Table du Rouan/Hotel de la Jamagne/Cpe d'Argent</li><li>AMVM0801  Slal
 om Geant <nobr><i>(Coupe d'Argent)</i></nobr> <nobr>de 10 a 13ans au 31/12/
 2012 (Pou/Ben)</nobr> Garçons<br />&nbsp;&nbsp;GPJ U12 et U14 GP Table du R
 ouan/Hotel de la Jamagne/Cpe d'Argent</li></ul> <a href="https://skivosges.
 net/agenda/a-venir/detailevenement/180/-/gpj-u12-et-u14-gp-table-du-rouan-h
 otel-de-la-jamagne-cpe-dargent?tmpl=component">Cet évènement a été importé 
 depuis :https://skivosges.net/agenda/a-venir/detailevenement/180/-/gpj-u12-
 et-u14-gp-table-du-rouan-hotel-de-la-jamagne-cpe-dargent?tmpl=component</a>DTSTAMP:20260424T015207
DTSTART;TZID=Europe/Paris:20140316T080000
DTEND;TZID=Europe/Paris:20140316T170000
SEQUENCE:0
TRANSP:OPAQUE
END:VEVENT
END:VCALENDAR