BEGIN:VCALENDAR
VERSION:2.0
PRODID:-//jEvents 2.0 for Joomla//EN
CALSCALE:GREGORIAN
METHOD:PUBLISH
BEGIN:VTIMEZONE
TZID:Europe/Paris
BEGIN:STANDARD
DTSTART:20210226T000000
RDATE:20210328T030000
TZOFFSETFROM:+0200
TZOFFSETTO:+0100
TZNAME:Europe/Paris CET
END:STANDARD
BEGIN:STANDARD
DTSTART:20211031T020000
RDATE:20220327T030000
TZOFFSETFROM:+0200
TZOFFSETTO:+0100
TZNAME:Europe/Paris CET
END:STANDARD
BEGIN:STANDARD
DTSTART:20221030T020000
RDATE:20230326T030000
TZOFFSETFROM:+0200
TZOFFSETTO:+0100
TZNAME:Europe/Paris CET
END:STANDARD
BEGIN:STANDARD
DTSTART:20231029T020000
RDATE:20240331T030000
TZOFFSETFROM:+0200
TZOFFSETTO:+0100
TZNAME:Europe/Paris CET
END:STANDARD
BEGIN:STANDARD
DTSTART:20241027T020000
RDATE:20250330T030000
TZOFFSETFROM:+0200
TZOFFSETTO:+0100
TZNAME:Europe/Paris CET
END:STANDARD
BEGIN:STANDARD
DTSTART:20251026T020000
RDATE:20260329T030000
TZOFFSETFROM:+0200
TZOFFSETTO:+0100
TZNAME:Europe/Paris CET
END:STANDARD
BEGIN:STANDARD
DTSTART:20261025T020000
RDATE:20270328T030000
TZOFFSETFROM:+0200
TZOFFSETTO:+0100
TZNAME:Europe/Paris CET
END:STANDARD
BEGIN:DAYLIGHT
DTSTART:20210328T030000
RDATE:20211031T020000
TZOFFSETFROM:+0100
TZOFFSETTO:+0200
TZNAME:Europe/Paris CEST
END:DAYLIGHT
BEGIN:DAYLIGHT
DTSTART:20220327T030000
RDATE:20221030T020000
TZOFFSETFROM:+0100
TZOFFSETTO:+0200
TZNAME:Europe/Paris CEST
END:DAYLIGHT
BEGIN:DAYLIGHT
DTSTART:20230326T030000
RDATE:20231029T020000
TZOFFSETFROM:+0100
TZOFFSETTO:+0200
TZNAME:Europe/Paris CEST
END:DAYLIGHT
BEGIN:DAYLIGHT
DTSTART:20240331T030000
RDATE:20241027T020000
TZOFFSETFROM:+0100
TZOFFSETTO:+0200
TZNAME:Europe/Paris CEST
END:DAYLIGHT
BEGIN:DAYLIGHT
DTSTART:20250330T030000
RDATE:20251026T020000
TZOFFSETFROM:+0100
TZOFFSETTO:+0200
TZNAME:Europe/Paris CEST
END:DAYLIGHT
BEGIN:DAYLIGHT
DTSTART:20260329T030000
RDATE:20261025T020000
TZOFFSETFROM:+0100
TZOFFSETTO:+0200
TZNAME:Europe/Paris CEST
END:DAYLIGHT
END:VTIMEZONE
BEGIN:VEVENT
UID:f60ac18e20fbdee01d1b1a193fd57a2b
CATEGORIES:Circuit Massif Adultes (alpin)
CREATED:20211117T190002
SUMMARY:GPA
URL;VALUE=URI:https://skivosges.net/agenda/a-venir/detailevenement/1801/-/gpa?tmpl=compon
 ent
DESCRIPTION:<!-- #gskiepreuve code généré par le plugin jevents pour GskiEpreuves. Ne p
 as modifier cette ligne, ni tout le contenu suivant  #gskiepreuve --><div c
 lass="gski-evenement_infos"><div class="gski-evenement-nom">GPA</div><div c
 lass="gski-evenement-report"></div><ul class="gski-evenement-liste-infos"><
 li>Codex évenement AMVT0490</li><li>Station : MARKSTEIN</li><li>Organisateu
 r : 14077 SKIEURS DE STRASBOURG</li><li>Courriel : <!-- Cette adresse élect
 ronique est protégée contre les robots spammeurs. --><span class="cloaked_e
 mail ep_ba7ff11e"><span data-ep-a="&#119;ie&#115;&#46;" data-ep-b=""><span 
 data-ep-b="l.&#99;&#111;&#109;" data-ep-a="&#99;&#104;&#114;i&#115;"><span 
 data-ep-b="&#64;&#103;mai" data-ep-a="t&#111;p&#104;&#101;"></span></span><
 /span></span><script>RegularLabs.EmailProtector.unCloak("ep_ba7ff11e");</sc
 ript></li><li>Téléphone : +33672007798</li><li><span class="gski-evenement-
 obs">Délégué Technique : KOENIG DANIEL</span></li></ul><div class="gski-eve
 nement-infos-2"><div class="gski-evenement-info-inscriptions"><div class="g
 ski-evenement-inscriptions-periodes">Période d'inscription à l'evènement du
  dimanche 20 février 2022 à 00:00 au vendredi 25 février 2022 à 12:00<div c
 lass="gski-evenement-inscriptions-types-titres">Inscriptions ouvertes aux d
 etenteurs des titres Fédéraux valides suivants : Licenciés Compétiteurs</di
 v></div></div><div class="gskiepreuves-links"><ul><li><a href="/index.php?o
 ption=com_jevents&task=icalevent.detail&evid=1796&Itemid=6289">Voir les inf
 ormations dans l'agenda...</a></li><li><a href="/index.php?option=com_gskie
 preuves&view=afficheresultats&format_option=tous&filter[search]=AMVT0490&fi
 lter[date_debut]=27-02-2022&filter[date_fin]=27-02-2022&code_activite=ALP&I
 temid=6289">Vers les résultats...</a></li></ul></div><div class="gski-evene
 ment-epreuves"><div class="gski-evenement-epreuves-titres">Epreuves :</div>
 <ul class="gski-evenement-epreuves-list"><li><div class="gski-epreuve-date"
 >Le dimanche 27 février 2022 à 10:00</div><ul class="gski-epreuve-liste-inf
 os"><li>Codex épreuve AMVM0491</li><li>Slalom</li><li>Catégorie(s) : U18 a 
 Masters (Hommes)</li></ul></li><li><div class="gski-epreuve-date">Le dimanc
 he 27 février 2022 à 10:00</div><ul class="gski-epreuve-liste-infos"><li>Co
 dex épreuve AMVF0491</li><li>Slalom</li><li>Catégorie(s) : U18 a Masters (D
 ames)</li></ul></li></ul></div><div class="gskiepreuves-links"><ul><li><a h
 ref="/index.php?option=com_jevents&task=icalevent.detail&evid=1796&Itemid=6
 289">Voir les informations dans l'agenda...</a></li><li><a href="/index.php
 ?option=com_gskiepreuves&view=afficheresultats&format_option=tous&filter[se
 arch]=AMVT0490&filter[date_debut]=27-02-2022&filter[date_fin]=27-02-2022&co
 de_activite=ALP&Itemid=6289">Vers les résultats...</a></li></ul></div></div
 "><!-- #/gskiepreuve fin du dode généré par le plugin jevents pour GskiEpre
 uves. . Ne pas modifier cette ligne, ni tout le contenu précedant.  #/gskie
 preuve --> <a href="https://skivosges.net/agenda/a-venir/detailevenement/18
 01/-/gpa?tmpl=component">Cet évènement a été importé depuis :https://skivos
 ges.net/agenda/a-venir/detailevenement/1801/-/gpa?tmpl=component</a>
X-ALT-DESC;FMTTYPE=text/html:<!-- #gskiepreuve code généré par le plugin jevents pour GskiEpreuves. Ne p
 as modifier cette ligne, ni tout le contenu suivant  #gskiepreuve --><div c
 lass="gski-evenement_infos"><div class="gski-evenement-nom">GPA</div><div c
 lass="gski-evenement-report"></div><ul class="gski-evenement-liste-infos"><
 li>Codex évenement AMVT0490</li><li>Station : MARKSTEIN</li><li>Organisateu
 r : 14077 SKIEURS DE STRASBOURG</li><li>Courriel : <!-- Cette adresse élect
 ronique est protégée contre les robots spammeurs. --><span class="cloaked_e
 mail ep_ba7ff11e"><span data-ep-a="&#119;ie&#115;&#46;" data-ep-b=""><span 
 data-ep-b="l.&#99;&#111;&#109;" data-ep-a="&#99;&#104;&#114;i&#115;"><span 
 data-ep-b="&#64;&#103;mai" data-ep-a="t&#111;p&#104;&#101;"></span></span><
 /span></span><script>RegularLabs.EmailProtector.unCloak("ep_ba7ff11e");</sc
 ript></li><li>Téléphone : +33672007798</li><li><span class="gski-evenement-
 obs">Délégué Technique : KOENIG DANIEL</span></li></ul><div class="gski-eve
 nement-infos-2"><div class="gski-evenement-info-inscriptions"><div class="g
 ski-evenement-inscriptions-periodes">Période d'inscription à l'evènement du
  dimanche 20 février 2022 à 00:00 au vendredi 25 février 2022 à 12:00<div c
 lass="gski-evenement-inscriptions-types-titres">Inscriptions ouvertes aux d
 etenteurs des titres Fédéraux valides suivants : Licenciés Compétiteurs</di
 v></div></div><div class="gskiepreuves-links"><ul><li><a href="https://skiv
 osges.net/index.php?option=com_jevents&task=icalevent.detail&evid=1796&Item
 id=6289">Voir les informations dans l'agenda...</a></li><li><a href="https:
 //skivosges.net/index.php?option=com_gskiepreuves&view=afficheresultats&for
 mat_option=tous&filter[search]=AMVT0490&filter[date_debut]=27-02-2022&filte
 r[date_fin]=27-02-2022&code_activite=ALP&Itemid=6289">Vers les résultats...
 </a></li></ul></div><div class="gski-evenement-epreuves"><div class="gski-e
 venement-epreuves-titres">Epreuves :</div><ul class="gski-evenement-epreuve
 s-list"><li><div class="gski-epreuve-date">Le dimanche 27 février 2022 à 10
 :00</div><ul class="gski-epreuve-liste-infos"><li>Codex épreuve AMVM0491</l
 i><li>Slalom</li><li>Catégorie(s) : U18 a Masters (Hommes)</li></ul></li><l
 i><div class="gski-epreuve-date">Le dimanche 27 février 2022 à 10:00</div><
 ul class="gski-epreuve-liste-infos"><li>Codex épreuve AMVF0491</li><li>Slal
 om</li><li>Catégorie(s) : U18 a Masters (Dames)</li></ul></li></ul></div><d
 iv class="gskiepreuves-links"><ul><li><a href="https://skivosges.net/index.
 php?option=com_jevents&task=icalevent.detail&evid=1796&Itemid=6289">Voir le
 s informations dans l'agenda...</a></li><li><a href="https://skivosges.net/
 index.php?option=com_gskiepreuves&view=afficheresultats&format_option=tous&
 filter[search]=AMVT0490&filter[date_debut]=27-02-2022&filter[date_fin]=27-0
 2-2022&code_activite=ALP&Itemid=6289">Vers les résultats...</a></li></ul></
 div></div"><!-- #/gskiepreuve fin du dode généré par le plugin jevents pour
  GskiEpreuves. . Ne pas modifier cette ligne, ni tout le contenu précedant.
   #/gskiepreuve --> <a href="https://skivosges.net/agenda/a-venir/detaileve
 nement/1801/-/gpa?tmpl=component">Cet évènement a été importé depuis :https
 ://skivosges.net/agenda/a-venir/detailevenement/1801/-/gpa?tmpl=component</
 a>DTSTAMP:20260421T051506
DTSTART;TZID=Europe/Paris;VALUE=DATE:20220227
DTEND;TZID=Europe/Paris;VALUE=DATE:20220228
SEQUENCE:0
TRANSP:OPAQUE
END:VEVENT
END:VCALENDAR