BEGIN:VCALENDAR
VERSION:2.0
PRODID:-//jEvents 2.0 for Joomla//EN
CALSCALE:GREGORIAN
METHOD:PUBLISH
BEGIN:VTIMEZONE
TZID:Europe/Paris
BEGIN:STANDARD
DTSTART:20210226T000000
RDATE:20210328T030000
TZOFFSETFROM:+0200
TZOFFSETTO:+0100
TZNAME:Europe/Paris CET
END:STANDARD
BEGIN:STANDARD
DTSTART:20211031T020000
RDATE:20220327T030000
TZOFFSETFROM:+0200
TZOFFSETTO:+0100
TZNAME:Europe/Paris CET
END:STANDARD
BEGIN:STANDARD
DTSTART:20221030T020000
RDATE:20230326T030000
TZOFFSETFROM:+0200
TZOFFSETTO:+0100
TZNAME:Europe/Paris CET
END:STANDARD
BEGIN:STANDARD
DTSTART:20231029T020000
RDATE:20240331T030000
TZOFFSETFROM:+0200
TZOFFSETTO:+0100
TZNAME:Europe/Paris CET
END:STANDARD
BEGIN:STANDARD
DTSTART:20241027T020000
RDATE:20250330T030000
TZOFFSETFROM:+0200
TZOFFSETTO:+0100
TZNAME:Europe/Paris CET
END:STANDARD
BEGIN:STANDARD
DTSTART:20251026T020000
RDATE:20260329T030000
TZOFFSETFROM:+0200
TZOFFSETTO:+0100
TZNAME:Europe/Paris CET
END:STANDARD
BEGIN:STANDARD
DTSTART:20261025T020000
RDATE:20270328T030000
TZOFFSETFROM:+0200
TZOFFSETTO:+0100
TZNAME:Europe/Paris CET
END:STANDARD
BEGIN:DAYLIGHT
DTSTART:20210328T030000
RDATE:20211031T020000
TZOFFSETFROM:+0100
TZOFFSETTO:+0200
TZNAME:Europe/Paris CEST
END:DAYLIGHT
BEGIN:DAYLIGHT
DTSTART:20220327T030000
RDATE:20221030T020000
TZOFFSETFROM:+0100
TZOFFSETTO:+0200
TZNAME:Europe/Paris CEST
END:DAYLIGHT
BEGIN:DAYLIGHT
DTSTART:20230326T030000
RDATE:20231029T020000
TZOFFSETFROM:+0100
TZOFFSETTO:+0200
TZNAME:Europe/Paris CEST
END:DAYLIGHT
BEGIN:DAYLIGHT
DTSTART:20240331T030000
RDATE:20241027T020000
TZOFFSETFROM:+0100
TZOFFSETTO:+0200
TZNAME:Europe/Paris CEST
END:DAYLIGHT
BEGIN:DAYLIGHT
DTSTART:20250330T030000
RDATE:20251026T020000
TZOFFSETFROM:+0100
TZOFFSETTO:+0200
TZNAME:Europe/Paris CEST
END:DAYLIGHT
BEGIN:DAYLIGHT
DTSTART:20260329T030000
RDATE:20261025T020000
TZOFFSETFROM:+0100
TZOFFSETTO:+0200
TZNAME:Europe/Paris CEST
END:DAYLIGHT
END:VTIMEZONE
BEGIN:VEVENT
UID:c766f221be865e97b98bf3ca67c5625d
CATEGORIES:Compétition Ski Alpin
CREATED:20211117T190002
SUMMARY:---- *** ANNULE(E) ***
URL;VALUE=URI:https://skivosges.net/agenda/a-venir/detailevenement/1803/-/annule-e?tmpl=c
 omponent
DESCRIPTION:---- (Epreuve annulée)\n - Codex évenement AMVT0500\n - Station : GERARDMER
 \n - Organisateur : 14128 A.S ELECTRICITE STRASBOURG\n - Courriel : Regular
 Labs.EmailProtector.unCloak("ep_27c3332b");\n - Délégué Technique : KOENIG 
 DANIELPériode d'inscription à l'evènement du dimanche 20 février 2022 à 00:
 00 au vendredi 25 février 2022 à 12:00Inscriptions ouvertes aux detenteurs 
 des titres Fédéraux valides suivants : Licenciés Compétiteurs\n - Voir les 
 informations dans l'agenda... (/index.php?option=com_jevents&amp;task=icale
 vent.detail&amp;evid=1798&amp;Itemid=6289)Epreuves :\n - Le dimanche 27 fév
 rier 2022\n - Codex épreuve AMVM0501\n - Slalom Geant\n - Catégorie(s) : U1
 4 (Garçons)\n - Le dimanche 27 février 2022\n - Codex épreuve AMVF0501\n - 
 Slalom Geant\n - Catégorie(s) : U14 (Filles)\n - Voir les informations dans
  l'agenda... (/index.php?option=com_jevents&amp;task=icalevent.detail&amp;e
 vid=1798&amp;Itemid=6289) Cet évènement a été importé depuis :https://skivo
 sges.net/agenda/a-venir/detailevenement/1803/-/annule-e?tmpl=component
X-ALT-DESC;FMTTYPE=text/html:<!-- #gskiepreuve code généré par le plugin jevents pour GskiEpreuves. Ne p
 as modifier cette ligne, ni tout le contenu suivant  #gskiepreuve --><div c
 lass="gski-evenement_infos"><div class="gski-evenement-nom">----</div><div 
 class="gski-evenement-report"> <font class="gskiattention">(Epreuve annulée
 )</font></div><ul class="gski-evenement-liste-infos"><li>Codex évenement AM
 VT0500</li><li>Station : GERARDMER</li><li>Organisateur : 14128 A.S ELECTRI
 CITE STRASBOURG</li><li>Courriel : <!-- Cette adresse électronique est prot
 égée contre les robots spammeurs. --><span class="cloaked_email ep_27c3332b
 "><span data-ep-a="&#102;&#98;" data-ep-b="fr"><span data-ep-a="&#46;&#64;"
  data-ep-b="7."><span data-ep-a="&#109;&#103;" data-ep-b="&#109;&#54;"></sp
 an></span></span></span><script>RegularLabs.EmailProtector.unCloak("ep_27c3
 332b");</script></li><li><span class="gski-evenement-obs">Délégué Technique
  : KOENIG DANIEL</span></li></ul><div class="gski-evenement-infos-2"><div c
 lass="gski-evenement-info-inscriptions"><div class="gski-evenement-inscript
 ions-periodes">Période d'inscription à l'evènement du dimanche 20 février 2
 022 à 00:00 au vendredi 25 février 2022 à 12:00<div class="gski-evenement-i
 nscriptions-types-titres">Inscriptions ouvertes aux detenteurs des titres F
 édéraux valides suivants : Licenciés Compétiteurs</div></div></div><div cla
 ss="gskiepreuves-links"><ul><li><a href="https://skivosges.net/index.php?op
 tion=com_jevents&task=icalevent.detail&evid=1798&Itemid=6289">Voir les info
 rmations dans l'agenda...</a></li></ul></div><div class="gski-evenement-epr
 euves"><div class="gski-evenement-epreuves-titres">Epreuves :</div><ul clas
 s="gski-evenement-epreuves-list"><li><div class="gski-epreuve-date">Le dima
 nche 27 février 2022</div><ul class="gski-epreuve-liste-infos"><li>Codex ép
 reuve AMVM0501</li><li>Slalom Geant</li><li>Catégorie(s) : U14 (Garçons)</l
 i></ul></li><li><div class="gski-epreuve-date">Le dimanche 27 février 2022<
 /div><ul class="gski-epreuve-liste-infos"><li>Codex épreuve AMVF0501</li><l
 i>Slalom Geant</li><li>Catégorie(s) : U14 (Filles)</li></ul></li></ul></div
 ><div class="gskiepreuves-links"><ul><li><a href="https://skivosges.net/ind
 ex.php?option=com_jevents&task=icalevent.detail&evid=1798&Itemid=6289">Voir
  les informations dans l'agenda...</a></li></ul></div></div"><!-- #/gskiepr
 euve fin du dode généré par le plugin jevents pour GskiEpreuves. . Ne pas m
 odifier cette ligne, ni tout le contenu précedant.  #/gskiepreuve --> <a hr
 ef="https://skivosges.net/agenda/a-venir/detailevenement/1803/-/annule-e?tm
 pl=component">Cet évènement a été importé depuis :https://skivosges.net/age
 nda/a-venir/detailevenement/1803/-/annule-e?tmpl=component</a>DTSTAMP:20260421T051312
DTSTART;TZID=Europe/Paris;VALUE=DATE:20220227
DTEND;TZID=Europe/Paris;VALUE=DATE:20220228
SEQUENCE:0
TRANSP:OPAQUE
END:VEVENT
END:VCALENDAR