BEGIN:VCALENDAR
VERSION:2.0
PRODID:-//jEvents 2.0 for Joomla//EN
CALSCALE:GREGORIAN
METHOD:PUBLISH
BEGIN:VTIMEZONE
TZID:Europe/Paris
BEGIN:STANDARD
DTSTART:20210304T000000
RDATE:20210328T030000
TZOFFSETFROM:+0200
TZOFFSETTO:+0100
TZNAME:Europe/Paris CET
END:STANDARD
BEGIN:STANDARD
DTSTART:20211031T020000
RDATE:20220327T030000
TZOFFSETFROM:+0200
TZOFFSETTO:+0100
TZNAME:Europe/Paris CET
END:STANDARD
BEGIN:STANDARD
DTSTART:20221030T020000
RDATE:20230326T030000
TZOFFSETFROM:+0200
TZOFFSETTO:+0100
TZNAME:Europe/Paris CET
END:STANDARD
BEGIN:STANDARD
DTSTART:20231029T020000
RDATE:20240331T030000
TZOFFSETFROM:+0200
TZOFFSETTO:+0100
TZNAME:Europe/Paris CET
END:STANDARD
BEGIN:STANDARD
DTSTART:20241027T020000
RDATE:20250330T030000
TZOFFSETFROM:+0200
TZOFFSETTO:+0100
TZNAME:Europe/Paris CET
END:STANDARD
BEGIN:STANDARD
DTSTART:20251026T020000
RDATE:20260329T030000
TZOFFSETFROM:+0200
TZOFFSETTO:+0100
TZNAME:Europe/Paris CET
END:STANDARD
BEGIN:STANDARD
DTSTART:20261025T020000
RDATE:20270328T030000
TZOFFSETFROM:+0200
TZOFFSETTO:+0100
TZNAME:Europe/Paris CET
END:STANDARD
BEGIN:DAYLIGHT
DTSTART:20210328T030000
RDATE:20211031T020000
TZOFFSETFROM:+0100
TZOFFSETTO:+0200
TZNAME:Europe/Paris CEST
END:DAYLIGHT
BEGIN:DAYLIGHT
DTSTART:20220327T030000
RDATE:20221030T020000
TZOFFSETFROM:+0100
TZOFFSETTO:+0200
TZNAME:Europe/Paris CEST
END:DAYLIGHT
BEGIN:DAYLIGHT
DTSTART:20230326T030000
RDATE:20231029T020000
TZOFFSETFROM:+0100
TZOFFSETTO:+0200
TZNAME:Europe/Paris CEST
END:DAYLIGHT
BEGIN:DAYLIGHT
DTSTART:20240331T030000
RDATE:20241027T020000
TZOFFSETFROM:+0100
TZOFFSETTO:+0200
TZNAME:Europe/Paris CEST
END:DAYLIGHT
BEGIN:DAYLIGHT
DTSTART:20250330T030000
RDATE:20251026T020000
TZOFFSETFROM:+0100
TZOFFSETTO:+0200
TZNAME:Europe/Paris CEST
END:DAYLIGHT
BEGIN:DAYLIGHT
DTSTART:20260329T030000
RDATE:20261025T020000
TZOFFSETFROM:+0100
TZOFFSETTO:+0200
TZNAME:Europe/Paris CEST
END:DAYLIGHT
END:VTIMEZONE
BEGIN:VEVENT
UID:55fc60680fd1cb1dade1ca70f77c3710
CATEGORIES:Opens et Promos (alpin)
CREATED:20211117T190002
SUMMARY:PROMO Trophée cd 90 **REPORTE**
URL;VALUE=URI:https://skivosges.net/agenda/a-venir/detailevenement/1806/-/promo-trophee-c
 d-90-reporte?tmpl=component
DESCRIPTION:<!-- #gskiepreuve code généré par le plugin jevents pour GskiEpreuves. Ne p
 as modifier cette ligne, ni tout le contenu suivant  #gskiepreuve --><div c
 lass="gski-evenement_infos"><div class="gski-evenement-nom">PROMO Trophée c
 d 90</div><div class="gski-evenement-report"> <font class="gskiattention">(
 Epreuve reportée, date à determiner)</font></div><ul class="gski-evenement-
 liste-infos"><li>Codex évenement AMVT0550</li><li>Station : BALLON D'ALSACE
 </li><li>Organisateur : 14004 STE SKI TOURISME MONTAGNE</li><li>Courriel : 
 <!-- Cette adresse électronique est protégée contre les robots spammeurs. -
 -><span class="cloaked_email ep_23d835c7"><span data-ep-b="" data-ep-a="j&#
 103;h"><span data-ep-b="&#114;" data-ep-a="&#64;&#99;&#105;"><span data-ep-
 a="&#116;&#101;&#108;" data-ep-b="&#101;.&#102;"></span></span></span></spa
 n><script>RegularLabs.EmailProtector.unCloak("ep_23d835c7");</script></li><
 li>Téléphone : 0384901720</li></ul><div class="gski-evenement-infos-2"><div
  class="gski-evenement-info-inscriptions"><div class="gski-evenement-inscri
 ptions-periodes">Période d'inscription à l'evènement du samedi 26 février 2
 022 à 00:00 au jeudi 03 mars 2022 à 12:00<div class="gski-evenement-inscrip
 tions-types-titres">Inscriptions ouvertes aux detenteurs des titres Fédérau
 x valides suivants : Licenciés Compétiteurs et Titres Loisirs et Dirigeants
 </div></div></div><div class="gskiepreuves-links"><ul><li><a href="/index.p
 hp?option=com_jevents&task=icalevent.detail&evid=1801&Itemid=6289">Voir les
  informations dans l'agenda...</a></li></ul></div><div class="gski-evenemen
 t-epreuves"><div class="gski-evenement-epreuves-titres">Epreuves :</div><ul
  class="gski-evenement-epreuves-list"><li><div class="gski-epreuve-date">Le
  samedi 05 mars 2022</div><ul class="gski-epreuve-liste-infos"><li>Codex ép
 reuve AMVM0551</li><li>Slalom</li><li>Catégorie(s) : U8/U10 (Garçons)</li><
 /ul></li><li><div class="gski-epreuve-date">Le samedi 05 mars 2022</div><ul
  class="gski-epreuve-liste-infos"><li>Codex épreuve AMVF0551</li><li>Slalom
 </li><li>Catégorie(s) : U8/U10 (Filles)</li></ul></li></ul></div><div class
 ="gskiepreuves-links"><ul><li><a href="/index.php?option=com_jevents&task=i
 calevent.detail&evid=1801&Itemid=6289">Voir les informations dans l'agenda.
 ..</a></li></ul></div></div"><!-- #/gskiepreuve fin du dode généré par le p
 lugin jevents pour GskiEpreuves. . Ne pas modifier cette ligne, ni tout le 
 contenu précedant.  #/gskiepreuve --> <a href="https://skivosges.net/agenda
 /a-venir/detailevenement/1806/-/promo-trophee-cd-90-reporte?tmpl=component"
 >Cet évènement a été importé depuis :https://skivosges.net/agenda/a-venir/d
 etailevenement/1806/-/promo-trophee-cd-90-reporte?tmpl=component</a>
X-ALT-DESC;FMTTYPE=text/html:<!-- #gskiepreuve code généré par le plugin jevents pour GskiEpreuves. Ne p
 as modifier cette ligne, ni tout le contenu suivant  #gskiepreuve --><div c
 lass="gski-evenement_infos"><div class="gski-evenement-nom">PROMO Trophée c
 d 90</div><div class="gski-evenement-report"> <font class="gskiattention">(
 Epreuve reportée, date à determiner)</font></div><ul class="gski-evenement-
 liste-infos"><li>Codex évenement AMVT0550</li><li>Station : BALLON D'ALSACE
 </li><li>Organisateur : 14004 STE SKI TOURISME MONTAGNE</li><li>Courriel : 
 <!-- Cette adresse électronique est protégée contre les robots spammeurs. -
 -><span class="cloaked_email ep_23d835c7"><span data-ep-b="" data-ep-a="j&#
 103;h"><span data-ep-b="&#114;" data-ep-a="&#64;&#99;&#105;"><span data-ep-
 a="&#116;&#101;&#108;" data-ep-b="&#101;.&#102;"></span></span></span></spa
 n><script>RegularLabs.EmailProtector.unCloak("ep_23d835c7");</script></li><
 li>Téléphone : 0384901720</li></ul><div class="gski-evenement-infos-2"><div
  class="gski-evenement-info-inscriptions"><div class="gski-evenement-inscri
 ptions-periodes">Période d'inscription à l'evènement du samedi 26 février 2
 022 à 00:00 au jeudi 03 mars 2022 à 12:00<div class="gski-evenement-inscrip
 tions-types-titres">Inscriptions ouvertes aux detenteurs des titres Fédérau
 x valides suivants : Licenciés Compétiteurs et Titres Loisirs et Dirigeants
 </div></div></div><div class="gskiepreuves-links"><ul><li><a href="https://
 skivosges.net/index.php?option=com_jevents&task=icalevent.detail&evid=1801&
 Itemid=6289">Voir les informations dans l'agenda...</a></li></ul></div><div
  class="gski-evenement-epreuves"><div class="gski-evenement-epreuves-titres
 ">Epreuves :</div><ul class="gski-evenement-epreuves-list"><li><div class="
 gski-epreuve-date">Le samedi 05 mars 2022</div><ul class="gski-epreuve-list
 e-infos"><li>Codex épreuve AMVM0551</li><li>Slalom</li><li>Catégorie(s) : U
 8/U10 (Garçons)</li></ul></li><li><div class="gski-epreuve-date">Le samedi 
 05 mars 2022</div><ul class="gski-epreuve-liste-infos"><li>Codex épreuve AM
 VF0551</li><li>Slalom</li><li>Catégorie(s) : U8/U10 (Filles)</li></ul></li>
 </ul></div><div class="gskiepreuves-links"><ul><li><a href="https://skivosg
 es.net/index.php?option=com_jevents&task=icalevent.detail&evid=1801&Itemid=
 6289">Voir les informations dans l'agenda...</a></li></ul></div></div"><!--
  #/gskiepreuve fin du dode généré par le plugin jevents pour GskiEpreuves. 
 . Ne pas modifier cette ligne, ni tout le contenu précedant.  #/gskiepreuve
  --> <a href="https://skivosges.net/agenda/a-venir/detailevenement/1806/-/p
 romo-trophee-cd-90-reporte?tmpl=component">Cet évènement a été importé depu
 is :https://skivosges.net/agenda/a-venir/detailevenement/1806/-/promo-troph
 ee-cd-90-reporte?tmpl=component</a>DTSTAMP:20260421T051505
DTSTART;TZID=Europe/Paris;VALUE=DATE:20220305
DTEND;TZID=Europe/Paris;VALUE=DATE:20220306
SEQUENCE:0
TRANSP:OPAQUE
END:VEVENT
END:VCALENDAR