BEGIN:VCALENDAR
VERSION:2.0
PRODID:-//jEvents 2.0 for Joomla//EN
CALSCALE:GREGORIAN
METHOD:PUBLISH
BEGIN:VTIMEZONE
TZID:Europe/Paris
BEGIN:STANDARD
DTSTART:20210305T000000
RDATE:20210328T030000
TZOFFSETFROM:+0200
TZOFFSETTO:+0100
TZNAME:Europe/Paris CET
END:STANDARD
BEGIN:STANDARD
DTSTART:20211031T020000
RDATE:20220327T030000
TZOFFSETFROM:+0200
TZOFFSETTO:+0100
TZNAME:Europe/Paris CET
END:STANDARD
BEGIN:STANDARD
DTSTART:20221030T020000
RDATE:20230326T030000
TZOFFSETFROM:+0200
TZOFFSETTO:+0100
TZNAME:Europe/Paris CET
END:STANDARD
BEGIN:STANDARD
DTSTART:20231029T020000
RDATE:20240331T030000
TZOFFSETFROM:+0200
TZOFFSETTO:+0100
TZNAME:Europe/Paris CET
END:STANDARD
BEGIN:STANDARD
DTSTART:20241027T020000
RDATE:20250330T030000
TZOFFSETFROM:+0200
TZOFFSETTO:+0100
TZNAME:Europe/Paris CET
END:STANDARD
BEGIN:STANDARD
DTSTART:20251026T020000
RDATE:20260329T030000
TZOFFSETFROM:+0200
TZOFFSETTO:+0100
TZNAME:Europe/Paris CET
END:STANDARD
BEGIN:STANDARD
DTSTART:20261025T020000
RDATE:20270328T030000
TZOFFSETFROM:+0200
TZOFFSETTO:+0100
TZNAME:Europe/Paris CET
END:STANDARD
BEGIN:DAYLIGHT
DTSTART:20210328T030000
RDATE:20211031T020000
TZOFFSETFROM:+0100
TZOFFSETTO:+0200
TZNAME:Europe/Paris CEST
END:DAYLIGHT
BEGIN:DAYLIGHT
DTSTART:20220327T030000
RDATE:20221030T020000
TZOFFSETFROM:+0100
TZOFFSETTO:+0200
TZNAME:Europe/Paris CEST
END:DAYLIGHT
BEGIN:DAYLIGHT
DTSTART:20230326T030000
RDATE:20231029T020000
TZOFFSETFROM:+0100
TZOFFSETTO:+0200
TZNAME:Europe/Paris CEST
END:DAYLIGHT
BEGIN:DAYLIGHT
DTSTART:20240331T030000
RDATE:20241027T020000
TZOFFSETFROM:+0100
TZOFFSETTO:+0200
TZNAME:Europe/Paris CEST
END:DAYLIGHT
BEGIN:DAYLIGHT
DTSTART:20250330T030000
RDATE:20251026T020000
TZOFFSETFROM:+0100
TZOFFSETTO:+0200
TZNAME:Europe/Paris CEST
END:DAYLIGHT
BEGIN:DAYLIGHT
DTSTART:20260329T030000
RDATE:20261025T020000
TZOFFSETFROM:+0100
TZOFFSETTO:+0200
TZNAME:Europe/Paris CEST
END:DAYLIGHT
END:VTIMEZONE
BEGIN:VEVENT
UID:944858d6ce9e7d77df38321d0a134544
CATEGORIES:Opens et Promos (alpin)
CREATED:20211117T190002
SUMMARY:PROMO Dimanche de la Glisse - Etape 8 et Finale
URL;VALUE=URI:https://skivosges.net/agenda/a-venir/detailevenement/1812/-/promo-dimanche-
 de-la-glisse-etape-8-et-finale?tmpl=component
DESCRIPTION:PROMO Dimanche de la Glisse - Etape 8 et Finale\n - Codex évenement AMVT058
 0\n - Station : CHAMP DU FEU\n - Organisateur : 14128 A.S ELECTRICITE STRAS
 BOURG\n - Courriel : RegularLabs.EmailProtector.unCloak("ep_fea805ed");Péri
 ode d'inscription à l'evènement du dimanche 27 février 2022 à 00:00 au same
 di 05 mars 2022 à 12:00Inscriptions ouvertes aux detenteurs des titres Fédé
 raux valides suivants : Licenciés Compétiteurs et Titres Loisirs et Dirigea
 nts\n - Voir les informations dans l'agenda... (/index.php?option=com_jeven
 ts&amp;task=icalevent.detail&amp;evid=1807&amp;Itemid=6289)\n - Vers les ré
 sultats... (/index.php?option=com_gskiepreuves&amp;view=afficheresultats&am
 p;format_option=tous&amp;filter[search]=AMVT0580&amp;filter[date_debut]=06-
 03-2022&amp;filter[date_fin]=06-03-2022&amp;code_activite=ALP&amp;Itemid=62
 89)\n - Publications concernant cet évènement :\n - Samedi 5 Mars 2022 à 18
 :46 : Le 06/03/2022 CHAMP DU FEU Liste de départsEpreuves :\n - Le dimanche
  06 mars 2022\n - Codex épreuve AMVM0581\n - Slalom Geant\n - Catégorie(s) 
 : U8/U10 (Garçons)\n - Le dimanche 06 mars 2022\n - Codex épreuve AMVF0581\
 n - Slalom Geant\n - Catégorie(s) : U8/U10 (Filles)\n - Le dimanche 06 mars
  2022\n - Codex épreuve AMVF0582\n - Slalom Geant\n - Catégorie(s) : U12 a 
 U16 (Filles)\n - Le dimanche 06 mars 2022\n - Codex épreuve AMVM0582\n - Sl
 alom Geant\n - Catégorie(s) : U12 a U16 (Garçons)\n - Voir les informations
  dans l'agenda... (/index.php?option=com_jevents&amp;task=icalevent.detail&
 amp;evid=1807&amp;Itemid=6289)\n - Vers les résultats... (/index.php?option
 =com_gskiepreuves&amp;view=afficheresultats&amp;format_option=tous&amp;filt
 er[search]=AMVT0580&amp;filter[date_debut]=06-03-2022&amp;filter[date_fin]=
 06-03-2022&amp;code_activite=ALP&amp;Itemid=6289)\n - Publications concerna
 nt cet évènement :\n - Samedi 5 Mars 2022 à 18:46 : Le 06/03/2022 CHAMP DU 
 FEU Liste de départs Cet évènement a été importé depuis :https://skivosges.
 net/agenda/a-venir/detailevenement/1812/-/promo-dimanche-de-la-glisse-etape
 -8-et-finale?tmpl=component
X-ALT-DESC;FMTTYPE=text/html:<!-- #gskiepreuve code généré par le plugin jevents pour GskiEpreuves. Ne p
 as modifier cette ligne, ni tout le contenu suivant  #gskiepreuve --><div c
 lass="gski-evenement_infos"><div class="gski-evenement-nom">PROMO Dimanche 
 de la Glisse - Etape 8 et Finale</div><div class="gski-evenement-report"></
 div><ul class="gski-evenement-liste-infos"><li>Codex évenement AMVT0580</li
 ><li>Station : CHAMP DU FEU</li><li>Organisateur : 14128 A.S ELECTRICITE ST
 RASBOURG</li><li>Courriel : <!-- Cette adresse électronique est protégée co
 ntre les robots spammeurs. --><span class="cloaked_email ep_fea805ed"><span
  data-ep-b="&#102;&#114;" data-ep-a="&#102;b"><span data-ep-a=".&#64;" data
 -ep-b="&#55;&#46;"><span data-ep-a="&#109;&#103;" data-ep-b="&#109;&#54;"><
 /span></span></span></span><script>RegularLabs.EmailProtector.unCloak("ep_f
 ea805ed");</script></li></ul><div class="gski-evenement-infos-2"><div class
 ="gski-evenement-info-inscriptions"><div class="gski-evenement-inscriptions
 -periodes">Période d'inscription à l'evènement du dimanche 27 février 2022 
 à 00:00 au samedi 05 mars 2022 à 12:00<div class="gski-evenement-inscriptio
 ns-types-titres">Inscriptions ouvertes aux detenteurs des titres Fédéraux v
 alides suivants : Licenciés Compétiteurs et Titres Loisirs et Dirigeants</d
 iv></div></div><div class="gskiepreuves-links"><ul><li><a href="https://ski
 vosges.net/index.php?option=com_jevents&task=icalevent.detail&evid=1807&Ite
 mid=6289">Voir les informations dans l'agenda...</a></li><li><a href="https
 ://skivosges.net/index.php?option=com_gskiepreuves&view=afficheresultats&fo
 rmat_option=tous&filter[search]=AMVT0580&filter[date_debut]=06-03-2022&filt
 er[date_fin]=06-03-2022&code_activite=ALP&Itemid=6289">Vers les résultats..
 .</a></li><li>Publications concernant cet évènement :<ul><li><a href="https
 ://skivosges.net/index.php?option=com_content&view=article&id=7683&Itemid=6
 289">Samedi 5 Mars 2022 à 18:46 : Le 06/03/2022 CHAMP DU FEU Liste de dépar
 ts</a></li></ul></li></ul></div><div class="gski-evenement-epreuves"><div c
 lass="gski-evenement-epreuves-titres">Epreuves :</div><ul class="gski-evene
 ment-epreuves-list"><li><div class="gski-epreuve-date">Le dimanche 06 mars 
 2022</div><ul class="gski-epreuve-liste-infos"><li>Codex épreuve AMVM0581</
 li><li>Slalom Geant</li><li>Catégorie(s) : U8/U10 (Garçons)</li></ul></li><
 li><div class="gski-epreuve-date">Le dimanche 06 mars 2022</div><ul class="
 gski-epreuve-liste-infos"><li>Codex épreuve AMVF0581</li><li>Slalom Geant</
 li><li>Catégorie(s) : U8/U10 (Filles)</li></ul></li><li><div class="gski-ep
 reuve-date">Le dimanche 06 mars 2022</div><ul class="gski-epreuve-liste-inf
 os"><li>Codex épreuve AMVF0582</li><li>Slalom Geant</li><li>Catégorie(s) : 
 U12 a U16 (Filles)</li></ul></li><li><div class="gski-epreuve-date">Le dima
 nche 06 mars 2022</div><ul class="gski-epreuve-liste-infos"><li>Codex épreu
 ve AMVM0582</li><li>Slalom Geant</li><li>Catégorie(s) : U12 a U16 (Garçons)
 </li></ul></li></ul></div><div class="gskiepreuves-links"><ul><li><a href="
 https://skivosges.net/index.php?option=com_jevents&task=icalevent.detail&ev
 id=1807&Itemid=6289">Voir les informations dans l'agenda...</a></li><li><a 
 href="https://skivosges.net/index.php?option=com_gskiepreuves&view=afficher
 esultats&format_option=tous&filter[search]=AMVT0580&filter[date_debut]=06-0
 3-2022&filter[date_fin]=06-03-2022&code_activite=ALP&Itemid=6289">Vers les 
 résultats...</a></li><li>Publications concernant cet évènement :<ul><li><a 
 href="https://skivosges.net/index.php?option=com_content&view=article&id=76
 83&Itemid=6289">Samedi 5 Mars 2022 à 18:46 : Le 06/03/2022 CHAMP DU FEU Lis
 te de départs</a></li></ul></li></ul></div></div"><!-- #/gskiepreuve fin du
  dode généré par le plugin jevents pour GskiEpreuves. . Ne pas modifier cet
 te ligne, ni tout le contenu précedant.  #/gskiepreuve --> <a href="https:/
 /skivosges.net/agenda/a-venir/detailevenement/1812/-/promo-dimanche-de-la-g
 lisse-etape-8-et-finale?tmpl=component">Cet évènement a été importé depuis 
 :https://skivosges.net/agenda/a-venir/detailevenement/1812/-/promo-dimanche
 -de-la-glisse-etape-8-et-finale?tmpl=component</a>DTSTAMP:20260421T015604
DTSTART;TZID=Europe/Paris;VALUE=DATE:20220306
DTEND;TZID=Europe/Paris;VALUE=DATE:20220307
SEQUENCE:0
TRANSP:OPAQUE
END:VEVENT
END:VCALENDAR