BEGIN:VCALENDAR
VERSION:2.0
PRODID:-//jEvents 2.0 for Joomla//EN
CALSCALE:GREGORIAN
METHOD:PUBLISH
BEGIN:VTIMEZONE
TZID:Europe/Paris
BEGIN:STANDARD
DTSTART:20210312T000000
RDATE:20210328T030000
TZOFFSETFROM:+0200
TZOFFSETTO:+0100
TZNAME:Europe/Paris CET
END:STANDARD
BEGIN:STANDARD
DTSTART:20211031T020000
RDATE:20220327T030000
TZOFFSETFROM:+0200
TZOFFSETTO:+0100
TZNAME:Europe/Paris CET
END:STANDARD
BEGIN:STANDARD
DTSTART:20221030T020000
RDATE:20230326T030000
TZOFFSETFROM:+0200
TZOFFSETTO:+0100
TZNAME:Europe/Paris CET
END:STANDARD
BEGIN:STANDARD
DTSTART:20231029T020000
RDATE:20240331T030000
TZOFFSETFROM:+0200
TZOFFSETTO:+0100
TZNAME:Europe/Paris CET
END:STANDARD
BEGIN:STANDARD
DTSTART:20241027T020000
RDATE:20250330T030000
TZOFFSETFROM:+0200
TZOFFSETTO:+0100
TZNAME:Europe/Paris CET
END:STANDARD
BEGIN:STANDARD
DTSTART:20251026T020000
RDATE:20260329T030000
TZOFFSETFROM:+0200
TZOFFSETTO:+0100
TZNAME:Europe/Paris CET
END:STANDARD
BEGIN:STANDARD
DTSTART:20261025T020000
RDATE:20270328T030000
TZOFFSETFROM:+0200
TZOFFSETTO:+0100
TZNAME:Europe/Paris CET
END:STANDARD
BEGIN:DAYLIGHT
DTSTART:20210328T030000
RDATE:20211031T020000
TZOFFSETFROM:+0100
TZOFFSETTO:+0200
TZNAME:Europe/Paris CEST
END:DAYLIGHT
BEGIN:DAYLIGHT
DTSTART:20220327T030000
RDATE:20221030T020000
TZOFFSETFROM:+0100
TZOFFSETTO:+0200
TZNAME:Europe/Paris CEST
END:DAYLIGHT
BEGIN:DAYLIGHT
DTSTART:20230326T030000
RDATE:20231029T020000
TZOFFSETFROM:+0100
TZOFFSETTO:+0200
TZNAME:Europe/Paris CEST
END:DAYLIGHT
BEGIN:DAYLIGHT
DTSTART:20240331T030000
RDATE:20241027T020000
TZOFFSETFROM:+0100
TZOFFSETTO:+0200
TZNAME:Europe/Paris CEST
END:DAYLIGHT
BEGIN:DAYLIGHT
DTSTART:20250330T030000
RDATE:20251026T020000
TZOFFSETFROM:+0100
TZOFFSETTO:+0200
TZNAME:Europe/Paris CEST
END:DAYLIGHT
BEGIN:DAYLIGHT
DTSTART:20260329T030000
RDATE:20261025T020000
TZOFFSETFROM:+0100
TZOFFSETTO:+0200
TZNAME:Europe/Paris CEST
END:DAYLIGHT
END:VTIMEZONE
BEGIN:VEVENT
UID:68044ab0d0bea7a1b50e26cece508891
CATEGORIES:Circuit Massif D2 (alpin)
CREATED:20211117T190002
SUMMARY:CD2 **REPORTE**
URL;VALUE=URI:https://skivosges.net/agenda/a-venir/detailevenement/1820/-/cd2-reporte?tmp
 l=component
DESCRIPTION:<!-- #gskiepreuve code généré par le plugin jevents pour GskiEpreuves. Ne p
 as modifier cette ligne, ni tout le contenu suivant  #gskiepreuve --><div c
 lass="gski-evenement_infos"><div class="gski-evenement-nom">CD2</div><div c
 lass="gski-evenement-report"> <font class="gskiattention">(Epreuve reportée
 , date à determiner)</font></div><ul class="gski-evenement-liste-infos"><li
 >Codex évenement AMVT0660</li><li>Station : CHAMP DU FEU</li><li>Organisate
 ur : 14071 A.S DES CHEMINOTS STRASBOURG</li><li>Courriel : <!-- Cette adres
 se électronique est protégée contre les robots spammeurs. --><span class="c
 loaked_email ep_602ceaf3"><span data-ep-b="&#101;t" data-ep-a="e&#115;&#116
 ;el"><span data-ep-b="&#115;&#116;e&#46;&#110;" data-ep-a="&#108;&#101;&#46
 ;&#98;&#114;"><span data-ep-b="&#64;l&#97;&#112;&#111;" data-ep-a="&#105;&#
 103;&#110;on"></span></span></span></span><script>RegularLabs.EmailProtecto
 r.unCloak("ep_602ceaf3");</script></li><li>Téléphone : 03 88 97 74 30</li><
 /ul><div class="gski-evenement-infos-2"><div class="gski-evenement-info-ins
 criptions"><div class="gski-evenement-inscriptions-periodes">Période d'insc
 ription à l'evènement du dimanche 06 mars 2022 à 00:00 au vendredi 11 mars 
 2022 à 12:00<div class="gski-evenement-inscriptions-types-titres">Inscripti
 ons ouvertes aux detenteurs des titres Fédéraux valides suivants : Licencié
 s Compétiteurs</div></div></div><div class="gskiepreuves-links"><ul><li><a 
 href="/index.php?option=com_jevents&task=icalevent.detail&evid=1815&Itemid=
 6289">Voir les informations dans l'agenda...</a></li></ul></div><div class=
 "gski-evenement-epreuves"><div class="gski-evenement-epreuves-titres">Epreu
 ves :</div><ul class="gski-evenement-epreuves-list"><li><div class="gski-ep
 reuve-date">Le dimanche 13 mars 2022</div><ul class="gski-epreuve-liste-inf
 os"><li>Codex épreuve AMVM0661</li><li>Slalom</li><li>Catégorie(s) : U16 (G
 arçons)</li></ul></li><li><div class="gski-epreuve-date">Le dimanche 13 mar
 s 2022</div><ul class="gski-epreuve-liste-infos"><li>Codex épreuve AMVF0661
 </li><li>Slalom</li><li>Catégorie(s) : U16 (Filles)</li></ul></li><li><div 
 class="gski-epreuve-date">Le dimanche 13 mars 2022</div><ul class="gski-epr
 euve-liste-infos"><li>Codex épreuve AMVM0662</li><li>Slalom</li><li>Catégor
 ie(s) : U18 a Masters (Hommes)</li></ul></li><li><div class="gski-epreuve-d
 ate">Le dimanche 13 mars 2022</div><ul class="gski-epreuve-liste-infos"><li
 >Codex épreuve AMVF0662</li><li>Slalom</li><li>Catégorie(s) : U18 a Masters
  (Dames)</li></ul></li></ul></div><div class="gskiepreuves-links"><ul><li><
 a href="/index.php?option=com_jevents&task=icalevent.detail&evid=1815&Itemi
 d=6289">Voir les informations dans l'agenda...</a></li></ul></div></div"><!
 -- #/gskiepreuve fin du dode généré par le plugin jevents pour GskiEpreuves
 . . Ne pas modifier cette ligne, ni tout le contenu précedant.  #/gskiepreu
 ve --> <a href="https://skivosges.net/agenda/a-venir/detailevenement/1820/-
 /cd2-reporte?tmpl=component">Cet évènement a été importé depuis :https://sk
 ivosges.net/agenda/a-venir/detailevenement/1820/-/cd2-reporte?tmpl=componen
 t</a>
X-ALT-DESC;FMTTYPE=text/html:<!-- #gskiepreuve code généré par le plugin jevents pour GskiEpreuves. Ne p
 as modifier cette ligne, ni tout le contenu suivant  #gskiepreuve --><div c
 lass="gski-evenement_infos"><div class="gski-evenement-nom">CD2</div><div c
 lass="gski-evenement-report"> <font class="gskiattention">(Epreuve reportée
 , date à determiner)</font></div><ul class="gski-evenement-liste-infos"><li
 >Codex évenement AMVT0660</li><li>Station : CHAMP DU FEU</li><li>Organisate
 ur : 14071 A.S DES CHEMINOTS STRASBOURG</li><li>Courriel : <!-- Cette adres
 se électronique est protégée contre les robots spammeurs. --><span class="c
 loaked_email ep_602ceaf3"><span data-ep-b="&#101;t" data-ep-a="e&#115;&#116
 ;el"><span data-ep-b="&#115;&#116;e&#46;&#110;" data-ep-a="&#108;&#101;&#46
 ;&#98;&#114;"><span data-ep-b="&#64;l&#97;&#112;&#111;" data-ep-a="&#105;&#
 103;&#110;on"></span></span></span></span><script>RegularLabs.EmailProtecto
 r.unCloak("ep_602ceaf3");</script></li><li>Téléphone : 03 88 97 74 30</li><
 /ul><div class="gski-evenement-infos-2"><div class="gski-evenement-info-ins
 criptions"><div class="gski-evenement-inscriptions-periodes">Période d'insc
 ription à l'evènement du dimanche 06 mars 2022 à 00:00 au vendredi 11 mars 
 2022 à 12:00<div class="gski-evenement-inscriptions-types-titres">Inscripti
 ons ouvertes aux detenteurs des titres Fédéraux valides suivants : Licencié
 s Compétiteurs</div></div></div><div class="gskiepreuves-links"><ul><li><a 
 href="https://skivosges.net/index.php?option=com_jevents&task=icalevent.det
 ail&evid=1815&Itemid=6289">Voir les informations dans l'agenda...</a></li><
 /ul></div><div class="gski-evenement-epreuves"><div class="gski-evenement-e
 preuves-titres">Epreuves :</div><ul class="gski-evenement-epreuves-list"><l
 i><div class="gski-epreuve-date">Le dimanche 13 mars 2022</div><ul class="g
 ski-epreuve-liste-infos"><li>Codex épreuve AMVM0661</li><li>Slalom</li><li>
 Catégorie(s) : U16 (Garçons)</li></ul></li><li><div class="gski-epreuve-dat
 e">Le dimanche 13 mars 2022</div><ul class="gski-epreuve-liste-infos"><li>C
 odex épreuve AMVF0661</li><li>Slalom</li><li>Catégorie(s) : U16 (Filles)</l
 i></ul></li><li><div class="gski-epreuve-date">Le dimanche 13 mars 2022</di
 v><ul class="gski-epreuve-liste-infos"><li>Codex épreuve AMVM0662</li><li>S
 lalom</li><li>Catégorie(s) : U18 a Masters (Hommes)</li></ul></li><li><div 
 class="gski-epreuve-date">Le dimanche 13 mars 2022</div><ul class="gski-epr
 euve-liste-infos"><li>Codex épreuve AMVF0662</li><li>Slalom</li><li>Catégor
 ie(s) : U18 a Masters (Dames)</li></ul></li></ul></div><div class="gskiepre
 uves-links"><ul><li><a href="https://skivosges.net/index.php?option=com_jev
 ents&task=icalevent.detail&evid=1815&Itemid=6289">Voir les informations dan
 s l'agenda...</a></li></ul></div></div"><!-- #/gskiepreuve fin du dode géné
 ré par le plugin jevents pour GskiEpreuves. . Ne pas modifier cette ligne, 
 ni tout le contenu précedant.  #/gskiepreuve --> <a href="https://skivosges
 .net/agenda/a-venir/detailevenement/1820/-/cd2-reporte?tmpl=component">Cet 
 évènement a été importé depuis :https://skivosges.net/agenda/a-venir/detail
 evenement/1820/-/cd2-reporte?tmpl=component</a>DTSTAMP:20260421T051451
DTSTART;TZID=Europe/Paris;VALUE=DATE:20220313
DTEND;TZID=Europe/Paris;VALUE=DATE:20220314
SEQUENCE:0
TRANSP:OPAQUE
END:VEVENT
END:VCALENDAR