BEGIN:VCALENDAR
VERSION:2.0
PRODID:-//jEvents 2.0 for Joomla//EN
CALSCALE:GREGORIAN
METHOD:PUBLISH
BEGIN:VTIMEZONE
TZID:Europe/Paris
BEGIN:STANDARD
DTSTART:20210325T000000
RDATE:20210328T030000
TZOFFSETFROM:+0200
TZOFFSETTO:+0100
TZNAME:Europe/Paris CET
END:STANDARD
BEGIN:STANDARD
DTSTART:20211031T020000
RDATE:20220327T030000
TZOFFSETFROM:+0200
TZOFFSETTO:+0100
TZNAME:Europe/Paris CET
END:STANDARD
BEGIN:STANDARD
DTSTART:20221030T020000
RDATE:20230326T030000
TZOFFSETFROM:+0200
TZOFFSETTO:+0100
TZNAME:Europe/Paris CET
END:STANDARD
BEGIN:STANDARD
DTSTART:20231029T020000
RDATE:20240331T030000
TZOFFSETFROM:+0200
TZOFFSETTO:+0100
TZNAME:Europe/Paris CET
END:STANDARD
BEGIN:STANDARD
DTSTART:20241027T020000
RDATE:20250330T030000
TZOFFSETFROM:+0200
TZOFFSETTO:+0100
TZNAME:Europe/Paris CET
END:STANDARD
BEGIN:STANDARD
DTSTART:20251026T020000
RDATE:20260329T030000
TZOFFSETFROM:+0200
TZOFFSETTO:+0100
TZNAME:Europe/Paris CET
END:STANDARD
BEGIN:STANDARD
DTSTART:20261025T020000
RDATE:20270328T030000
TZOFFSETFROM:+0200
TZOFFSETTO:+0100
TZNAME:Europe/Paris CET
END:STANDARD
BEGIN:DAYLIGHT
DTSTART:20210328T030000
RDATE:20211031T020000
TZOFFSETFROM:+0100
TZOFFSETTO:+0200
TZNAME:Europe/Paris CEST
END:DAYLIGHT
BEGIN:DAYLIGHT
DTSTART:20220327T030000
RDATE:20221030T020000
TZOFFSETFROM:+0100
TZOFFSETTO:+0200
TZNAME:Europe/Paris CEST
END:DAYLIGHT
BEGIN:DAYLIGHT
DTSTART:20230326T030000
RDATE:20231029T020000
TZOFFSETFROM:+0100
TZOFFSETTO:+0200
TZNAME:Europe/Paris CEST
END:DAYLIGHT
BEGIN:DAYLIGHT
DTSTART:20240331T030000
RDATE:20241027T020000
TZOFFSETFROM:+0100
TZOFFSETTO:+0200
TZNAME:Europe/Paris CEST
END:DAYLIGHT
BEGIN:DAYLIGHT
DTSTART:20250330T030000
RDATE:20251026T020000
TZOFFSETFROM:+0100
TZOFFSETTO:+0200
TZNAME:Europe/Paris CEST
END:DAYLIGHT
BEGIN:DAYLIGHT
DTSTART:20260329T030000
RDATE:20261025T020000
TZOFFSETFROM:+0100
TZOFFSETTO:+0200
TZNAME:Europe/Paris CEST
END:DAYLIGHT
END:VTIMEZONE
BEGIN:VEVENT
UID:8d2da9163e39b0ee8a6a951fad8ac66f
CATEGORIES:Compétition Ski de Fond
CREATED:20211117T190002
SUMMARY:PROMO Pré-Clubs Relais mixte
URL;VALUE=URI:https://skivosges.net/agenda/a-venir/detailevenement/1834/-/promo-pre-clubs
 -relais-mixte?tmpl=component
DESCRIPTION:PROMO Pré-Clubs Relais mixte\n - Codex évenement FMVT0190\n - Lieu : LES TR
 OIS FOURS\n - Station : STOSSWIHR\n - Organisateur : 14199 SKIEURS DU TANET
 \n - Courriel : RegularLabs.EmailProtector.unCloak("ep_d941bda7");\n - Délé
 gué Technique : PATARD JEAN-MARCPériode d'inscription à l'evènement du vend
 redi 18 mars 2022 à 00:00 au jeudi 24 mars 2022 à 12:00Inscriptions ouverte
 s aux detenteurs des titres Fédéraux valides suivants : Licenciés Compétite
 urs et Titres Loisirs et Dirigeants\n - Voir les informations dans l'agenda
 ... (/index.php?option=com_jevents&amp;task=icalevent.detail&amp;evid=1829&
 amp;Itemid=6289)\n - Vers les résultats... (/index.php?option=com_gskiepreu
 ves&amp;view=afficheresultats&amp;format_option=tous&amp;filter[search]=FMV
 T0190&amp;filter[date_debut]=26-03-2022&amp;filter[date_fin]=26-03-2022&amp
 ;code_activite=FOND&amp;Itemid=6289)Epreuves :\n - Le samedi 26 mars 2022 à
  14:30\n - Codex épreuve FMVF0191\n - Relais\n - Catégorie(s) : U9 (Mixte)\
 n - Le samedi 26 mars 2022 à 14:30\n - Codex épreuve FMVM0191\n - Relais\n 
 - Catégorie(s) : U11 (Mixte)\n - Le samedi 26 mars 2022 à 14:30\n - Codex é
 preuve FMVF0192\n - Relais\n - Catégorie(s) : U13 (Mixte)\n - Le samedi 26 
 mars 2022 à 14:30\n - Codex épreuve FMVM0192\n - Relais\n - Catégorie(s) : 
 U13 (Mixte)\n - Voir les informations dans l'agenda... (/index.php?option=c
 om_jevents&amp;task=icalevent.detail&amp;evid=1829&amp;Itemid=6289)\n - Ver
 s les résultats... (/index.php?option=com_gskiepreuves&amp;view=afficheresu
 ltats&amp;format_option=tous&amp;filter[search]=FMVT0190&amp;filter[date_de
 but]=26-03-2022&amp;filter[date_fin]=26-03-2022&amp;code_activite=FOND&amp;
 Itemid=6289) Cet évènement a été importé depuis :https://skivosges.net/agen
 da/a-venir/detailevenement/1834/-/promo-pre-clubs-relais-mixte?tmpl=compone
 nt
X-ALT-DESC;FMTTYPE=text/html:<!-- #gskiepreuve code généré par le plugin jevents pour GskiEpreuves. Ne p
 as modifier cette ligne, ni tout le contenu suivant  #gskiepreuve --><div c
 lass="gski-evenement_infos"><div class="gski-evenement-nom">PROMO Pré-Clubs
  Relais mixte</div><div class="gski-evenement-report"></div><ul class="gski
 -evenement-liste-infos"><li>Codex évenement FMVT0190</li><li>Lieu : LES TRO
 IS FOURS</li><li>Station : STOSSWIHR</li><li>Organisateur : 14199 SKIEURS D
 U TANET</li><li>Courriel : <!-- Cette adresse électronique est protégée con
 tre les robots spammeurs. --><span class="cloaked_email ep_d941bda7"><span 
 data-ep-a="s&#99;h&#105;&#108;" data-ep-b="&#111;&#46;f&#114;"><span data-e
 p-a="li&#110;&#103;&#101;" data-ep-b="&#97;&#110;&#97;&#100;&#111;"><span d
 ata-ep-b="&#105;&#101;&#114;&#64;&#119;" data-ep-a="&#114;.d&#105;&#100;"><
 /span></span></span></span><script>RegularLabs.EmailProtector.unCloak("ep_d
 941bda7");</script></li><li><span class="gski-evenement-obs">Délégué Techni
 que : PATARD JEAN-MARC</span></li></ul><div class="gski-evenement-infos-2">
 <div class="gski-evenement-info-inscriptions"><div class="gski-evenement-in
 scriptions-periodes">Période d'inscription à l'evènement du vendredi 18 mar
 s 2022 à 00:00 au jeudi 24 mars 2022 à 12:00<div class="gski-evenement-insc
 riptions-types-titres">Inscriptions ouvertes aux detenteurs des titres Fédé
 raux valides suivants : Licenciés Compétiteurs et Titres Loisirs et Dirigea
 nts</div></div></div><div class="gskiepreuves-links"><ul><li><a href="https
 ://skivosges.net/index.php?option=com_jevents&task=icalevent.detail&evid=18
 29&Itemid=6289">Voir les informations dans l'agenda...</a></li><li><a href=
 "https://skivosges.net/index.php?option=com_gskiepreuves&view=afficheresult
 ats&format_option=tous&filter[search]=FMVT0190&filter[date_debut]=26-03-202
 2&filter[date_fin]=26-03-2022&code_activite=FOND&Itemid=6289">Vers les résu
 ltats...</a></li></ul></div><div class="gski-evenement-epreuves"><div class
 ="gski-evenement-epreuves-titres">Epreuves :</div><ul class="gski-evenement
 -epreuves-list"><li><div class="gski-epreuve-date">Le samedi 26 mars 2022 à
  14:30</div><ul class="gski-epreuve-liste-infos"><li>Codex épreuve FMVF0191
 </li><li>Relais</li><li>Catégorie(s) : U9 (Mixte)</li></ul></li><li><div cl
 ass="gski-epreuve-date">Le samedi 26 mars 2022 à 14:30</div><ul class="gski
 -epreuve-liste-infos"><li>Codex épreuve FMVM0191</li><li>Relais</li><li>Cat
 égorie(s) : U11 (Mixte)</li></ul></li><li><div class="gski-epreuve-date">Le
  samedi 26 mars 2022 à 14:30</div><ul class="gski-epreuve-liste-infos"><li>
 Codex épreuve FMVF0192</li><li>Relais</li><li>Catégorie(s) : U13 (Mixte)</l
 i></ul></li><li><div class="gski-epreuve-date">Le samedi 26 mars 2022 à 14:
 30</div><ul class="gski-epreuve-liste-infos"><li>Codex épreuve FMVM0192</li
 ><li>Relais</li><li>Catégorie(s) : U13 (Mixte)</li></ul></li></ul></div><di
 v class="gskiepreuves-links"><ul><li><a href="https://skivosges.net/index.p
 hp?option=com_jevents&task=icalevent.detail&evid=1829&Itemid=6289">Voir les
  informations dans l'agenda...</a></li><li><a href="https://skivosges.net/i
 ndex.php?option=com_gskiepreuves&view=afficheresultats&format_option=tous&f
 ilter[search]=FMVT0190&filter[date_debut]=26-03-2022&filter[date_fin]=26-03
 -2022&code_activite=FOND&Itemid=6289">Vers les résultats...</a></li></ul></
 div></div"><!-- #/gskiepreuve fin du dode généré par le plugin jevents pour
  GskiEpreuves. . Ne pas modifier cette ligne, ni tout le contenu précedant.
   #/gskiepreuve --> <a href="https://skivosges.net/agenda/a-venir/detaileve
 nement/1834/-/promo-pre-clubs-relais-mixte?tmpl=component">Cet évènement a 
 été importé depuis :https://skivosges.net/agenda/a-venir/detailevenement/18
 34/-/promo-pre-clubs-relais-mixte?tmpl=component</a>DTSTAMP:20260421T015603
DTSTART;TZID=Europe/Paris;VALUE=DATE:20220326
DTEND;TZID=Europe/Paris;VALUE=DATE:20220327
SEQUENCE:0
TRANSP:OPAQUE
END:VEVENT
END:VCALENDAR