BEGIN:VCALENDAR
VERSION:2.0
PRODID:-//jEvents 2.0 for Joomla//EN
CALSCALE:GREGORIAN
METHOD:PUBLISH
BEGIN:VTIMEZONE
TZID:Europe/Paris
BEGIN:STANDARD
DTSTART:20210325T000000
RDATE:20210328T030000
TZOFFSETFROM:+0200
TZOFFSETTO:+0100
TZNAME:Europe/Paris CET
END:STANDARD
BEGIN:STANDARD
DTSTART:20211031T020000
RDATE:20220327T030000
TZOFFSETFROM:+0200
TZOFFSETTO:+0100
TZNAME:Europe/Paris CET
END:STANDARD
BEGIN:STANDARD
DTSTART:20221030T020000
RDATE:20230326T030000
TZOFFSETFROM:+0200
TZOFFSETTO:+0100
TZNAME:Europe/Paris CET
END:STANDARD
BEGIN:STANDARD
DTSTART:20231029T020000
RDATE:20240331T030000
TZOFFSETFROM:+0200
TZOFFSETTO:+0100
TZNAME:Europe/Paris CET
END:STANDARD
BEGIN:STANDARD
DTSTART:20241027T020000
RDATE:20250330T030000
TZOFFSETFROM:+0200
TZOFFSETTO:+0100
TZNAME:Europe/Paris CET
END:STANDARD
BEGIN:STANDARD
DTSTART:20251026T020000
RDATE:20260329T030000
TZOFFSETFROM:+0200
TZOFFSETTO:+0100
TZNAME:Europe/Paris CET
END:STANDARD
BEGIN:STANDARD
DTSTART:20261025T020000
RDATE:20270328T030000
TZOFFSETFROM:+0200
TZOFFSETTO:+0100
TZNAME:Europe/Paris CET
END:STANDARD
BEGIN:DAYLIGHT
DTSTART:20210328T030000
RDATE:20211031T020000
TZOFFSETFROM:+0100
TZOFFSETTO:+0200
TZNAME:Europe/Paris CEST
END:DAYLIGHT
BEGIN:DAYLIGHT
DTSTART:20220327T030000
RDATE:20221030T020000
TZOFFSETFROM:+0100
TZOFFSETTO:+0200
TZNAME:Europe/Paris CEST
END:DAYLIGHT
BEGIN:DAYLIGHT
DTSTART:20230326T030000
RDATE:20231029T020000
TZOFFSETFROM:+0100
TZOFFSETTO:+0200
TZNAME:Europe/Paris CEST
END:DAYLIGHT
BEGIN:DAYLIGHT
DTSTART:20240331T030000
RDATE:20241027T020000
TZOFFSETFROM:+0100
TZOFFSETTO:+0200
TZNAME:Europe/Paris CEST
END:DAYLIGHT
BEGIN:DAYLIGHT
DTSTART:20250330T030000
RDATE:20251026T020000
TZOFFSETFROM:+0100
TZOFFSETTO:+0200
TZNAME:Europe/Paris CEST
END:DAYLIGHT
BEGIN:DAYLIGHT
DTSTART:20260329T030000
RDATE:20261025T020000
TZOFFSETFROM:+0100
TZOFFSETTO:+0200
TZNAME:Europe/Paris CEST
END:DAYLIGHT
END:VTIMEZONE
BEGIN:VEVENT
UID:3bcba49eedf93c021a53f9f5ca1aafc3
CATEGORIES:Combiné Nordique
CREATED:20211117T190002
SUMMARY:Finale coupe des Vosges CN la Bresse
URL;VALUE=URI:https://skivosges.net/agenda/a-venir/detailevenement/1836/-/finale-coupe-de
 s-vosges-cn-la-bresse?tmpl=component
DESCRIPTION:Finale coupe des Vosges CN la Bresse\n - Codex évenement CMVT0020\n - Stati
 on : LA BRESSE\n - Organisateur : 14024 LA BRESSAUDE SECTION SKI\n - Courri
 el : RegularLabs.EmailProtector.unCloak("ep_89caa3a1");Période d'inscriptio
 n à l'evènement du samedi 19 mars 2022 à 00:00 au jeudi 24 mars 2022 à 12:0
 0Inscriptions ouvertes aux detenteurs des titres Fédéraux valides suivants 
 : Licenciés Compétiteurs\n - Voir les informations dans l'agenda... (/index
 .php?option=com_jevents&amp;task=icalevent.detail&amp;evid=1831&amp;Itemid=
 6289)Epreuves :\n - Le samedi 26 mars 2022\n - Codex épreuve CMVM0021\n - S
 aut du Combine Nordique\n - Catégorie(s) : Toutes les Categories (Garçons)\
 n - Le samedi 26 mars 2022\n - Codex épreuve CMVF0021\n - Saut du Combine N
 ordique\n - Catégorie(s) : Toutes les Categories (Filles)\n - Voir les info
 rmations dans l'agenda... (/index.php?option=com_jevents&amp;task=icalevent
 .detail&amp;evid=1831&amp;Itemid=6289) Cet évènement a été importé depuis :
 https://skivosges.net/agenda/a-venir/detailevenement/1836/-/finale-coupe-de
 s-vosges-cn-la-bresse?tmpl=component
X-ALT-DESC;FMTTYPE=text/html:<!-- #gskiepreuve code généré par le plugin jevents pour GskiEpreuves. Ne p
 as modifier cette ligne, ni tout le contenu suivant  #gskiepreuve --><div c
 lass="gski-evenement_infos"><div class="gski-evenement-nom">Finale coupe de
 s Vosges CN la Bresse</div><div class="gski-evenement-report"></div><ul cla
 ss="gski-evenement-liste-infos"><li>Codex évenement CMVT0020</li><li>Statio
 n : LA BRESSE</li><li>Organisateur : 14024 LA BRESSAUDE SECTION SKI</li><li
 >Courriel : <!-- Cette adresse électronique est protégée contre les robots 
 spammeurs. --><span class="cloaked_email ep_89caa3a1"><span data-ep-b="&#11
 4;" data-ep-a="&#107;ar&#105;&#110;"><span data-ep-b="&#100;o&#111;.&#102;"
  data-ep-a="&#101;.&#102;&#111;&#117;"><span data-ep-b="&#64;&#119;a&#110;a
 " data-ep-a="rr&#97;ge"></span></span></span></span><script>RegularLabs.Ema
 ilProtector.unCloak("ep_89caa3a1");</script></li></ul><div class="gski-even
 ement-infos-2"><div class="gski-evenement-info-inscriptions"><div class="gs
 ki-evenement-inscriptions-periodes">Période d'inscription à l'evènement du 
 samedi 19 mars 2022 à 00:00 au jeudi 24 mars 2022 à 12:00<div class="gski-e
 venement-inscriptions-types-titres">Inscriptions ouvertes aux detenteurs de
 s titres Fédéraux valides suivants : Licenciés Compétiteurs</div></div></di
 v><div class="gskiepreuves-links"><ul><li><a href="https://skivosges.net/in
 dex.php?option=com_jevents&task=icalevent.detail&evid=1831&Itemid=6289">Voi
 r les informations dans l'agenda...</a></li></ul></div><div class="gski-eve
 nement-epreuves"><div class="gski-evenement-epreuves-titres">Epreuves :</di
 v><ul class="gski-evenement-epreuves-list"><li><div class="gski-epreuve-dat
 e">Le samedi 26 mars 2022</div><ul class="gski-epreuve-liste-infos"><li>Cod
 ex épreuve CMVM0021</li><li>Saut du Combine Nordique</li><li>Catégorie(s) :
  Toutes les Categories (Garçons)</li></ul></li><li><div class="gski-epreuve
 -date">Le samedi 26 mars 2022</div><ul class="gski-epreuve-liste-infos"><li
 >Codex épreuve CMVF0021</li><li>Saut du Combine Nordique</li><li>Catégorie(
 s) : Toutes les Categories (Filles)</li></ul></li></ul></div><div class="gs
 kiepreuves-links"><ul><li><a href="https://skivosges.net/index.php?option=c
 om_jevents&task=icalevent.detail&evid=1831&Itemid=6289">Voir les informatio
 ns dans l'agenda...</a></li></ul></div></div"><!-- #/gskiepreuve fin du dod
 e généré par le plugin jevents pour GskiEpreuves. . Ne pas modifier cette l
 igne, ni tout le contenu précedant.  #/gskiepreuve --> <a href="https://ski
 vosges.net/agenda/a-venir/detailevenement/1836/-/finale-coupe-des-vosges-cn
 -la-bresse?tmpl=component">Cet évènement a été importé depuis :https://skiv
 osges.net/agenda/a-venir/detailevenement/1836/-/finale-coupe-des-vosges-cn-
 la-bresse?tmpl=component</a>DTSTAMP:20260421T051319
DTSTART;TZID=Europe/Paris;VALUE=DATE:20220326
DTEND;TZID=Europe/Paris;VALUE=DATE:20220327
SEQUENCE:0
TRANSP:OPAQUE
END:VEVENT
END:VCALENDAR