BEGIN:VCALENDAR
VERSION:2.0
PRODID:-//jEvents 2.0 for Joomla//EN
CALSCALE:GREGORIAN
METHOD:PUBLISH
BEGIN:VTIMEZONE
TZID:Europe/Paris
BEGIN:STANDARD
DTSTART:20210326T000000
RDATE:20210328T030000
TZOFFSETFROM:+0200
TZOFFSETTO:+0100
TZNAME:Europe/Paris CET
END:STANDARD
BEGIN:STANDARD
DTSTART:20211031T020000
RDATE:20220327T030000
TZOFFSETFROM:+0200
TZOFFSETTO:+0100
TZNAME:Europe/Paris CET
END:STANDARD
BEGIN:STANDARD
DTSTART:20221030T020000
RDATE:20230326T030000
TZOFFSETFROM:+0200
TZOFFSETTO:+0100
TZNAME:Europe/Paris CET
END:STANDARD
BEGIN:STANDARD
DTSTART:20231029T020000
RDATE:20240331T030000
TZOFFSETFROM:+0200
TZOFFSETTO:+0100
TZNAME:Europe/Paris CET
END:STANDARD
BEGIN:STANDARD
DTSTART:20241027T020000
RDATE:20250330T030000
TZOFFSETFROM:+0200
TZOFFSETTO:+0100
TZNAME:Europe/Paris CET
END:STANDARD
BEGIN:STANDARD
DTSTART:20251026T020000
RDATE:20260329T030000
TZOFFSETFROM:+0200
TZOFFSETTO:+0100
TZNAME:Europe/Paris CET
END:STANDARD
BEGIN:STANDARD
DTSTART:20261025T020000
RDATE:20270328T030000
TZOFFSETFROM:+0200
TZOFFSETTO:+0100
TZNAME:Europe/Paris CET
END:STANDARD
BEGIN:DAYLIGHT
DTSTART:20210328T030000
RDATE:20211031T020000
TZOFFSETFROM:+0100
TZOFFSETTO:+0200
TZNAME:Europe/Paris CEST
END:DAYLIGHT
BEGIN:DAYLIGHT
DTSTART:20220327T030000
RDATE:20221030T020000
TZOFFSETFROM:+0100
TZOFFSETTO:+0200
TZNAME:Europe/Paris CEST
END:DAYLIGHT
BEGIN:DAYLIGHT
DTSTART:20230326T030000
RDATE:20231029T020000
TZOFFSETFROM:+0100
TZOFFSETTO:+0200
TZNAME:Europe/Paris CEST
END:DAYLIGHT
BEGIN:DAYLIGHT
DTSTART:20240331T030000
RDATE:20241027T020000
TZOFFSETFROM:+0100
TZOFFSETTO:+0200
TZNAME:Europe/Paris CEST
END:DAYLIGHT
BEGIN:DAYLIGHT
DTSTART:20250330T030000
RDATE:20251026T020000
TZOFFSETFROM:+0100
TZOFFSETTO:+0200
TZNAME:Europe/Paris CEST
END:DAYLIGHT
BEGIN:DAYLIGHT
DTSTART:20260329T030000
RDATE:20261025T020000
TZOFFSETFROM:+0100
TZOFFSETTO:+0200
TZNAME:Europe/Paris CEST
END:DAYLIGHT
END:VTIMEZONE
BEGIN:VEVENT
UID:22756834548097c9c4c16e3f25b152e6
CATEGORIES:Compétition Ski de Fond
CREATED:20211117T190002
SUMMARY:GRAND PRIX DES COMMERCANTS Big-Mat Atomic n°12 Crédit Mutuel n°10
URL;VALUE=URI:https://skivosges.net/agenda/a-venir/detailevenement/1838/-/grand-prix-des-
 commercants-big-mat-atomic-n-12-credit-mutuel-n-10?tmpl=component
DESCRIPTION:GRAND PRIX DES COMMERCANTS Big-Mat Atomic n°12 Crédit Mutuel n°10\n - Codex
  évenement FMVT0200\n - Station : BREITFIRST\n - Organisateur : 14053 S.C M
 ARKSTEIN RANSPACH\n - Courriel : RegularLabs.EmailProtector.unCloak("ep_536
 0c8d7");\n - Délégué Technique : BOUVIER YVESPériode d'inscription à l'evèn
 ement du dimanche 20 mars 2022 à 00:00 au vendredi 25 mars 2022 à 12:00Insc
 riptions ouvertes aux detenteurs des titres Fédéraux valides suivants : Lic
 enciés Compétiteurs\n - Voir les informations dans l'agenda... (/index.php?
 option=com_jevents&amp;task=icalevent.detail&amp;evid=1833&amp;Itemid=6289)
 \n - Vers les résultats... (/index.php?option=com_gskiepreuves&amp;view=aff
 icheresultats&amp;format_option=tous&amp;filter[search]=FMVT0200&amp;filter
 [date_debut]=27-03-2022&amp;filter[date_fin]=27-03-2022&amp;code_activite=F
 OND&amp;Itemid=6289)Epreuves :\n - Le dimanche 27 mars 2022\n - Codex épreu
 ve FMVF0201\n - Depart Individuel\n - Catégorie(s) : U13 (Filles)\n - Le di
 manche 27 mars 2022\n - Codex épreuve FMVM0201\n - Depart Individuel\n - Ca
 tégorie(s) : U13 (Garçons)\n - Le dimanche 27 mars 2022\n - Codex épreuve F
 MVF0202\n - Depart Individuel\n - Catégorie(s) : U15 (Filles)\n - Le dimanc
 he 27 mars 2022\n - Codex épreuve FMVM0202\n - Depart Individuel\n - Catégo
 rie(s) : U15 (Garçons)\n - Le dimanche 27 mars 2022\n - Codex épreuve FMVF0
 203\n - Depart Individuel\n - Catégorie(s) : U17 (Dames)\n - Le dimanche 27
  mars 2022\n - Codex épreuve FMVM0203\n - Depart Individuel\n - Catégorie(s
 ) : U17 (Hommes)\n - Le dimanche 27 mars 2022\n - Codex épreuve FMVF0204\n 
 - Depart Individuel\n - Catégorie(s) : U20/SEN (Dames)\n - Le dimanche 27 m
 ars 2022\n - Codex épreuve FMVM0204\n - Depart Individuel\n - Catégorie(s) 
 : U20/SEN (Hommes)\n - Voir les informations dans l'agenda... (/index.php?o
 ption=com_jevents&amp;task=icalevent.detail&amp;evid=1833&amp;Itemid=6289)\
 n - Vers les résultats... (/index.php?option=com_gskiepreuves&amp;view=affi
 cheresultats&amp;format_option=tous&amp;filter[search]=FMVT0200&amp;filter[
 date_debut]=27-03-2022&amp;filter[date_fin]=27-03-2022&amp;code_activite=FO
 ND&amp;Itemid=6289) Cet évènement a été importé depuis :https://skivosges.n
 et/agenda/a-venir/detailevenement/1838/-/grand-prix-des-commercants-big-mat
 -atomic-n-12-credit-mutuel-n-10?tmpl=component
X-ALT-DESC;FMTTYPE=text/html:<!-- #gskiepreuve code généré par le plugin jevents pour GskiEpreuves. Ne p
 as modifier cette ligne, ni tout le contenu suivant  #gskiepreuve --><div c
 lass="gski-evenement_infos"><div class="gski-evenement-nom">GRAND PRIX DES 
 COMMERCANTS Big-Mat Atomic n°12 Crédit Mutuel n°10</div><div class="gski-ev
 enement-report"></div><ul class="gski-evenement-liste-infos"><li>Codex éven
 ement FMVT0200</li><li>Station : BREITFIRST</li><li>Organisateur : 14053 S.
 C MARKSTEIN RANSPACH</li><li>Courriel : <!-- Cette adresse électronique est
  protégée contre les robots spammeurs. --><span class="cloaked_email ep_536
 0c8d7"><span data-ep-a="s&#107;&#105;&#99;&#108;u" data-ep-b="&#110;&#103;e
 &#46;f&#114;"><span data-ep-b="c&#104;&#64;or&#97;" data-ep-a="b.&#109;&#97
 ;&#114;k"><span data-ep-a="ste&#105;n&#45;" data-ep-b="ra&#110;s&#112;&#97;
 "></span></span></span></span><script>RegularLabs.EmailProtector.unCloak("e
 p_5360c8d7");</script></li><li><span class="gski-evenement-obs">Délégué Tec
 hnique : BOUVIER YVES</span></li></ul><div class="gski-evenement-infos-2"><
 div class="gski-evenement-info-inscriptions"><div class="gski-evenement-ins
 criptions-periodes">Période d'inscription à l'evènement du dimanche 20 mars
  2022 à 00:00 au vendredi 25 mars 2022 à 12:00<div class="gski-evenement-in
 scriptions-types-titres">Inscriptions ouvertes aux detenteurs des titres Fé
 déraux valides suivants : Licenciés Compétiteurs</div></div></div><div clas
 s="gskiepreuves-links"><ul><li><a href="https://skivosges.net/index.php?opt
 ion=com_jevents&task=icalevent.detail&evid=1833&Itemid=6289">Voir les infor
 mations dans l'agenda...</a></li><li><a href="https://skivosges.net/index.p
 hp?option=com_gskiepreuves&view=afficheresultats&format_option=tous&filter[
 search]=FMVT0200&filter[date_debut]=27-03-2022&filter[date_fin]=27-03-2022&
 code_activite=FOND&Itemid=6289">Vers les résultats...</a></li></ul></div><d
 iv class="gski-evenement-epreuves"><div class="gski-evenement-epreuves-titr
 es">Epreuves :</div><ul class="gski-evenement-epreuves-list"><li><div class
 ="gski-epreuve-date">Le dimanche 27 mars 2022</div><ul class="gski-epreuve-
 liste-infos"><li>Codex épreuve FMVF0201</li><li>Depart Individuel</li><li>C
 atégorie(s) : U13 (Filles)</li></ul></li><li><div class="gski-epreuve-date"
 >Le dimanche 27 mars 2022</div><ul class="gski-epreuve-liste-infos"><li>Cod
 ex épreuve FMVM0201</li><li>Depart Individuel</li><li>Catégorie(s) : U13 (G
 arçons)</li></ul></li><li><div class="gski-epreuve-date">Le dimanche 27 mar
 s 2022</div><ul class="gski-epreuve-liste-infos"><li>Codex épreuve FMVF0202
 </li><li>Depart Individuel</li><li>Catégorie(s) : U15 (Filles)</li></ul></l
 i><li><div class="gski-epreuve-date">Le dimanche 27 mars 2022</div><ul clas
 s="gski-epreuve-liste-infos"><li>Codex épreuve FMVM0202</li><li>Depart Indi
 viduel</li><li>Catégorie(s) : U15 (Garçons)</li></ul></li><li><div class="g
 ski-epreuve-date">Le dimanche 27 mars 2022</div><ul class="gski-epreuve-lis
 te-infos"><li>Codex épreuve FMVF0203</li><li>Depart Individuel</li><li>Caté
 gorie(s) : U17 (Dames)</li></ul></li><li><div class="gski-epreuve-date">Le 
 dimanche 27 mars 2022</div><ul class="gski-epreuve-liste-infos"><li>Codex é
 preuve FMVM0203</li><li>Depart Individuel</li><li>Catégorie(s) : U17 (Homme
 s)</li></ul></li><li><div class="gski-epreuve-date">Le dimanche 27 mars 202
 2</div><ul class="gski-epreuve-liste-infos"><li>Codex épreuve FMVF0204</li>
 <li>Depart Individuel</li><li>Catégorie(s) : U20/SEN (Dames)</li></ul></li>
 <li><div class="gski-epreuve-date">Le dimanche 27 mars 2022</div><ul class=
 "gski-epreuve-liste-infos"><li>Codex épreuve FMVM0204</li><li>Depart Indivi
 duel</li><li>Catégorie(s) : U20/SEN (Hommes)</li></ul></li></ul></div><div 
 class="gskiepreuves-links"><ul><li><a href="https://skivosges.net/index.php
 ?option=com_jevents&task=icalevent.detail&evid=1833&Itemid=6289">Voir les i
 nformations dans l'agenda...</a></li><li><a href="https://skivosges.net/ind
 ex.php?option=com_gskiepreuves&view=afficheresultats&format_option=tous&fil
 ter[search]=FMVT0200&filter[date_debut]=27-03-2022&filter[date_fin]=27-03-2
 022&code_activite=FOND&Itemid=6289">Vers les résultats...</a></li></ul></di
 v></div"><!-- #/gskiepreuve fin du dode généré par le plugin jevents pour G
 skiEpreuves. . Ne pas modifier cette ligne, ni tout le contenu précedant.  
 #/gskiepreuve --> <a href="https://skivosges.net/agenda/a-venir/detailevene
 ment/1838/-/grand-prix-des-commercants-big-mat-atomic-n-12-credit-mutuel-n-
 10?tmpl=component">Cet évènement a été importé depuis :https://skivosges.ne
 t/agenda/a-venir/detailevenement/1838/-/grand-prix-des-commercants-big-mat-
 atomic-n-12-credit-mutuel-n-10?tmpl=component</a>DTSTAMP:20260421T015556
DTSTART;TZID=Europe/Paris;VALUE=DATE:20220327
DTEND;TZID=Europe/Paris;VALUE=DATE:20220328
SEQUENCE:0
TRANSP:OPAQUE
END:VEVENT
END:VCALENDAR