BEGIN:VCALENDAR
VERSION:2.0
PRODID:-//jEvents 2.0 for Joomla//EN
CALSCALE:GREGORIAN
METHOD:PUBLISH
BEGIN:VTIMEZONE
TZID:Europe/Paris
BEGIN:STANDARD
DTSTART:20130315T080000
RDATE:20130331T030000
TZOFFSETFROM:+0200
TZOFFSETTO:+0100
TZNAME:Europe/Paris CET
END:STANDARD
BEGIN:STANDARD
DTSTART:20131027T020000
RDATE:20140330T030000
TZOFFSETFROM:+0200
TZOFFSETTO:+0100
TZNAME:Europe/Paris CET
END:STANDARD
BEGIN:STANDARD
DTSTART:20141026T020000
RDATE:20150329T030000
TZOFFSETFROM:+0200
TZOFFSETTO:+0100
TZNAME:Europe/Paris CET
END:STANDARD
BEGIN:STANDARD
DTSTART:20151025T020000
RDATE:20160327T030000
TZOFFSETFROM:+0200
TZOFFSETTO:+0100
TZNAME:Europe/Paris CET
END:STANDARD
BEGIN:STANDARD
DTSTART:20161030T020000
RDATE:20170326T030000
TZOFFSETFROM:+0200
TZOFFSETTO:+0100
TZNAME:Europe/Paris CET
END:STANDARD
BEGIN:STANDARD
DTSTART:20171029T020000
RDATE:20180325T030000
TZOFFSETFROM:+0200
TZOFFSETTO:+0100
TZNAME:Europe/Paris CET
END:STANDARD
BEGIN:STANDARD
DTSTART:20181028T020000
RDATE:20190331T030000
TZOFFSETFROM:+0200
TZOFFSETTO:+0100
TZNAME:Europe/Paris CET
END:STANDARD
BEGIN:STANDARD
DTSTART:20191027T020000
RDATE:20200329T030000
TZOFFSETFROM:+0200
TZOFFSETTO:+0100
TZNAME:Europe/Paris CET
END:STANDARD
BEGIN:STANDARD
DTSTART:20201025T020000
RDATE:20210328T030000
TZOFFSETFROM:+0200
TZOFFSETTO:+0100
TZNAME:Europe/Paris CET
END:STANDARD
BEGIN:STANDARD
DTSTART:20211031T020000
RDATE:20220327T030000
TZOFFSETFROM:+0200
TZOFFSETTO:+0100
TZNAME:Europe/Paris CET
END:STANDARD
BEGIN:STANDARD
DTSTART:20221030T020000
RDATE:20230326T030000
TZOFFSETFROM:+0200
TZOFFSETTO:+0100
TZNAME:Europe/Paris CET
END:STANDARD
BEGIN:STANDARD
DTSTART:20231029T020000
RDATE:20240331T030000
TZOFFSETFROM:+0200
TZOFFSETTO:+0100
TZNAME:Europe/Paris CET
END:STANDARD
BEGIN:STANDARD
DTSTART:20241027T020000
RDATE:20250330T030000
TZOFFSETFROM:+0200
TZOFFSETTO:+0100
TZNAME:Europe/Paris CET
END:STANDARD
BEGIN:STANDARD
DTSTART:20251026T020000
RDATE:20260329T030000
TZOFFSETFROM:+0200
TZOFFSETTO:+0100
TZNAME:Europe/Paris CET
END:STANDARD
BEGIN:STANDARD
DTSTART:20261025T020000
RDATE:20270328T030000
TZOFFSETFROM:+0200
TZOFFSETTO:+0100
TZNAME:Europe/Paris CET
END:STANDARD
BEGIN:DAYLIGHT
DTSTART:20130331T030000
RDATE:20131027T020000
TZOFFSETFROM:+0100
TZOFFSETTO:+0200
TZNAME:Europe/Paris CEST
END:DAYLIGHT
BEGIN:DAYLIGHT
DTSTART:20140330T030000
RDATE:20141026T020000
TZOFFSETFROM:+0100
TZOFFSETTO:+0200
TZNAME:Europe/Paris CEST
END:DAYLIGHT
BEGIN:DAYLIGHT
DTSTART:20150329T030000
RDATE:20151025T020000
TZOFFSETFROM:+0100
TZOFFSETTO:+0200
TZNAME:Europe/Paris CEST
END:DAYLIGHT
BEGIN:DAYLIGHT
DTSTART:20160327T030000
RDATE:20161030T020000
TZOFFSETFROM:+0100
TZOFFSETTO:+0200
TZNAME:Europe/Paris CEST
END:DAYLIGHT
BEGIN:DAYLIGHT
DTSTART:20170326T030000
RDATE:20171029T020000
TZOFFSETFROM:+0100
TZOFFSETTO:+0200
TZNAME:Europe/Paris CEST
END:DAYLIGHT
BEGIN:DAYLIGHT
DTSTART:20180325T030000
RDATE:20181028T020000
TZOFFSETFROM:+0100
TZOFFSETTO:+0200
TZNAME:Europe/Paris CEST
END:DAYLIGHT
BEGIN:DAYLIGHT
DTSTART:20190331T030000
RDATE:20191027T020000
TZOFFSETFROM:+0100
TZOFFSETTO:+0200
TZNAME:Europe/Paris CEST
END:DAYLIGHT
BEGIN:DAYLIGHT
DTSTART:20200329T030000
RDATE:20201025T020000
TZOFFSETFROM:+0100
TZOFFSETTO:+0200
TZNAME:Europe/Paris CEST
END:DAYLIGHT
BEGIN:DAYLIGHT
DTSTART:20210328T030000
RDATE:20211031T020000
TZOFFSETFROM:+0100
TZOFFSETTO:+0200
TZNAME:Europe/Paris CEST
END:DAYLIGHT
BEGIN:DAYLIGHT
DTSTART:20220327T030000
RDATE:20221030T020000
TZOFFSETFROM:+0100
TZOFFSETTO:+0200
TZNAME:Europe/Paris CEST
END:DAYLIGHT
BEGIN:DAYLIGHT
DTSTART:20230326T030000
RDATE:20231029T020000
TZOFFSETFROM:+0100
TZOFFSETTO:+0200
TZNAME:Europe/Paris CEST
END:DAYLIGHT
BEGIN:DAYLIGHT
DTSTART:20240331T030000
RDATE:20241027T020000
TZOFFSETFROM:+0100
TZOFFSETTO:+0200
TZNAME:Europe/Paris CEST
END:DAYLIGHT
BEGIN:DAYLIGHT
DTSTART:20250330T030000
RDATE:20251026T020000
TZOFFSETFROM:+0100
TZOFFSETTO:+0200
TZNAME:Europe/Paris CEST
END:DAYLIGHT
BEGIN:DAYLIGHT
DTSTART:20260329T030000
RDATE:20261025T020000
TZOFFSETFROM:+0100
TZOFFSETTO:+0200
TZNAME:Europe/Paris CEST
END:DAYLIGHT
END:VTIMEZONE
BEGIN:VEVENT
UID:6fec8e433af1b26a622abc013a58354b
CATEGORIES:Opens et Promos (alpin)
CREATED:20131203T122100
SUMMARY:PROMO J     Les Dimanches de la Glisse / Challenge Raymond Wolkringer **REPORTE**
URL;VALUE=URI:https://skivosges.net/agenda/a-venir/detailevenement/184/-/promo-j-les-dima
 nches-de-la-glisse-challenge-raymond-wolkringer-reporte?tmpl=component
DESCRIPTION:PROMO J     Les Dimanches de la Glisse / Challenge Raymond Wolkringer (Epre
 uve reportée, date à determiner)\n\nLieu : CHAMP DU FEU \nOrganisateur : SK
 I CLUB SAVERNE  (14065 SKI CLUB SAVERNE)\nEmail : RegularLabs.EmailProtecto
 r.unCloak("ep_29cac8c1");\n - AMVF0791 épreuve U8 Filles\n  PROMO J     Les
  Dimanches de la Glisse / Challenge Raymond Wolkringer\n - AMVM0791 épreuve
  U8 Garçons\n  PROMO J     Les Dimanches de la Glisse / Challenge Raymond W
 olkringer\n - AMVF0792 épreuve de 8 a 15ans au 31/12/2012(Mic a Min) Filles
 \n  PROMO J     Les Dimanches de la Glisse / Challenge Raymond Wolkringer\n
  - AMVM0792 épreuve de 8 a 15ans au 31/12/2012(Mic a Min) Garçons\n  PROMO 
 J     Les Dimanches de la Glisse / Challenge Raymond Wolkringer Cet évèneme
 nt a été importé depuis :https://skivosges.net/agenda/a-venir/detaileveneme
 nt/184/-/promo-j-les-dimanches-de-la-glisse-challenge-raymond-wolkringer-re
 porte?tmpl=component
X-ALT-DESC;FMTTYPE=text/html:<strong>PROMO J     Les Dimanches de la Glisse / Challenge Raymond Wolkring
 er</strong> <font class="attention4">(Epreuve reportée, date à determiner)<
 /font><br /><br />Lieu : CHAMP DU FEU <br />Organisateur : SKI CLUB SAVERNE
   <small>(14065 SKI CLUB SAVERNE)</small><br />Email : <!-- Cette adresse é
 lectronique est protégée contre les robots spammeurs. --><span class="cloak
 ed_email ep_29cac8c1"><span data-ep-a="w&#105;e&#114;" data-ep-b=""><span d
 ata-ep-b="&#101;.&#102;&#114;" data-ep-a="e&#108;.&#97;"><span data-ep-b="&
 #64;&#102;&#114;&#101;" data-ep-a="&#114;&#99;&#104;&#105;"></span></span><
 /span></span><script>RegularLabs.EmailProtector.unCloak("ep_29cac8c1");</sc
 ript><ul type="disc"><li>AMVF0791 épreuve <nobr>U8</nobr> Filles<br />&nbsp
 ;&nbsp;PROMO J     Les Dimanches de la Glisse / Challenge Raymond Wolkringe
 r</li><li>AMVM0791 épreuve <nobr>U8</nobr> Garçons<br />&nbsp;&nbsp;PROMO J
      Les Dimanches de la Glisse / Challenge Raymond Wolkringer</li><li>AMVF
 0792 épreuve <nobr>de 8 a 15ans au 31/12/2012(Mic a Min)</nobr> Filles<br /
 >&nbsp;&nbsp;PROMO J     Les Dimanches de la Glisse / Challenge Raymond Wol
 kringer</li><li>AMVM0792 épreuve <nobr>de 8 a 15ans au 31/12/2012(Mic a Min
 )</nobr> Garçons<br />&nbsp;&nbsp;PROMO J     Les Dimanches de la Glisse / 
 Challenge Raymond Wolkringer</li></ul> <a href="https://skivosges.net/agend
 a/a-venir/detailevenement/184/-/promo-j-les-dimanches-de-la-glisse-challeng
 e-raymond-wolkringer-reporte?tmpl=component">Cet évènement a été importé de
 puis :https://skivosges.net/agenda/a-venir/detailevenement/184/-/promo-j-le
 s-dimanches-de-la-glisse-challenge-raymond-wolkringer-reporte?tmpl=componen
 t</a>DTSTAMP:20260424T012451
DTSTART;TZID=Europe/Paris:20140316T080000
DTEND;TZID=Europe/Paris:20140316T170000
SEQUENCE:0
TRANSP:OPAQUE
END:VEVENT
END:VCALENDAR