BEGIN:VCALENDAR
VERSION:2.0
PRODID:-//jEvents 2.0 for Joomla//EN
CALSCALE:GREGORIAN
METHOD:PUBLISH
BEGIN:VTIMEZONE
TZID:Europe/Paris
BEGIN:STANDARD
DTSTART:20211031T020000
RDATE:20220327T030000
TZOFFSETFROM:+0200
TZOFFSETTO:+0100
TZNAME:Europe/Paris CET
END:STANDARD
BEGIN:STANDARD
DTSTART:20221030T020000
RDATE:20230326T030000
TZOFFSETFROM:+0200
TZOFFSETTO:+0100
TZNAME:Europe/Paris CET
END:STANDARD
BEGIN:STANDARD
DTSTART:20231029T020000
RDATE:20240331T030000
TZOFFSETFROM:+0200
TZOFFSETTO:+0100
TZNAME:Europe/Paris CET
END:STANDARD
BEGIN:STANDARD
DTSTART:20241027T020000
RDATE:20250330T030000
TZOFFSETFROM:+0200
TZOFFSETTO:+0100
TZNAME:Europe/Paris CET
END:STANDARD
BEGIN:STANDARD
DTSTART:20251026T020000
RDATE:20260329T030000
TZOFFSETFROM:+0200
TZOFFSETTO:+0100
TZNAME:Europe/Paris CET
END:STANDARD
BEGIN:STANDARD
DTSTART:20261025T020000
RDATE:20270328T030000
TZOFFSETFROM:+0200
TZOFFSETTO:+0100
TZNAME:Europe/Paris CET
END:STANDARD
BEGIN:DAYLIGHT
DTSTART:20210414T000000
RDATE:20211031T020000
TZOFFSETFROM:+0100
TZOFFSETTO:+0200
TZNAME:Europe/Paris CEST
END:DAYLIGHT
BEGIN:DAYLIGHT
DTSTART:20220327T030000
RDATE:20221030T020000
TZOFFSETFROM:+0100
TZOFFSETTO:+0200
TZNAME:Europe/Paris CEST
END:DAYLIGHT
BEGIN:DAYLIGHT
DTSTART:20230326T030000
RDATE:20231029T020000
TZOFFSETFROM:+0100
TZOFFSETTO:+0200
TZNAME:Europe/Paris CEST
END:DAYLIGHT
BEGIN:DAYLIGHT
DTSTART:20240331T030000
RDATE:20241027T020000
TZOFFSETFROM:+0100
TZOFFSETTO:+0200
TZNAME:Europe/Paris CEST
END:DAYLIGHT
BEGIN:DAYLIGHT
DTSTART:20250330T030000
RDATE:20251026T020000
TZOFFSETFROM:+0100
TZOFFSETTO:+0200
TZNAME:Europe/Paris CEST
END:DAYLIGHT
BEGIN:DAYLIGHT
DTSTART:20260329T030000
RDATE:20261025T020000
TZOFFSETFROM:+0100
TZOFFSETTO:+0200
TZNAME:Europe/Paris CEST
END:DAYLIGHT
END:VTIMEZONE
BEGIN:VEVENT
UID:3260b8f378a4472caa8db71872063dd0
CATEGORIES:Opens et Promos (alpin)
CREATED:20211117T190002
SUMMARY:OPEN ADULTES 33 ème journées de Mellau *** ANNULE(E) ***
URL;VALUE=URI:https://skivosges.net/agenda/a-venir/detailevenement/1840/-/open-adultes-33
 -eme-journees-de-mellau-annule-e?tmpl=component
DESCRIPTION:OPEN ADULTES 33 ème journées de Mellau (Epreuve annulée)\n - Codex évenemen
 t AMVT0770\n - Lieu : Mellau (AUT)\n - Station : MELLAU\n - Piste : ROSSSTE
 LLE\n - Organisateur : 14434 ALSACE SKI PLUS COLMAR\n - Courriel : RegularL
 abs.EmailProtector.unCloak("ep_46afa15a");\n - Délégué Technique : MULLER J
 EAN CLAUDEPériode d'inscription à l'evènement du mardi 01 mars 2022 à 00:00
  au samedi 19 mars 2022 à 12:00Inscriptions ouvertes aux detenteurs des tit
 res Fédéraux valides suivants : Licenciés Compétiteurs\n - Voir les informa
 tions dans l'agenda... (/index.php?option=com_jevents&amp;task=icalevent.de
 tail&amp;evid=1835&amp;Itemid=6289)Epreuves :\n - Le vendredi 15 avril 2022
  à 12:00\n - Codex épreuve AMVM0771\n - Slalom\n - Catégorie(s) : U16 a Mas
 ters (Garçons)\n - Le vendredi 15 avril 2022 à 12:00\n - Codex épreuve AMVF
 0771\n - Slalom\n - Catégorie(s) : U16 a Masters (Filles)\n - Voir les info
 rmations dans l'agenda... (/index.php?option=com_jevents&amp;task=icalevent
 .detail&amp;evid=1835&amp;Itemid=6289) Cet évènement a été importé depuis :
 https://skivosges.net/agenda/a-venir/detailevenement/1840/-/open-adultes-33
 -eme-journees-de-mellau-annule-e?tmpl=component
X-ALT-DESC;FMTTYPE=text/html:<!-- #gskiepreuve code généré par le plugin jevents pour GskiEpreuves. Ne p
 as modifier cette ligne, ni tout le contenu suivant  #gskiepreuve --><div c
 lass="gski-evenement_infos"><div class="gski-evenement-nom">OPEN ADULTES 33
  ème journées de Mellau</div><div class="gski-evenement-report"> <font clas
 s="gskiattention">(Epreuve annulée)</font></div><ul class="gski-evenement-l
 iste-infos"><li>Codex évenement AMVT0770</li><li>Lieu : Mellau (AUT)</li><l
 i>Station : MELLAU</li><li>Piste : ROSSSTELLE</li><li>Organisateur : 14434 
 ALSACE SKI PLUS COLMAR</li><li>Courriel : <!-- Cette adresse électronique e
 st protégée contre les robots spammeurs. --><span class="cloaked_email ep_4
 6afa15a"><span data-ep-a="&#118;&#116;&#110;" data-ep-b=""><span data-ep-a=
 "&#64;w&#97;" data-ep-b="&#102;r"><span data-ep-b="o&#111;." data-ep-a="&#1
 10;a&#100;"></span></span></span></span><script>RegularLabs.EmailProtector.
 unCloak("ep_46afa15a");</script></li><li><span class="gski-evenement-obs">D
 élégué Technique : MULLER JEAN CLAUDE</span></li></ul><div class="gski-even
 ement-infos-2"><div class="gski-evenement-info-inscriptions"><div class="gs
 ki-evenement-inscriptions-periodes">Période d'inscription à l'evènement du 
 mardi 01 mars 2022 à 00:00 au samedi 19 mars 2022 à 12:00<div class="gski-e
 venement-inscriptions-types-titres">Inscriptions ouvertes aux detenteurs de
 s titres Fédéraux valides suivants : Licenciés Compétiteurs</div></div></di
 v><div class="gskiepreuves-links"><ul><li><a href="https://skivosges.net/in
 dex.php?option=com_jevents&task=icalevent.detail&evid=1835&Itemid=6289">Voi
 r les informations dans l'agenda...</a></li></ul></div><div class="gski-eve
 nement-epreuves"><div class="gski-evenement-epreuves-titres">Epreuves :</di
 v><ul class="gski-evenement-epreuves-list"><li><div class="gski-epreuve-dat
 e">Le vendredi 15 avril 2022 à 12:00</div><ul class="gski-epreuve-liste-inf
 os"><li>Codex épreuve AMVM0771</li><li>Slalom</li><li>Catégorie(s) : U16 a 
 Masters (Garçons)</li></ul></li><li><div class="gski-epreuve-date">Le vendr
 edi 15 avril 2022 à 12:00</div><ul class="gski-epreuve-liste-infos"><li>Cod
 ex épreuve AMVF0771</li><li>Slalom</li><li>Catégorie(s) : U16 a Masters (Fi
 lles)</li></ul></li></ul></div><div class="gskiepreuves-links"><ul><li><a h
 ref="https://skivosges.net/index.php?option=com_jevents&task=icalevent.deta
 il&evid=1835&Itemid=6289">Voir les informations dans l'agenda...</a></li></
 ul></div></div"><!-- #/gskiepreuve fin du dode généré par le plugin jevents
  pour GskiEpreuves. . Ne pas modifier cette ligne, ni tout le contenu préce
 dant.  #/gskiepreuve --> <a href="https://skivosges.net/agenda/a-venir/deta
 ilevenement/1840/-/open-adultes-33-eme-journees-de-mellau-annule-e?tmpl=com
 ponent">Cet évènement a été importé depuis :https://skivosges.net/agenda/a-
 venir/detailevenement/1840/-/open-adultes-33-eme-journees-de-mellau-annule-
 e?tmpl=component</a>DTSTAMP:20260420T185244
DTSTART;TZID=Europe/Paris;VALUE=DATE:20220415
DTEND;TZID=Europe/Paris;VALUE=DATE:20220416
SEQUENCE:0
TRANSP:OPAQUE
END:VEVENT
END:VCALENDAR