BEGIN:VCALENDAR
VERSION:2.0
PRODID:-//jEvents 2.0 for Joomla//EN
CALSCALE:GREGORIAN
METHOD:PUBLISH
BEGIN:VTIMEZONE
TZID:Europe/Paris
BEGIN:STANDARD
DTSTART:20210311T000000
RDATE:20210328T030000
TZOFFSETFROM:+0200
TZOFFSETTO:+0100
TZNAME:Europe/Paris CET
END:STANDARD
BEGIN:STANDARD
DTSTART:20211031T020000
RDATE:20220327T030000
TZOFFSETFROM:+0200
TZOFFSETTO:+0100
TZNAME:Europe/Paris CET
END:STANDARD
BEGIN:STANDARD
DTSTART:20221030T020000
RDATE:20230326T030000
TZOFFSETFROM:+0200
TZOFFSETTO:+0100
TZNAME:Europe/Paris CET
END:STANDARD
BEGIN:STANDARD
DTSTART:20231029T020000
RDATE:20240331T030000
TZOFFSETFROM:+0200
TZOFFSETTO:+0100
TZNAME:Europe/Paris CET
END:STANDARD
BEGIN:STANDARD
DTSTART:20241027T020000
RDATE:20250330T030000
TZOFFSETFROM:+0200
TZOFFSETTO:+0100
TZNAME:Europe/Paris CET
END:STANDARD
BEGIN:STANDARD
DTSTART:20251026T020000
RDATE:20260329T030000
TZOFFSETFROM:+0200
TZOFFSETTO:+0100
TZNAME:Europe/Paris CET
END:STANDARD
BEGIN:STANDARD
DTSTART:20261025T020000
RDATE:20270328T030000
TZOFFSETFROM:+0200
TZOFFSETTO:+0100
TZNAME:Europe/Paris CET
END:STANDARD
BEGIN:DAYLIGHT
DTSTART:20210328T030000
RDATE:20211031T020000
TZOFFSETFROM:+0100
TZOFFSETTO:+0200
TZNAME:Europe/Paris CEST
END:DAYLIGHT
BEGIN:DAYLIGHT
DTSTART:20220327T030000
RDATE:20221030T020000
TZOFFSETFROM:+0100
TZOFFSETTO:+0200
TZNAME:Europe/Paris CEST
END:DAYLIGHT
BEGIN:DAYLIGHT
DTSTART:20230326T030000
RDATE:20231029T020000
TZOFFSETFROM:+0100
TZOFFSETTO:+0200
TZNAME:Europe/Paris CEST
END:DAYLIGHT
BEGIN:DAYLIGHT
DTSTART:20240331T030000
RDATE:20241027T020000
TZOFFSETFROM:+0100
TZOFFSETTO:+0200
TZNAME:Europe/Paris CEST
END:DAYLIGHT
BEGIN:DAYLIGHT
DTSTART:20250330T030000
RDATE:20251026T020000
TZOFFSETFROM:+0100
TZOFFSETTO:+0200
TZNAME:Europe/Paris CEST
END:DAYLIGHT
BEGIN:DAYLIGHT
DTSTART:20260329T030000
RDATE:20261025T020000
TZOFFSETFROM:+0100
TZOFFSETTO:+0200
TZNAME:Europe/Paris CEST
END:DAYLIGHT
END:VTIMEZONE
BEGIN:VEVENT
UID:7b2c32e86b44adc2b9e01629c6fd585d
CATEGORIES:Circuit Massif Masters (alpin)
CREATED:20211224T190003
SUMMARY:CMM  Esprit Racing La Chaume Francis
URL;VALUE=URI:https://skivosges.net/agenda/a-venir/detailevenement/1876/-/cmm-esprit-raci
 ng-la-chaume-francis?tmpl=component
DESCRIPTION:<!-- #gskiepreuve code généré par le plugin jevents pour GskiEpreuves. Ne p
 as modifier cette ligne, ni tout le contenu suivant  #gskiepreuve --><div c
 lass="gski-evenement_infos"><div class="gski-evenement-nom">CMM  Esprit Rac
 ing La Chaume Francis</div><div class="gski-evenement-report"></div><ul cla
 ss="gski-evenement-liste-infos"><li>Codex évenement AMVT0940</li><li>Statio
 n : GERARDMER</li><li>Piste : Stade </li><li>Organisateur : 14089 GERARDMER
  SKI ALPIN</li><li>Courriel : <!-- Cette adresse électronique est protégée 
 contre les robots spammeurs. --><span class="cloaked_email ep_e9035395"><sp
 an data-ep-a="&#112;&#104;&#105;&#108;&#105;" data-ep-b="&#102;&#114;"><spa
 n data-ep-b="&#97;&#110;&#103;&#101;." data-ep-a="&#112;&#112;&#101;&#46;&#
 104;"><span data-ep-b="o&#110;&#64;&#111;&#114;" data-ep-a="&#111;&#117;&#1
 05;&#108;l"></span></span></span></span><script>RegularLabs.EmailProtector.
 unCloak("ep_e9035395");</script></li><li><span class="gski-evenement-obs">D
 élégué Technique : BANZET RICHARD</span></li></ul><div class="gski-evenemen
 t-infos-2"><div class="gski-evenement-info-inscriptions"><div class="gski-e
 venement-inscriptions-periodes">Période d'inscription à l'evènement du same
 di 05 mars 2022 à 00:00 au vendredi 11 mars 2022 à 14:00<div class="gski-ev
 enement-inscriptions-types-titres">Inscriptions ouvertes aux detenteurs des
  titres Fédéraux valides suivants : Licenciés Compétiteurs</div></div></div
 ><div class="gski-evenement-info-live">L'épreuve sera chronométrée en direc
 t sur https://skivosges.net/live</div><div class="gskiepreuves-links"><ul><
 li><a href="/index.php?option=com_jevents&task=icalevent.detail&evid=1871&I
 temid=6289">Voir les informations dans l'agenda...</a></li><li><a href="/in
 dex.php?option=com_gskiepreuves&view=afficheresultats&format_option=tous&fi
 lter[search]=AMVT0940&filter[date_debut]=12-03-2022&filter[date_fin]=12-03-
 2022&code_activite=ALP&Itemid=6289">Vers les résultats...</a></li><li>Publi
 cations concernant cet évènement :<ul><li><a href="/index.php?option=com_co
 ntent&view=article&id=7699&Itemid=6289">Vendredi 11 Mars 2022 à 15:09 : Le 
 12/03/2022 GERARDMER Liste de départs</a></li></ul></li></ul></div><div cla
 ss="gski-evenement-epreuves"><div class="gski-evenement-epreuves-titres">Ep
 reuves :</div><ul class="gski-evenement-epreuves-list"><li><div class="gski
 -epreuve-date">Le samedi 12 mars 2022</div><ul class="gski-epreuve-liste-in
 fos"><li>Codex épreuve AMVM0941</li><li>Slalom</li><li>Catégorie(s) : Tous 
 les Masters+U21+U30 Hommes (Hommes)</li></ul></li><li><div class="gski-epre
 uve-date">Le samedi 12 mars 2022</div><ul class="gski-epreuve-liste-infos">
 <li>Codex épreuve AMVF0941</li><li>Slalom</li><li>Catégorie(s) : Tous les M
 asters+U21+U30 Dames (Dames)</li></ul></li></ul></div><div class="gskiepreu
 ves-links"><ul><li><a href="/index.php?option=com_jevents&task=icalevent.de
 tail&evid=1871&Itemid=6289">Voir les informations dans l'agenda...</a></li>
 <li><a href="/index.php?option=com_gskiepreuves&view=afficheresultats&forma
 t_option=tous&filter[search]=AMVT0940&filter[date_debut]=12-03-2022&filter[
 date_fin]=12-03-2022&code_activite=ALP&Itemid=6289">Vers les résultats...</
 a></li><li>Publications concernant cet évènement :<ul><li><a href="/index.p
 hp?option=com_content&view=article&id=7699&Itemid=6289">Vendredi 11 Mars 20
 22 à 15:09 : Le 12/03/2022 GERARDMER Liste de départs</a></li></ul></li></u
 l></div></div"><!-- #/gskiepreuve fin du dode généré par le plugin jevents 
 pour GskiEpreuves. . Ne pas modifier cette ligne, ni tout le contenu préced
 ant.  #/gskiepreuve --> <a href="https://skivosges.net/agenda/a-venir/detai
 levenement/1876/-/cmm-esprit-racing-la-chaume-francis?tmpl=component">Cet é
 vènement a été importé depuis :https://skivosges.net/agenda/a-venir/detaile
 venement/1876/-/cmm-esprit-racing-la-chaume-francis?tmpl=component</a>
X-ALT-DESC;FMTTYPE=text/html:<!-- #gskiepreuve code généré par le plugin jevents pour GskiEpreuves. Ne p
 as modifier cette ligne, ni tout le contenu suivant  #gskiepreuve --><div c
 lass="gski-evenement_infos"><div class="gski-evenement-nom">CMM  Esprit Rac
 ing La Chaume Francis</div><div class="gski-evenement-report"></div><ul cla
 ss="gski-evenement-liste-infos"><li>Codex évenement AMVT0940</li><li>Statio
 n : GERARDMER</li><li>Piste : Stade </li><li>Organisateur : 14089 GERARDMER
  SKI ALPIN</li><li>Courriel : <!-- Cette adresse électronique est protégée 
 contre les robots spammeurs. --><span class="cloaked_email ep_e9035395"><sp
 an data-ep-a="&#112;&#104;&#105;&#108;&#105;" data-ep-b="&#102;&#114;"><spa
 n data-ep-b="&#97;&#110;&#103;&#101;." data-ep-a="&#112;&#112;&#101;&#46;&#
 104;"><span data-ep-b="o&#110;&#64;&#111;&#114;" data-ep-a="&#111;&#117;&#1
 05;&#108;l"></span></span></span></span><script>RegularLabs.EmailProtector.
 unCloak("ep_e9035395");</script></li><li><span class="gski-evenement-obs">D
 élégué Technique : BANZET RICHARD</span></li></ul><div class="gski-evenemen
 t-infos-2"><div class="gski-evenement-info-inscriptions"><div class="gski-e
 venement-inscriptions-periodes">Période d'inscription à l'evènement du same
 di 05 mars 2022 à 00:00 au vendredi 11 mars 2022 à 14:00<div class="gski-ev
 enement-inscriptions-types-titres">Inscriptions ouvertes aux detenteurs des
  titres Fédéraux valides suivants : Licenciés Compétiteurs</div></div></div
 ><div class="gski-evenement-info-live">L'épreuve sera chronométrée en direc
 t sur https://skivosges.net/live</div><div class="gskiepreuves-links"><ul><
 li><a href="https://skivosges.net/index.php?option=com_jevents&task=icaleve
 nt.detail&evid=1871&Itemid=6289">Voir les informations dans l'agenda...</a>
 </li><li><a href="https://skivosges.net/index.php?option=com_gskiepreuves&v
 iew=afficheresultats&format_option=tous&filter[search]=AMVT0940&filter[date
 _debut]=12-03-2022&filter[date_fin]=12-03-2022&code_activite=ALP&Itemid=628
 9">Vers les résultats...</a></li><li>Publications concernant cet évènement 
 :<ul><li><a href="https://skivosges.net/index.php?option=com_content&view=a
 rticle&id=7699&Itemid=6289">Vendredi 11 Mars 2022 à 15:09 : Le 12/03/2022 G
 ERARDMER Liste de départs</a></li></ul></li></ul></div><div class="gski-eve
 nement-epreuves"><div class="gski-evenement-epreuves-titres">Epreuves :</di
 v><ul class="gski-evenement-epreuves-list"><li><div class="gski-epreuve-dat
 e">Le samedi 12 mars 2022</div><ul class="gski-epreuve-liste-infos"><li>Cod
 ex épreuve AMVM0941</li><li>Slalom</li><li>Catégorie(s) : Tous les Masters+
 U21+U30 Hommes (Hommes)</li></ul></li><li><div class="gski-epreuve-date">Le
  samedi 12 mars 2022</div><ul class="gski-epreuve-liste-infos"><li>Codex ép
 reuve AMVF0941</li><li>Slalom</li><li>Catégorie(s) : Tous les Masters+U21+U
 30 Dames (Dames)</li></ul></li></ul></div><div class="gskiepreuves-links"><
 ul><li><a href="https://skivosges.net/index.php?option=com_jevents&task=ica
 levent.detail&evid=1871&Itemid=6289">Voir les informations dans l'agenda...
 </a></li><li><a href="https://skivosges.net/index.php?option=com_gskiepreuv
 es&view=afficheresultats&format_option=tous&filter[search]=AMVT0940&filter[
 date_debut]=12-03-2022&filter[date_fin]=12-03-2022&code_activite=ALP&Itemid
 =6289">Vers les résultats...</a></li><li>Publications concernant cet évènem
 ent :<ul><li><a href="https://skivosges.net/index.php?option=com_content&vi
 ew=article&id=7699&Itemid=6289">Vendredi 11 Mars 2022 à 15:09 : Le 12/03/20
 22 GERARDMER Liste de départs</a></li></ul></li></ul></div></div"><!-- #/gs
 kiepreuve fin du dode généré par le plugin jevents pour GskiEpreuves. . Ne 
 pas modifier cette ligne, ni tout le contenu précedant.  #/gskiepreuve --> 
 <a href="https://skivosges.net/agenda/a-venir/detailevenement/1876/-/cmm-es
 prit-racing-la-chaume-francis?tmpl=component">Cet évènement a été importé d
 epuis :https://skivosges.net/agenda/a-venir/detailevenement/1876/-/cmm-espr
 it-racing-la-chaume-francis?tmpl=component</a>DTSTAMP:20260421T051507
DTSTART;TZID=Europe/Paris;VALUE=DATE:20220312
DTEND;TZID=Europe/Paris;VALUE=DATE:20220313
SEQUENCE:0
TRANSP:OPAQUE
END:VEVENT
END:VCALENDAR