BEGIN:VCALENDAR
VERSION:2.0
PRODID:-//jEvents 2.0 for Joomla//EN
CALSCALE:GREGORIAN
METHOD:PUBLISH
BEGIN:VTIMEZONE
TZID:Europe/Paris
BEGIN:STANDARD
DTSTART:20210226T000000
RDATE:20210328T030000
TZOFFSETFROM:+0200
TZOFFSETTO:+0100
TZNAME:Europe/Paris CET
END:STANDARD
BEGIN:STANDARD
DTSTART:20211031T020000
RDATE:20220327T030000
TZOFFSETFROM:+0200
TZOFFSETTO:+0100
TZNAME:Europe/Paris CET
END:STANDARD
BEGIN:STANDARD
DTSTART:20221030T020000
RDATE:20230326T030000
TZOFFSETFROM:+0200
TZOFFSETTO:+0100
TZNAME:Europe/Paris CET
END:STANDARD
BEGIN:STANDARD
DTSTART:20231029T020000
RDATE:20240331T030000
TZOFFSETFROM:+0200
TZOFFSETTO:+0100
TZNAME:Europe/Paris CET
END:STANDARD
BEGIN:STANDARD
DTSTART:20241027T020000
RDATE:20250330T030000
TZOFFSETFROM:+0200
TZOFFSETTO:+0100
TZNAME:Europe/Paris CET
END:STANDARD
BEGIN:STANDARD
DTSTART:20251026T020000
RDATE:20260329T030000
TZOFFSETFROM:+0200
TZOFFSETTO:+0100
TZNAME:Europe/Paris CET
END:STANDARD
BEGIN:STANDARD
DTSTART:20261025T020000
RDATE:20270328T030000
TZOFFSETFROM:+0200
TZOFFSETTO:+0100
TZNAME:Europe/Paris CET
END:STANDARD
BEGIN:DAYLIGHT
DTSTART:20210328T030000
RDATE:20211031T020000
TZOFFSETFROM:+0100
TZOFFSETTO:+0200
TZNAME:Europe/Paris CEST
END:DAYLIGHT
BEGIN:DAYLIGHT
DTSTART:20220327T030000
RDATE:20221030T020000
TZOFFSETFROM:+0100
TZOFFSETTO:+0200
TZNAME:Europe/Paris CEST
END:DAYLIGHT
BEGIN:DAYLIGHT
DTSTART:20230326T030000
RDATE:20231029T020000
TZOFFSETFROM:+0100
TZOFFSETTO:+0200
TZNAME:Europe/Paris CEST
END:DAYLIGHT
BEGIN:DAYLIGHT
DTSTART:20240331T030000
RDATE:20241027T020000
TZOFFSETFROM:+0100
TZOFFSETTO:+0200
TZNAME:Europe/Paris CEST
END:DAYLIGHT
BEGIN:DAYLIGHT
DTSTART:20250330T030000
RDATE:20251026T020000
TZOFFSETFROM:+0100
TZOFFSETTO:+0200
TZNAME:Europe/Paris CEST
END:DAYLIGHT
BEGIN:DAYLIGHT
DTSTART:20260329T030000
RDATE:20261025T020000
TZOFFSETFROM:+0100
TZOFFSETTO:+0200
TZNAME:Europe/Paris CEST
END:DAYLIGHT
END:VTIMEZONE
BEGIN:VEVENT
UID:44b99cbda888d276108bedf0165fcd2d
CATEGORIES:Circuit Massif D2 (alpin)
CREATED:20220222T134712
SUMMARY:CD2 Mémorial Michel MANGEL  U16 à U30
URL;VALUE=URI:https://skivosges.net/agenda/a-venir/detailevenement/1891/-/cd2-memorial-mi
 chel-mangel-u16-a-u30?tmpl=component
DESCRIPTION:CD2 Mémorial Michel MANGEL  U16 à U30 (Report de l'épreuve initialement pré
 vue le 09/01/2022)\n - Codex évenement AMVT0090\n - Lieu : LANGENBERG\n - S
 tation : BALLON D ALSACE\n - Piste : STADE DE SLALOM\n - Organisateur : 140
 63 SKIEURS DE ST MAURICE/MOSELLE\n - Courriel : RegularLabs.EmailProtector.
 unCloak("ep_a12c3275");Période d'inscription à l'evènement du dimanche 20 f
 évrier 2022 à 01:01 au vendredi 25 février 2022 à 19:01Inscriptions ouverte
 s aux detenteurs des titres Fédéraux valides suivants : Licenciés Compétite
 urs\n - Voir les informations dans l'agenda... (/index.php?option=com_jeven
 ts&amp;task=icalevent.detail&amp;evid=1886&amp;Itemid=6289)\n - Vers les ré
 sultats... (/index.php?option=com_gskiepreuves&amp;view=afficheresultats&am
 p;format_option=tous&amp;filter[search]=AMVT0090&amp;filter[date_debut]=27-
 02-2022&amp;filter[date_fin]=27-02-2022&amp;code_activite=ALP&amp;Itemid=62
 89)Epreuves :\n - Le dimanche 27 février 2022 à 10:00\n - Codex épreuve AMV
 M0091\n - Slalom\n - Catégorie(s) : U16 (Garçons)\n - Le dimanche 27 févrie
 r 2022 à 10:00\n - Codex épreuve AMVF0091\n - Slalom\n - Catégorie(s) : U16
  (Filles)\n - Le dimanche 27 février 2022 à 10:00\n - Codex épreuve AMVF009
 2\n - Slalom\n - Catégorie(s) : U18 a U30 (Dames)\n - Le dimanche 27 févrie
 r 2022 à 10:00\n - Codex épreuve AMVM0092\n - Slalom\n - Catégorie(s) : U18
  a U30 (Hommes)\n - Voir les informations dans l'agenda... (/index.php?opti
 on=com_jevents&amp;task=icalevent.detail&amp;evid=1886&amp;Itemid=6289)\n -
  Vers les résultats... (/index.php?option=com_gskiepreuves&amp;view=affiche
 resultats&amp;format_option=tous&amp;filter[search]=AMVT0090&amp;filter[dat
 e_debut]=27-02-2022&amp;filter[date_fin]=27-02-2022&amp;code_activite=ALP&a
 mp;Itemid=6289) Cet évènement a été importé depuis :https://skivosges.net/a
 genda/a-venir/detailevenement/1891/-/cd2-memorial-michel-mangel-u16-a-u30?t
 mpl=component
X-ALT-DESC;FMTTYPE=text/html:<!-- #gskiepreuve code généré par le plugin jevents pour GskiEpreuves. Ne p
 as modifier cette ligne, ni tout le contenu suivant  #gskiepreuve --><div c
 lass="gski-evenement_infos"><div class="gski-evenement-nom">CD2 Mémorial Mi
 chel MANGEL  U16 à U30</div><div class="gski-evenement-report"> <font class
 ="gskiattention">(Report de l'épreuve initialement prévue le 09/01/2022)</f
 ont></div><ul class="gski-evenement-liste-infos"><li>Codex évenement AMVT00
 90</li><li>Lieu : LANGENBERG</li><li>Station : BALLON D ALSACE</li><li>Pist
 e : STADE DE SLALOM</li><li>Organisateur : 14063 SKIEURS DE ST MAURICE/MOSE
 LLE</li><li>Courriel : <!-- Cette adresse électronique est protégée contre 
 les robots spammeurs. --><span class="cloaked_email ep_a12c3275"><span data
 -ep-b="" data-ep-a="d&#97;&#110;i"><span data-ep-a="&#101;&#108;&#46;&#109;
 " data-ep-b="&#114;&#46;f&#114;"><span data-ep-b="&#53;&#64;&#115;&#102;" d
 ata-ep-a="o&#114;&#101;&#108;"></span></span></span></span><script>RegularL
 abs.EmailProtector.unCloak("ep_a12c3275");</script></li></ul><div class="gs
 ki-evenement-infos-2"><div class="gski-evenement-info-inscriptions"><div cl
 ass="gski-evenement-inscriptions-periodes">Période d'inscription à l'evènem
 ent du dimanche 20 février 2022 à 01:01 au vendredi 25 février 2022 à 19:01
 <div class="gski-evenement-inscriptions-types-titres">Inscriptions ouvertes
  aux detenteurs des titres Fédéraux valides suivants : Licenciés Compétiteu
 rs</div></div></div><div class="gskiepreuves-links"><ul><li><a href="https:
 //skivosges.net/index.php?option=com_jevents&task=icalevent.detail&evid=188
 6&Itemid=6289">Voir les informations dans l'agenda...</a></li><li><a href="
 https://skivosges.net/index.php?option=com_gskiepreuves&view=afficheresulta
 ts&format_option=tous&filter[search]=AMVT0090&filter[date_debut]=27-02-2022
 &filter[date_fin]=27-02-2022&code_activite=ALP&Itemid=6289">Vers les résult
 ats...</a></li></ul></div><div class="gski-evenement-epreuves"><div class="
 gski-evenement-epreuves-titres">Epreuves :</div><ul class="gski-evenement-e
 preuves-list"><li><div class="gski-epreuve-date">Le dimanche 27 février 202
 2 à 10:00</div><ul class="gski-epreuve-liste-infos"><li>Codex épreuve AMVM0
 091</li><li>Slalom</li><li>Catégorie(s) : U16 (Garçons)</li></ul></li><li><
 div class="gski-epreuve-date">Le dimanche 27 février 2022 à 10:00</div><ul 
 class="gski-epreuve-liste-infos"><li>Codex épreuve AMVF0091</li><li>Slalom<
 /li><li>Catégorie(s) : U16 (Filles)</li></ul></li><li><div class="gski-epre
 uve-date">Le dimanche 27 février 2022 à 10:00</div><ul class="gski-epreuve-
 liste-infos"><li>Codex épreuve AMVF0092</li><li>Slalom</li><li>Catégorie(s)
  : U18 a U30 (Dames)</li></ul></li><li><div class="gski-epreuve-date">Le di
 manche 27 février 2022 à 10:00</div><ul class="gski-epreuve-liste-infos"><l
 i>Codex épreuve AMVM0092</li><li>Slalom</li><li>Catégorie(s) : U18 a U30 (H
 ommes)</li></ul></li></ul></div><div class="gskiepreuves-links"><ul><li><a 
 href="https://skivosges.net/index.php?option=com_jevents&task=icalevent.det
 ail&evid=1886&Itemid=6289">Voir les informations dans l'agenda...</a></li><
 li><a href="https://skivosges.net/index.php?option=com_gskiepreuves&view=af
 ficheresultats&format_option=tous&filter[search]=AMVT0090&filter[date_debut
 ]=27-02-2022&filter[date_fin]=27-02-2022&code_activite=ALP&Itemid=6289">Ver
 s les résultats...</a></li></ul></div></div"><!-- #/gskiepreuve fin du dode
  généré par le plugin jevents pour GskiEpreuves. . Ne pas modifier cette li
 gne, ni tout le contenu précedant.  #/gskiepreuve --> <a href="https://skiv
 osges.net/agenda/a-venir/detailevenement/1891/-/cd2-memorial-michel-mangel-
 u16-a-u30?tmpl=component">Cet évènement a été importé depuis :https://skivo
 sges.net/agenda/a-venir/detailevenement/1891/-/cd2-memorial-michel-mangel-u
 16-a-u30?tmpl=component</a>DTSTAMP:20260421T015601
DTSTART;TZID=Europe/Paris;VALUE=DATE:20220227
DTEND;TZID=Europe/Paris;VALUE=DATE:20220228
SEQUENCE:0
TRANSP:OPAQUE
END:VEVENT
END:VCALENDAR