BEGIN:VCALENDAR
VERSION:2.0
PRODID:-//jEvents 2.0 for Joomla//EN
CALSCALE:GREGORIAN
METHOD:PUBLISH
BEGIN:VTIMEZONE
TZID:Europe/Paris
BEGIN:STANDARD
DTSTART:20210305T000000
RDATE:20210328T030000
TZOFFSETFROM:+0200
TZOFFSETTO:+0100
TZNAME:Europe/Paris CET
END:STANDARD
BEGIN:STANDARD
DTSTART:20211031T020000
RDATE:20220327T030000
TZOFFSETFROM:+0200
TZOFFSETTO:+0100
TZNAME:Europe/Paris CET
END:STANDARD
BEGIN:STANDARD
DTSTART:20221030T020000
RDATE:20230326T030000
TZOFFSETFROM:+0200
TZOFFSETTO:+0100
TZNAME:Europe/Paris CET
END:STANDARD
BEGIN:STANDARD
DTSTART:20231029T020000
RDATE:20240331T030000
TZOFFSETFROM:+0200
TZOFFSETTO:+0100
TZNAME:Europe/Paris CET
END:STANDARD
BEGIN:STANDARD
DTSTART:20241027T020000
RDATE:20250330T030000
TZOFFSETFROM:+0200
TZOFFSETTO:+0100
TZNAME:Europe/Paris CET
END:STANDARD
BEGIN:STANDARD
DTSTART:20251026T020000
RDATE:20260329T030000
TZOFFSETFROM:+0200
TZOFFSETTO:+0100
TZNAME:Europe/Paris CET
END:STANDARD
BEGIN:STANDARD
DTSTART:20261025T020000
RDATE:20270328T030000
TZOFFSETFROM:+0200
TZOFFSETTO:+0100
TZNAME:Europe/Paris CET
END:STANDARD
BEGIN:DAYLIGHT
DTSTART:20210328T030000
RDATE:20211031T020000
TZOFFSETFROM:+0100
TZOFFSETTO:+0200
TZNAME:Europe/Paris CEST
END:DAYLIGHT
BEGIN:DAYLIGHT
DTSTART:20220327T030000
RDATE:20221030T020000
TZOFFSETFROM:+0100
TZOFFSETTO:+0200
TZNAME:Europe/Paris CEST
END:DAYLIGHT
BEGIN:DAYLIGHT
DTSTART:20230326T030000
RDATE:20231029T020000
TZOFFSETFROM:+0100
TZOFFSETTO:+0200
TZNAME:Europe/Paris CEST
END:DAYLIGHT
BEGIN:DAYLIGHT
DTSTART:20240331T030000
RDATE:20241027T020000
TZOFFSETFROM:+0100
TZOFFSETTO:+0200
TZNAME:Europe/Paris CEST
END:DAYLIGHT
BEGIN:DAYLIGHT
DTSTART:20250330T030000
RDATE:20251026T020000
TZOFFSETFROM:+0100
TZOFFSETTO:+0200
TZNAME:Europe/Paris CEST
END:DAYLIGHT
BEGIN:DAYLIGHT
DTSTART:20260329T030000
RDATE:20261025T020000
TZOFFSETFROM:+0100
TZOFFSETTO:+0200
TZNAME:Europe/Paris CEST
END:DAYLIGHT
END:VTIMEZONE
BEGIN:VEVENT
UID:5d769b93717eda24d3885b2b0e8751d0
CATEGORIES:Circuit Massif Masters (alpin)
CREATED:20220227T204251
SUMMARY:CMM  Esprit Racing
URL;VALUE=URI:https://skivosges.net/agenda/a-venir/detailevenement/1893/-/cmm-esprit-raci
 ng?tmpl=component
DESCRIPTION:CMM  Esprit Racing (Report de l'épreuve initialement prévue le 05/03/2022)\
 n - Codex évenement AMVT0560\n - Lieu : LA BRESSE HOHNECK\n - Station : LA 
 BRESSE\n - Piste : GABY CURIEN\n - Organisateur : 14024 LA BRESSAUDE SECTIO
 N SKI\n - Courriel : RegularLabs.EmailProtector.unCloak("ep_b7971978");\n -
  Téléphone : 0608855252\n - Délégué Technique : NOEL JEAN CHRISTOPHEPériode
  d'inscription à l'evènement du dimanche 27 février 2022 à 00:00 au vendred
 i 04 mars 2022 à 17:00Inscriptions ouvertes aux detenteurs des titres Fédér
 aux valides suivants : Licenciés Compétiteurs\n - Voir les informations dan
 s l'agenda... (/index.php?option=com_jevents&amp;task=icalevent.detail&amp;
 evid=1888&amp;Itemid=6289)\n - Vers les résultats... (/index.php?option=com
 _gskiepreuves&amp;view=afficheresultats&amp;format_option=tous&amp;filter[s
 earch]=AMVT0560&amp;filter[date_debut]=06-03-2022&amp;filter[date_fin]=06-0
 3-2022&amp;code_activite=ALP&amp;Itemid=6289)\n - Publications concernant c
 et évènement :\n - Vendredi 4 Mars 2022 à 22:07 : Le 06/03/2022 LA BRESSE L
 iste de départs (/index.php?option=com_content&amp;view=article&amp;id=7680
 &amp;Itemid=6289)Epreuves :\n - Le dimanche 06 mars 2022\n - Codex épreuve 
 AMVM0561\n - Slalom Geant\n - Catégorie(s) : Toutes les categories Masters 
 (ABC) (Hommes)\n - Le dimanche 06 mars 2022\n - Codex épreuve AMVF0561\n - 
 Slalom Geant\n - Catégorie(s) : Toutes les categories Masters (ABC) (Dames)
 \n - Voir les informations dans l'agenda... (/index.php?option=com_jevents&
 amp;task=icalevent.detail&amp;evid=1888&amp;Itemid=6289)\n - Vers les résul
 tats... (/index.php?option=com_gskiepreuves&amp;view=afficheresultats&amp;f
 ormat_option=tous&amp;filter[search]=AMVT0560&amp;filter[date_debut]=06-03-
 2022&amp;filter[date_fin]=06-03-2022&amp;code_activite=ALP&amp;Itemid=6289)
 \n - Publications concernant cet évènement :\n - Vendredi 4 Mars 2022 à 22:
 07 : Le 06/03/2022 LA BRESSE Liste de départs (/index.php?option=com_conten
 t&amp;view=article&amp;id=7680&amp;Itemid=6289) Cet évènement a été importé
  depuis :https://skivosges.net/agenda/a-venir/detailevenement/1893/-/cmm-es
 prit-racing?tmpl=component
X-ALT-DESC;FMTTYPE=text/html:<!-- #gskiepreuve code généré par le plugin jevents pour GskiEpreuves. Ne p
 as modifier cette ligne, ni tout le contenu suivant  #gskiepreuve --><div c
 lass="gski-evenement_infos"><div class="gski-evenement-nom">CMM  Esprit Rac
 ing</div><div class="gski-evenement-report"> <font class="gskiattention">(R
 eport de l'épreuve initialement prévue le 05/03/2022)</font></div><ul class
 ="gski-evenement-liste-infos"><li>Codex évenement AMVT0560</li><li>Lieu : L
 A BRESSE HOHNECK</li><li>Station : LA BRESSE</li><li>Piste : GABY CURIEN</l
 i><li>Organisateur : 14024 LA BRESSAUDE SECTION SKI</li><li>Courriel : <!--
  Cette adresse électronique est protégée contre les robots spammeurs. --><s
 pan class="cloaked_email ep_b7971978"><span data-ep-b="f&#114;" data-ep-a="
 &#111;d&#105;&#108;e"><span data-ep-a="&#46;&#109;&#117;&#110;s" data-ep-b=
 "a&#110;&#103;e&#46;"><span data-ep-b="l&#98;&#64;&#111;r" data-ep-a="&#99;
 &#104;&#46;&#115;&#99;"></span></span></span></span><script>RegularLabs.Ema
 ilProtector.unCloak("ep_b7971978");</script></li><li>Téléphone : 0608855252
 </li><li><span class="gski-evenement-obs">Délégué Technique : NOEL JEAN CHR
 ISTOPHE</span></li></ul><div class="gski-evenement-infos-2"><div class="gsk
 i-evenement-info-inscriptions"><div class="gski-evenement-inscriptions-peri
 odes">Période d'inscription à l'evènement du dimanche 27 février 2022 à 00:
 00 au vendredi 04 mars 2022 à 17:00<div class="gski-evenement-inscriptions-
 types-titres">Inscriptions ouvertes aux detenteurs des titres Fédéraux vali
 des suivants : Licenciés Compétiteurs</div></div></div><div class="gskiepre
 uves-links"><ul><li><a href="https://skivosges.net/index.php?option=com_jev
 ents&task=icalevent.detail&evid=1888&Itemid=6289">Voir les informations dan
 s l'agenda...</a></li><li><a href="https://skivosges.net/index.php?option=c
 om_gskiepreuves&view=afficheresultats&format_option=tous&filter[search]=AMV
 T0560&filter[date_debut]=06-03-2022&filter[date_fin]=06-03-2022&code_activi
 te=ALP&Itemid=6289">Vers les résultats...</a></li><li>Publications concerna
 nt cet évènement :<ul><li><a href="https://skivosges.net/index.php?option=c
 om_content&view=article&id=7680&Itemid=6289">Vendredi 4 Mars 2022 à 22:07 :
  Le 06/03/2022 LA BRESSE Liste de départs</a></li></ul></li></ul></div><div
  class="gski-evenement-epreuves"><div class="gski-evenement-epreuves-titres
 ">Epreuves :</div><ul class="gski-evenement-epreuves-list"><li><div class="
 gski-epreuve-date">Le dimanche 06 mars 2022</div><ul class="gski-epreuve-li
 ste-infos"><li>Codex épreuve AMVM0561</li><li>Slalom Geant</li><li>Catégori
 e(s) : Toutes les categories Masters (ABC) (Hommes)</li></ul></li><li><div 
 class="gski-epreuve-date">Le dimanche 06 mars 2022</div><ul class="gski-epr
 euve-liste-infos"><li>Codex épreuve AMVF0561</li><li>Slalom Geant</li><li>C
 atégorie(s) : Toutes les categories Masters (ABC) (Dames)</li></ul></li></u
 l></div><div class="gskiepreuves-links"><ul><li><a href="https://skivosges.
 net/index.php?option=com_jevents&task=icalevent.detail&evid=1888&Itemid=628
 9">Voir les informations dans l'agenda...</a></li><li><a href="https://skiv
 osges.net/index.php?option=com_gskiepreuves&view=afficheresultats&format_op
 tion=tous&filter[search]=AMVT0560&filter[date_debut]=06-03-2022&filter[date
 _fin]=06-03-2022&code_activite=ALP&Itemid=6289">Vers les résultats...</a></
 li><li>Publications concernant cet évènement :<ul><li><a href="https://skiv
 osges.net/index.php?option=com_content&view=article&id=7680&Itemid=6289">Ve
 ndredi 4 Mars 2022 à 22:07 : Le 06/03/2022 LA BRESSE Liste de départs</a></
 li></ul></li></ul></div></div"><!-- #/gskiepreuve fin du dode généré par le
  plugin jevents pour GskiEpreuves. . Ne pas modifier cette ligne, ni tout l
 e contenu précedant.  #/gskiepreuve --> <a href="https://skivosges.net/agen
 da/a-venir/detailevenement/1893/-/cmm-esprit-racing?tmpl=component">Cet évè
 nement a été importé depuis :https://skivosges.net/agenda/a-venir/detaileve
 nement/1893/-/cmm-esprit-racing?tmpl=component</a>DTSTAMP:20260421T015554
DTSTART;TZID=Europe/Paris;VALUE=DATE:20220306
DTEND;TZID=Europe/Paris;VALUE=DATE:20220307
SEQUENCE:0
TRANSP:OPAQUE
END:VEVENT
END:VCALENDAR