BEGIN:VCALENDAR
VERSION:2.0
PRODID:-//jEvents 2.0 for Joomla//EN
CALSCALE:GREGORIAN
METHOD:PUBLISH
BEGIN:VTIMEZONE
TZID:Europe/Paris
BEGIN:STANDARD
DTSTART:20211031T020000
RDATE:20220327T030000
TZOFFSETFROM:+0200
TZOFFSETTO:+0100
TZNAME:Europe/Paris CET
END:STANDARD
BEGIN:STANDARD
DTSTART:20221030T020000
RDATE:20230326T030000
TZOFFSETFROM:+0200
TZOFFSETTO:+0100
TZNAME:Europe/Paris CET
END:STANDARD
BEGIN:STANDARD
DTSTART:20231029T020000
RDATE:20240331T030000
TZOFFSETFROM:+0200
TZOFFSETTO:+0100
TZNAME:Europe/Paris CET
END:STANDARD
BEGIN:STANDARD
DTSTART:20241027T020000
RDATE:20250330T030000
TZOFFSETFROM:+0200
TZOFFSETTO:+0100
TZNAME:Europe/Paris CET
END:STANDARD
BEGIN:STANDARD
DTSTART:20251026T020000
RDATE:20260329T030000
TZOFFSETFROM:+0200
TZOFFSETTO:+0100
TZNAME:Europe/Paris CET
END:STANDARD
BEGIN:STANDARD
DTSTART:20261025T020000
RDATE:20270328T030000
TZOFFSETFROM:+0200
TZOFFSETTO:+0100
TZNAME:Europe/Paris CET
END:STANDARD
BEGIN:DAYLIGHT
DTSTART:20210818T000000
RDATE:20211031T020000
TZOFFSETFROM:+0100
TZOFFSETTO:+0200
TZNAME:Europe/Paris CEST
END:DAYLIGHT
BEGIN:DAYLIGHT
DTSTART:20220327T030000
RDATE:20221030T020000
TZOFFSETFROM:+0100
TZOFFSETTO:+0200
TZNAME:Europe/Paris CEST
END:DAYLIGHT
BEGIN:DAYLIGHT
DTSTART:20230326T030000
RDATE:20231029T020000
TZOFFSETFROM:+0100
TZOFFSETTO:+0200
TZNAME:Europe/Paris CEST
END:DAYLIGHT
BEGIN:DAYLIGHT
DTSTART:20240331T030000
RDATE:20241027T020000
TZOFFSETFROM:+0100
TZOFFSETTO:+0200
TZNAME:Europe/Paris CEST
END:DAYLIGHT
BEGIN:DAYLIGHT
DTSTART:20250330T030000
RDATE:20251026T020000
TZOFFSETFROM:+0100
TZOFFSETTO:+0200
TZNAME:Europe/Paris CEST
END:DAYLIGHT
BEGIN:DAYLIGHT
DTSTART:20260329T030000
RDATE:20261025T020000
TZOFFSETFROM:+0100
TZOFFSETTO:+0200
TZNAME:Europe/Paris CEST
END:DAYLIGHT
END:VTIMEZONE
BEGIN:VEVENT
UID:c0fea71b240e9b9857403f1799b249bf
CATEGORIES:Combiné Nordique
CREATED:20220624T190003
SUMMARY:annulé SAMSE summer tour
URL;VALUE=URI:https://skivosges.net/agenda/a-venir/detailevenement/1906/-/annule-samse-su
 mmer-tour?tmpl=component
DESCRIPTION:<!-- #gskiepreuve code généré par le plugin jevents pour GskiEpreuves. Ne p
 as modifier cette ligne, ni tout le contenu suivant  #gskiepreuve --><div c
 lass="gski-evenement_infos"><div class="gski-evenement-nom">annulé SAMSE su
 mmer tour</div><div class="gski-evenement-report"></div><ul class="gski-eve
 nement-liste-infos"><li>Codex évenement CNAT0160</li><li>Station : GERARDME
 R</li><li>Organisateur : 14469 A.S GERARDMER SKI NORDIQUE</li><li>Courriel 
 : <!-- Cette adresse électronique est protégée contre les robots spammeurs.
  --><span class="cloaked_email ep_a454ea59"><span data-ep-a="&#114;&#101;gi
 " data-ep-b=".&#102;r"><span data-ep-a="s&#46;&#97;&#110;" data-ep-b="ado&#
 111;"><span data-ep-b="&#64;&#119;&#97;&#110;" data-ep-a="&#100;&#114;&#101
 ;&#54;"></span></span></span></span><script>RegularLabs.EmailProtector.unCl
 oak("ep_a454ea59");</script></li><li>Téléphone : 0329632950</li><li>Télécop
 ie : 0329634711</li><li><span class="gski-evenement-obs">Délégué Technique 
 : TRACHSEL WILLIAM</span></li></ul><div class="gski-evenement-infos-2"><div
  class="gski-evenement-info-inscriptions"><div class="gski-evenement-inscri
 ptions-periodes">Période d'inscription à l'evènement du vendredi 12 août 20
 22 à 00:00 au mercredi 17 août 2022 à 12:00<div class="gski-evenement-inscr
 iptions-types-titres">Inscriptions ouvertes aux detenteurs des titres Fédér
 aux valides suivants : Licenciés Compétiteurs</div></div></div><div class="
 gskiepreuves-links"><ul><li><a href="/index.php?option=com_jevents&task=ica
 levent.detail&evid=1901&Itemid=6289">Voir les informations dans l'agenda...
 </a></li></ul></div><div class="gski-evenement-epreuves"><div class="gski-e
 venement-epreuves-titres">Epreuves :</div><ul class="gski-evenement-epreuve
 s-list"><li><div class="gski-epreuve-date">Le vendredi 19 août 2022</div><u
 l class="gski-epreuve-liste-infos"><li>Codex épreuve CNAM0161</li><li>Combi
 ne Nordique (Saut-FS)</li><li>Catégorie(s) : U7 a U17 (Garçons)</li></ul></
 li><li><div class="gski-epreuve-date">Le vendredi 19 août 2022</div><ul cla
 ss="gski-epreuve-liste-infos"><li>Codex épreuve CNAF0161</li><li>Combine No
 rdique (Saut-FS)</li><li>Catégorie(s) : Toutes les Categories (Filles)</li>
 </ul></li><li><div class="gski-epreuve-date">Le vendredi 19 août 2022</div>
 <ul class="gski-epreuve-liste-infos"><li>Codex épreuve CNAM0162</li><li>Com
 bine Nordique (Saut-FS)</li><li>Catégorie(s) : Toutes les Categories (Garço
 ns)</li></ul></li></ul></div><div class="gskiepreuves-links"><ul><li><a hre
 f="/index.php?option=com_jevents&task=icalevent.detail&evid=1901&Itemid=628
 9">Voir les informations dans l'agenda...</a></li></ul></div></div"><!-- #/
 gskiepreuve fin du dode généré par le plugin jevents pour GskiEpreuves. . N
 e pas modifier cette ligne, ni tout le contenu précedant.  #/gskiepreuve --
 > <a href="https://skivosges.net/agenda/a-venir/detailevenement/1906/-/annu
 le-samse-summer-tour?tmpl=component">Cet évènement a été importé depuis :ht
 tps://skivosges.net/agenda/a-venir/detailevenement/1906/-/annule-samse-summ
 er-tour?tmpl=component</a>
X-ALT-DESC;FMTTYPE=text/html:<!-- #gskiepreuve code généré par le plugin jevents pour GskiEpreuves. Ne p
 as modifier cette ligne, ni tout le contenu suivant  #gskiepreuve --><div c
 lass="gski-evenement_infos"><div class="gski-evenement-nom">annulé SAMSE su
 mmer tour</div><div class="gski-evenement-report"></div><ul class="gski-eve
 nement-liste-infos"><li>Codex évenement CNAT0160</li><li>Station : GERARDME
 R</li><li>Organisateur : 14469 A.S GERARDMER SKI NORDIQUE</li><li>Courriel 
 : <!-- Cette adresse électronique est protégée contre les robots spammeurs.
  --><span class="cloaked_email ep_a454ea59"><span data-ep-a="&#114;&#101;gi
 " data-ep-b=".&#102;r"><span data-ep-a="s&#46;&#97;&#110;" data-ep-b="ado&#
 111;"><span data-ep-b="&#64;&#119;&#97;&#110;" data-ep-a="&#100;&#114;&#101
 ;&#54;"></span></span></span></span><script>RegularLabs.EmailProtector.unCl
 oak("ep_a454ea59");</script></li><li>Téléphone : 0329632950</li><li>Télécop
 ie : 0329634711</li><li><span class="gski-evenement-obs">Délégué Technique 
 : TRACHSEL WILLIAM</span></li></ul><div class="gski-evenement-infos-2"><div
  class="gski-evenement-info-inscriptions"><div class="gski-evenement-inscri
 ptions-periodes">Période d'inscription à l'evènement du vendredi 12 août 20
 22 à 00:00 au mercredi 17 août 2022 à 12:00<div class="gski-evenement-inscr
 iptions-types-titres">Inscriptions ouvertes aux detenteurs des titres Fédér
 aux valides suivants : Licenciés Compétiteurs</div></div></div><div class="
 gskiepreuves-links"><ul><li><a href="https://skivosges.net/index.php?option
 =com_jevents&task=icalevent.detail&evid=1901&Itemid=6289">Voir les informat
 ions dans l'agenda...</a></li></ul></div><div class="gski-evenement-epreuve
 s"><div class="gski-evenement-epreuves-titres">Epreuves :</div><ul class="g
 ski-evenement-epreuves-list"><li><div class="gski-epreuve-date">Le vendredi
  19 août 2022</div><ul class="gski-epreuve-liste-infos"><li>Codex épreuve C
 NAM0161</li><li>Combine Nordique (Saut-FS)</li><li>Catégorie(s) : U7 a U17 
 (Garçons)</li></ul></li><li><div class="gski-epreuve-date">Le vendredi 19 a
 oût 2022</div><ul class="gski-epreuve-liste-infos"><li>Codex épreuve CNAF01
 61</li><li>Combine Nordique (Saut-FS)</li><li>Catégorie(s) : Toutes les Cat
 egories (Filles)</li></ul></li><li><div class="gski-epreuve-date">Le vendre
 di 19 août 2022</div><ul class="gski-epreuve-liste-infos"><li>Codex épreuve
  CNAM0162</li><li>Combine Nordique (Saut-FS)</li><li>Catégorie(s) : Toutes 
 les Categories (Garçons)</li></ul></li></ul></div><div class="gskiepreuves-
 links"><ul><li><a href="https://skivosges.net/index.php?option=com_jevents&
 task=icalevent.detail&evid=1901&Itemid=6289">Voir les informations dans l'a
 genda...</a></li></ul></div></div"><!-- #/gskiepreuve fin du dode généré pa
 r le plugin jevents pour GskiEpreuves. . Ne pas modifier cette ligne, ni to
 ut le contenu précedant.  #/gskiepreuve --> <a href="https://skivosges.net/
 agenda/a-venir/detailevenement/1906/-/annule-samse-summer-tour?tmpl=compone
 nt">Cet évènement a été importé depuis :https://skivosges.net/agenda/a-veni
 r/detailevenement/1906/-/annule-samse-summer-tour?tmpl=component</a>DTSTAMP:20260424T012653
DTSTART;TZID=Europe/Paris;VALUE=DATE:20220819
DTEND;TZID=Europe/Paris;VALUE=DATE:20220821
SEQUENCE:0
TRANSP:OPAQUE
END:VEVENT
END:VCALENDAR