BEGIN:VCALENDAR
VERSION:2.0
PRODID:-//jEvents 2.0 for Joomla//EN
CALSCALE:GREGORIAN
METHOD:PUBLISH
BEGIN:VTIMEZONE
TZID:Europe/Paris
BEGIN:STANDARD
DTSTART:20211031T020000
RDATE:20220327T030000
TZOFFSETFROM:+0200
TZOFFSETTO:+0100
TZNAME:Europe/Paris CET
END:STANDARD
BEGIN:STANDARD
DTSTART:20221030T020000
RDATE:20230326T030000
TZOFFSETFROM:+0200
TZOFFSETTO:+0100
TZNAME:Europe/Paris CET
END:STANDARD
BEGIN:STANDARD
DTSTART:20231029T020000
RDATE:20240331T030000
TZOFFSETFROM:+0200
TZOFFSETTO:+0100
TZNAME:Europe/Paris CET
END:STANDARD
BEGIN:STANDARD
DTSTART:20241027T020000
RDATE:20250330T030000
TZOFFSETFROM:+0200
TZOFFSETTO:+0100
TZNAME:Europe/Paris CET
END:STANDARD
BEGIN:STANDARD
DTSTART:20251026T020000
RDATE:20260329T030000
TZOFFSETFROM:+0200
TZOFFSETTO:+0100
TZNAME:Europe/Paris CET
END:STANDARD
BEGIN:STANDARD
DTSTART:20261025T020000
RDATE:20270328T030000
TZOFFSETFROM:+0200
TZOFFSETTO:+0100
TZNAME:Europe/Paris CET
END:STANDARD
BEGIN:DAYLIGHT
DTSTART:20211007T000000
RDATE:20211031T020000
TZOFFSETFROM:+0100
TZOFFSETTO:+0200
TZNAME:Europe/Paris CEST
END:DAYLIGHT
BEGIN:DAYLIGHT
DTSTART:20220327T030000
RDATE:20221030T020000
TZOFFSETFROM:+0100
TZOFFSETTO:+0200
TZNAME:Europe/Paris CEST
END:DAYLIGHT
BEGIN:DAYLIGHT
DTSTART:20230326T030000
RDATE:20231029T020000
TZOFFSETFROM:+0100
TZOFFSETTO:+0200
TZNAME:Europe/Paris CEST
END:DAYLIGHT
BEGIN:DAYLIGHT
DTSTART:20240331T030000
RDATE:20241027T020000
TZOFFSETFROM:+0100
TZOFFSETTO:+0200
TZNAME:Europe/Paris CEST
END:DAYLIGHT
BEGIN:DAYLIGHT
DTSTART:20250330T030000
RDATE:20251026T020000
TZOFFSETFROM:+0100
TZOFFSETTO:+0200
TZNAME:Europe/Paris CEST
END:DAYLIGHT
BEGIN:DAYLIGHT
DTSTART:20260329T030000
RDATE:20261025T020000
TZOFFSETFROM:+0100
TZOFFSETTO:+0200
TZNAME:Europe/Paris CEST
END:DAYLIGHT
END:VTIMEZONE
BEGIN:VEVENT
UID:8fa3f912ef169de0ee5e7583ba48b328
CATEGORIES:Compétition Saut
CREATED:20220708T190003
SUMMARY:OPA GAMES
URL;VALUE=URI:https://skivosges.net/agenda/a-venir/detailevenement/1909/-/opa-games?tmpl=
 component
DESCRIPTION:OPA GAMES\n - Codex évenement FRA3216\n - Station : GERARDMER\n - Organisat
 eur : 14469 A.S GERARDMER SKI NORDIQUE\n - Courriel : RegularLabs.EmailProt
 ector.unCloak("ep_a7418743");Période d'inscription à l'evènement du samedi 
 01 octobre 2022 à 00:00 au jeudi 06 octobre 2022 à 12:00Inscriptions ouvert
 es aux detenteurs des titres Fédéraux valides suivants : Licenciés Compétit
 eurs\n - Voir les informations dans l'agenda... (/index.php?option=com_jeve
 nts&amp;task=icalevent.detail&amp;evid=1904&amp;Itemid=6289)Epreuves :\n - 
 Le samedi 08 octobre 2022\n - Codex épreuve 3217\n - (S)\n - Le samedi 08 o
 ctobre 2022\n - Codex épreuve 3216\n - (S)\n - Le dimanche 09 octobre 2022\
 n - Codex épreuve 3219\n - (S)\n - Le dimanche 09 octobre 2022\n - Codex ép
 reuve 3218\n - (S)\n - Voir les informations dans l'agenda... (/index.php?o
 ption=com_jevents&amp;task=icalevent.detail&amp;evid=1904&amp;Itemid=6289) 
 Cet évènement a été importé depuis :https://skivosges.net/agenda/a-venir/de
 tailevenement/1909/-/opa-games?tmpl=component
X-ALT-DESC;FMTTYPE=text/html:<!-- #gskiepreuve code généré par le plugin jevents pour GskiEpreuves. Ne p
 as modifier cette ligne, ni tout le contenu suivant  #gskiepreuve --><div c
 lass="gski-evenement_infos"><div class="gski-evenement-nom">OPA GAMES</div>
 <div class="gski-evenement-report"></div><ul class="gski-evenement-liste-in
 fos"><li>Codex évenement FRA3216</li><li>Station : GERARDMER</li><li>Organi
 sateur : 14469 A.S GERARDMER SKI NORDIQUE</li><li>Courriel : <!-- Cette adr
 esse électronique est protégée contre les robots spammeurs. --><span class=
 "cloaked_email ep_a7418743"><span data-ep-a="&#114;&#117;er" data-ep-b=""><
 span data-ep-b="c&#111;&#109;" data-ep-a="se&#98;&#64;"><span data-ep-b="&#
 97;&#105;l&#46;" data-ep-a="&#104;&#111;&#116;&#109;"></span></span></span>
 </span><script>RegularLabs.EmailProtector.unCloak("ep_a7418743");</script><
 /li></ul><div class="gski-evenement-infos-2"><div class="gski-evenement-inf
 o-inscriptions"><div class="gski-evenement-inscriptions-periodes">Période d
 'inscription à l'evènement du samedi 01 octobre 2022 à 00:00 au jeudi 06 oc
 tobre 2022 à 12:00<div class="gski-evenement-inscriptions-types-titres">Ins
 criptions ouvertes aux detenteurs des titres Fédéraux valides suivants : Li
 cenciés Compétiteurs</div></div></div><div class="gskiepreuves-links"><ul><
 li><a href="https://skivosges.net/index.php?option=com_jevents&task=icaleve
 nt.detail&evid=1904&Itemid=6289">Voir les informations dans l'agenda...</a>
 </li></ul></div><div class="gski-evenement-epreuves"><div class="gski-evene
 ment-epreuves-titres">Epreuves :</div><ul class="gski-evenement-epreuves-li
 st"><li><div class="gski-epreuve-date">Le samedi 08 octobre 2022</div><ul c
 lass="gski-epreuve-liste-infos"><li>Codex épreuve 3217</li><li>(S)</li></ul
 ></li><li><div class="gski-epreuve-date">Le samedi 08 octobre 2022</div><ul
  class="gski-epreuve-liste-infos"><li>Codex épreuve 3216</li><li>(S)</li></
 ul></li><li><div class="gski-epreuve-date">Le dimanche 09 octobre 2022</div
 ><ul class="gski-epreuve-liste-infos"><li>Codex épreuve 3219</li><li>(S)</l
 i></ul></li><li><div class="gski-epreuve-date">Le dimanche 09 octobre 2022<
 /div><ul class="gski-epreuve-liste-infos"><li>Codex épreuve 3218</li><li>(S
 )</li></ul></li></ul></div><div class="gskiepreuves-links"><ul><li><a href=
 "https://skivosges.net/index.php?option=com_jevents&task=icalevent.detail&e
 vid=1904&Itemid=6289">Voir les informations dans l'agenda...</a></li></ul><
 /div></div"><!-- #/gskiepreuve fin du dode généré par le plugin jevents pou
 r GskiEpreuves. . Ne pas modifier cette ligne, ni tout le contenu précedant
 .  #/gskiepreuve --> <a href="https://skivosges.net/agenda/a-venir/detailev
 enement/1909/-/opa-games?tmpl=component">Cet évènement a été importé depuis
  :https://skivosges.net/agenda/a-venir/detailevenement/1909/-/opa-games?tmp
 l=component</a>DTSTAMP:20260424T030404
DTSTART;TZID=Europe/Paris;VALUE=DATE:20221008
DTEND;TZID=Europe/Paris;VALUE=DATE:20221010
SEQUENCE:0
TRANSP:OPAQUE
END:VEVENT
END:VCALENDAR