BEGIN:VCALENDAR
VERSION:2.0
PRODID:-//jEvents 2.0 for Joomla//EN
CALSCALE:GREGORIAN
METHOD:PUBLISH
BEGIN:VTIMEZONE
TZID:Europe/Paris
BEGIN:STANDARD
DTSTART:20211031T020000
RDATE:20220327T030000
TZOFFSETFROM:+0200
TZOFFSETTO:+0100
TZNAME:Europe/Paris CET
END:STANDARD
BEGIN:STANDARD
DTSTART:20221030T020000
RDATE:20230326T030000
TZOFFSETFROM:+0200
TZOFFSETTO:+0100
TZNAME:Europe/Paris CET
END:STANDARD
BEGIN:STANDARD
DTSTART:20231029T020000
RDATE:20240331T030000
TZOFFSETFROM:+0200
TZOFFSETTO:+0100
TZNAME:Europe/Paris CET
END:STANDARD
BEGIN:STANDARD
DTSTART:20241027T020000
RDATE:20250330T030000
TZOFFSETFROM:+0200
TZOFFSETTO:+0100
TZNAME:Europe/Paris CET
END:STANDARD
BEGIN:STANDARD
DTSTART:20251026T020000
RDATE:20260329T030000
TZOFFSETFROM:+0200
TZOFFSETTO:+0100
TZNAME:Europe/Paris CET
END:STANDARD
BEGIN:STANDARD
DTSTART:20261025T020000
RDATE:20270328T030000
TZOFFSETFROM:+0200
TZOFFSETTO:+0100
TZNAME:Europe/Paris CET
END:STANDARD
BEGIN:DAYLIGHT
DTSTART:20211008T000000
RDATE:20211031T020000
TZOFFSETFROM:+0100
TZOFFSETTO:+0200
TZNAME:Europe/Paris CEST
END:DAYLIGHT
BEGIN:DAYLIGHT
DTSTART:20220327T030000
RDATE:20221030T020000
TZOFFSETFROM:+0100
TZOFFSETTO:+0200
TZNAME:Europe/Paris CEST
END:DAYLIGHT
BEGIN:DAYLIGHT
DTSTART:20230326T030000
RDATE:20231029T020000
TZOFFSETFROM:+0100
TZOFFSETTO:+0200
TZNAME:Europe/Paris CEST
END:DAYLIGHT
BEGIN:DAYLIGHT
DTSTART:20240331T030000
RDATE:20241027T020000
TZOFFSETFROM:+0100
TZOFFSETTO:+0200
TZNAME:Europe/Paris CEST
END:DAYLIGHT
BEGIN:DAYLIGHT
DTSTART:20250330T030000
RDATE:20251026T020000
TZOFFSETFROM:+0100
TZOFFSETTO:+0200
TZNAME:Europe/Paris CEST
END:DAYLIGHT
BEGIN:DAYLIGHT
DTSTART:20260329T030000
RDATE:20261025T020000
TZOFFSETFROM:+0100
TZOFFSETTO:+0200
TZNAME:Europe/Paris CEST
END:DAYLIGHT
END:VTIMEZONE
BEGIN:VEVENT
UID:cdcc1b71d21b9c171721cdd3365b7d20
CATEGORIES:Compétition Biathlon
CREATED:20220729T190004
SUMMARY:Challenge Crédit Mutuel/TGL/Salomon 10m et 50m + course open U15 10m
URL;VALUE=URI:https://skivosges.net/agenda/a-venir/detailevenement/1913/-/challenge-credi
 t-mutuel-tgl-salomon-10m-et-50m-course-open-u15-10m?tmpl=component
DESCRIPTION:<!-- #gskiepreuve code généré par le plugin jevents pour GskiEpreuves. Ne p
 as modifier cette ligne, ni tout le contenu suivant  #gskiepreuve --><div c
 lass="gski-evenement_infos"><div class="gski-evenement-nom">Challenge Crédi
 t Mutuel/TGL/Salomon 10m et 50m + course open U15 10m</div><div class="gski
 -evenement-report"></div><ul class="gski-evenement-liste-infos"><li>Codex é
 venement BMVT0100</li><li>Station : CHAMP DU FEU</li><li>Organisateur : 144
 48 MOLSHEIM SKI NORDIQUE</li><li>Courriel : <!-- Cette adresse électronique
  est protégée contre les robots spammeurs. --><span class="cloaked_email ep
 _a4e8c3d8"><span data-ep-b="&#109;" data-ep-a="&#109;o&#108;s&#104;e"><span
  data-ep-a="&#105;&#109;.&#115;&#107;&#105;" data-ep-b="&#97;i&#108;&#46;&#
 99;&#111;"><span data-ep-a="&#46;&#110;&#111;&#114;&#100;&#105;" data-ep-b=
 "&#113;u&#101;&#64;g&#109;"></span></span></span></span><script>RegularLabs
 .EmailProtector.unCloak("ep_a4e8c3d8");</script></li><li>Téléphone : 06 73 
 43 64 09</li><li><span class="gski-evenement-obs">Délégué Technique : HABRA
 N THIERRY</span></li></ul><div class="gski-evenement-infos-2"><div class="g
 ski-evenement-info-inscriptions"><div class="gski-evenement-inscriptions-pe
 riodes">Période d'inscription à l'evènement du dimanche 02 octobre 2022 à 1
 2:00 au vendredi 07 octobre 2022 à 12:00<div class="gski-evenement-inscript
 ions-types-titres">Inscriptions ouvertes aux detenteurs des titres Fédéraux
  valides suivants : Licenciés Compétiteurs et Titres Loisirs et Dirigeants<
 /div></div></div><div class="gskiepreuves-links"><ul><li><a href="/index.ph
 p?option=com_jevents&task=icalevent.detail&evid=1908&Itemid=6289">Voir les 
 informations dans l'agenda...</a></li><li><a href="/index.php?option=com_gs
 kiepreuves&view=afficheresultats&format_option=tous&filter[search]=BMVT0100
 &filter[date_debut]=09-10-2022&filter[date_fin]=09-10-2022&code_activite=BI
 ATH&Itemid=6289">Vers les résultats...</a></li></ul></div><div class="gski-
 evenement-epreuves"><div class="gski-evenement-epreuves-titres">Epreuves :<
 /div><ul class="gski-evenement-epreuves-list"><li><div class="gski-epreuve-
 date">Le dimanche 09 octobre 2022</div><ul class="gski-epreuve-liste-infos"
 ><li>Codex épreuve BMVF0101</li><li>Individuel</li><li>Catégorie(s) : U11 (
 Filles)</li></ul></li><li><div class="gski-epreuve-date">Le dimanche 09 oct
 obre 2022</div><ul class="gski-epreuve-liste-infos"><li>Codex épreuve BMVM0
 101</li><li>Individuel</li><li>Catégorie(s) : U11 (Garçons)</li></ul></li><
 li><div class="gski-epreuve-date">Le dimanche 09 octobre 2022</div><ul clas
 s="gski-epreuve-liste-infos"><li>Codex épreuve BMVF0102</li><li>Individuel<
 /li><li>Catégorie(s) : U13 (Filles)</li></ul></li><li><div class="gski-epre
 uve-date">Le dimanche 09 octobre 2022</div><ul class="gski-epreuve-liste-in
 fos"><li>Codex épreuve BMVM0102</li><li>Individuel</li><li>Catégorie(s) : U
 13 (Garçons)</li></ul></li><li><div class="gski-epreuve-date">Le dimanche 0
 9 octobre 2022</div><ul class="gski-epreuve-liste-infos"><li>Codex épreuve 
 BMVF0103</li><li>Mass start</li><li>Catégorie(s) : U15 (Filles)</li></ul></
 li><li><div class="gski-epreuve-date">Le dimanche 09 octobre 2022</div><ul 
 class="gski-epreuve-liste-infos"><li>Codex épreuve BMVM0103</li><li>Mass st
 art</li><li>Catégorie(s) : U15 (Garçons)</li></ul></li><li><div class="gski
 -epreuve-date">Le dimanche 09 octobre 2022</div><ul class="gski-epreuve-lis
 te-infos"><li>Codex épreuve BMVF0104</li><li>Mass start</li><li>Catégorie(s
 ) : U17 (Filles)</li></ul></li><li><div class="gski-epreuve-date">Le dimanc
 he 09 octobre 2022</div><ul class="gski-epreuve-liste-infos"><li>Codex épre
 uve BMVM0104</li><li>Mass start</li><li>Catégorie(s) : U17 (Garçons)</li></
 ul></li><li><div class="gski-epreuve-date">Le dimanche 09 octobre 2022</div
 ><ul class="gski-epreuve-liste-infos"><li>Codex épreuve BMVF0105</li><li>Ma
 ss start</li><li>Catégorie(s) : U19 a SEN (Dames)</li></ul></li><li><div cl
 ass="gski-epreuve-date">Le dimanche 09 octobre 2022</div><ul class="gski-ep
 reuve-liste-infos"><li>Codex épreuve BMVM0105</li><li>Mass start</li><li>Ca
 tégorie(s) : U19 a SEN (Hommes)</li></ul></li></ul></div><div class="gskiep
 reuves-links"><ul><li><a href="/index.php?option=com_jevents&task=icalevent
 .detail&evid=1908&Itemid=6289">Voir les informations dans l'agenda...</a></
 li><li><a href="/index.php?option=com_gskiepreuves&view=afficheresultats&fo
 rmat_option=tous&filter[search]=BMVT0100&filter[date_debut]=09-10-2022&filt
 er[date_fin]=09-10-2022&code_activite=BIATH&Itemid=6289">Vers les résultats
 ...</a></li></ul></div></div"><!-- #/gskiepreuve fin du dode généré par le 
 plugin jevents pour GskiEpreuves. . Ne pas modifier cette ligne, ni tout le
  contenu précedant.  #/gskiepreuve --> <a href="https://skivosges.net/agend
 a/a-venir/detailevenement/1913/-/challenge-credit-mutuel-tgl-salomon-10m-et
 -50m-course-open-u15-10m?tmpl=component">Cet évènement a été importé depuis
  :https://skivosges.net/agenda/a-venir/detailevenement/1913/-/challenge-cre
 dit-mutuel-tgl-salomon-10m-et-50m-course-open-u15-10m?tmpl=component</a>
X-ALT-DESC;FMTTYPE=text/html:<!-- #gskiepreuve code généré par le plugin jevents pour GskiEpreuves. Ne p
 as modifier cette ligne, ni tout le contenu suivant  #gskiepreuve --><div c
 lass="gski-evenement_infos"><div class="gski-evenement-nom">Challenge Crédi
 t Mutuel/TGL/Salomon 10m et 50m + course open U15 10m</div><div class="gski
 -evenement-report"></div><ul class="gski-evenement-liste-infos"><li>Codex é
 venement BMVT0100</li><li>Station : CHAMP DU FEU</li><li>Organisateur : 144
 48 MOLSHEIM SKI NORDIQUE</li><li>Courriel : <!-- Cette adresse électronique
  est protégée contre les robots spammeurs. --><span class="cloaked_email ep
 _a4e8c3d8"><span data-ep-b="&#109;" data-ep-a="&#109;o&#108;s&#104;e"><span
  data-ep-a="&#105;&#109;.&#115;&#107;&#105;" data-ep-b="&#97;i&#108;&#46;&#
 99;&#111;"><span data-ep-a="&#46;&#110;&#111;&#114;&#100;&#105;" data-ep-b=
 "&#113;u&#101;&#64;g&#109;"></span></span></span></span><script>RegularLabs
 .EmailProtector.unCloak("ep_a4e8c3d8");</script></li><li>Téléphone : 06 73 
 43 64 09</li><li><span class="gski-evenement-obs">Délégué Technique : HABRA
 N THIERRY</span></li></ul><div class="gski-evenement-infos-2"><div class="g
 ski-evenement-info-inscriptions"><div class="gski-evenement-inscriptions-pe
 riodes">Période d'inscription à l'evènement du dimanche 02 octobre 2022 à 1
 2:00 au vendredi 07 octobre 2022 à 12:00<div class="gski-evenement-inscript
 ions-types-titres">Inscriptions ouvertes aux detenteurs des titres Fédéraux
  valides suivants : Licenciés Compétiteurs et Titres Loisirs et Dirigeants<
 /div></div></div><div class="gskiepreuves-links"><ul><li><a href="https://s
 kivosges.net/index.php?option=com_jevents&task=icalevent.detail&evid=1908&I
 temid=6289">Voir les informations dans l'agenda...</a></li><li><a href="htt
 ps://skivosges.net/index.php?option=com_gskiepreuves&view=afficheresultats&
 format_option=tous&filter[search]=BMVT0100&filter[date_debut]=09-10-2022&fi
 lter[date_fin]=09-10-2022&code_activite=BIATH&Itemid=6289">Vers les résulta
 ts...</a></li></ul></div><div class="gski-evenement-epreuves"><div class="g
 ski-evenement-epreuves-titres">Epreuves :</div><ul class="gski-evenement-ep
 reuves-list"><li><div class="gski-epreuve-date">Le dimanche 09 octobre 2022
 </div><ul class="gski-epreuve-liste-infos"><li>Codex épreuve BMVF0101</li><
 li>Individuel</li><li>Catégorie(s) : U11 (Filles)</li></ul></li><li><div cl
 ass="gski-epreuve-date">Le dimanche 09 octobre 2022</div><ul class="gski-ep
 reuve-liste-infos"><li>Codex épreuve BMVM0101</li><li>Individuel</li><li>Ca
 tégorie(s) : U11 (Garçons)</li></ul></li><li><div class="gski-epreuve-date"
 >Le dimanche 09 octobre 2022</div><ul class="gski-epreuve-liste-infos"><li>
 Codex épreuve BMVF0102</li><li>Individuel</li><li>Catégorie(s) : U13 (Fille
 s)</li></ul></li><li><div class="gski-epreuve-date">Le dimanche 09 octobre 
 2022</div><ul class="gski-epreuve-liste-infos"><li>Codex épreuve BMVM0102</
 li><li>Individuel</li><li>Catégorie(s) : U13 (Garçons)</li></ul></li><li><d
 iv class="gski-epreuve-date">Le dimanche 09 octobre 2022</div><ul class="gs
 ki-epreuve-liste-infos"><li>Codex épreuve BMVF0103</li><li>Mass start</li><
 li>Catégorie(s) : U15 (Filles)</li></ul></li><li><div class="gski-epreuve-d
 ate">Le dimanche 09 octobre 2022</div><ul class="gski-epreuve-liste-infos">
 <li>Codex épreuve BMVM0103</li><li>Mass start</li><li>Catégorie(s) : U15 (G
 arçons)</li></ul></li><li><div class="gski-epreuve-date">Le dimanche 09 oct
 obre 2022</div><ul class="gski-epreuve-liste-infos"><li>Codex épreuve BMVF0
 104</li><li>Mass start</li><li>Catégorie(s) : U17 (Filles)</li></ul></li><l
 i><div class="gski-epreuve-date">Le dimanche 09 octobre 2022</div><ul class
 ="gski-epreuve-liste-infos"><li>Codex épreuve BMVM0104</li><li>Mass start</
 li><li>Catégorie(s) : U17 (Garçons)</li></ul></li><li><div class="gski-epre
 uve-date">Le dimanche 09 octobre 2022</div><ul class="gski-epreuve-liste-in
 fos"><li>Codex épreuve BMVF0105</li><li>Mass start</li><li>Catégorie(s) : U
 19 a SEN (Dames)</li></ul></li><li><div class="gski-epreuve-date">Le dimanc
 he 09 octobre 2022</div><ul class="gski-epreuve-liste-infos"><li>Codex épre
 uve BMVM0105</li><li>Mass start</li><li>Catégorie(s) : U19 a SEN (Hommes)</
 li></ul></li></ul></div><div class="gskiepreuves-links"><ul><li><a href="ht
 tps://skivosges.net/index.php?option=com_jevents&task=icalevent.detail&evid
 =1908&Itemid=6289">Voir les informations dans l'agenda...</a></li><li><a hr
 ef="https://skivosges.net/index.php?option=com_gskiepreuves&view=afficheres
 ultats&format_option=tous&filter[search]=BMVT0100&filter[date_debut]=09-10-
 2022&filter[date_fin]=09-10-2022&code_activite=BIATH&Itemid=6289">Vers les 
 résultats...</a></li></ul></div></div"><!-- #/gskiepreuve fin du dode génér
 é par le plugin jevents pour GskiEpreuves. . Ne pas modifier cette ligne, n
 i tout le contenu précedant.  #/gskiepreuve --> <a href="https://skivosges.
 net/agenda/a-venir/detailevenement/1913/-/challenge-credit-mutuel-tgl-salom
 on-10m-et-50m-course-open-u15-10m?tmpl=component">Cet évènement a été impor
 té depuis :https://skivosges.net/agenda/a-venir/detailevenement/1913/-/chal
 lenge-credit-mutuel-tgl-salomon-10m-et-50m-course-open-u15-10m?tmpl=compone
 nt</a>DTSTAMP:20260424T012652
DTSTART;TZID=Europe/Paris;VALUE=DATE:20221009
DTEND;TZID=Europe/Paris;VALUE=DATE:20221010
SEQUENCE:0
TRANSP:OPAQUE
END:VEVENT
END:VCALENDAR