BEGIN:VCALENDAR
VERSION:2.0
PRODID:-//jEvents 2.0 for Joomla//EN
CALSCALE:GREGORIAN
METHOD:PUBLISH
BEGIN:VTIMEZONE
TZID:Europe/Paris
BEGIN:STANDARD
DTSTART:20211031T020000
RDATE:20220327T030000
TZOFFSETFROM:+0200
TZOFFSETTO:+0100
TZNAME:Europe/Paris CET
END:STANDARD
BEGIN:STANDARD
DTSTART:20221030T020000
RDATE:20230326T030000
TZOFFSETFROM:+0200
TZOFFSETTO:+0100
TZNAME:Europe/Paris CET
END:STANDARD
BEGIN:STANDARD
DTSTART:20231029T020000
RDATE:20240331T030000
TZOFFSETFROM:+0200
TZOFFSETTO:+0100
TZNAME:Europe/Paris CET
END:STANDARD
BEGIN:STANDARD
DTSTART:20241027T020000
RDATE:20250330T030000
TZOFFSETFROM:+0200
TZOFFSETTO:+0100
TZNAME:Europe/Paris CET
END:STANDARD
BEGIN:STANDARD
DTSTART:20251026T020000
RDATE:20260329T030000
TZOFFSETFROM:+0200
TZOFFSETTO:+0100
TZNAME:Europe/Paris CET
END:STANDARD
BEGIN:STANDARD
DTSTART:20261025T020000
RDATE:20270328T030000
TZOFFSETFROM:+0200
TZOFFSETTO:+0100
TZNAME:Europe/Paris CET
END:STANDARD
BEGIN:DAYLIGHT
DTSTART:20210930T000000
RDATE:20211031T020000
TZOFFSETFROM:+0100
TZOFFSETTO:+0200
TZNAME:Europe/Paris CEST
END:DAYLIGHT
BEGIN:DAYLIGHT
DTSTART:20220327T030000
RDATE:20221030T020000
TZOFFSETFROM:+0100
TZOFFSETTO:+0200
TZNAME:Europe/Paris CEST
END:DAYLIGHT
BEGIN:DAYLIGHT
DTSTART:20230326T030000
RDATE:20231029T020000
TZOFFSETFROM:+0100
TZOFFSETTO:+0200
TZNAME:Europe/Paris CEST
END:DAYLIGHT
BEGIN:DAYLIGHT
DTSTART:20240331T030000
RDATE:20241027T020000
TZOFFSETFROM:+0100
TZOFFSETTO:+0200
TZNAME:Europe/Paris CEST
END:DAYLIGHT
BEGIN:DAYLIGHT
DTSTART:20250330T030000
RDATE:20251026T020000
TZOFFSETFROM:+0100
TZOFFSETTO:+0200
TZNAME:Europe/Paris CEST
END:DAYLIGHT
BEGIN:DAYLIGHT
DTSTART:20260329T030000
RDATE:20261025T020000
TZOFFSETFROM:+0100
TZOFFSETTO:+0200
TZNAME:Europe/Paris CEST
END:DAYLIGHT
END:VTIMEZONE
BEGIN:VEVENT
UID:3ec657d78021c80961ae4b57aaa3257e
CATEGORIES:Roller Ski
CREATED:20220826T190003
SUMMARY:ROLLERSKI ROMAIN CLAUDON prologue + poursuite
URL;VALUE=URI:https://skivosges.net/agenda/a-venir/detailevenement/1914/-/rollerski-romai
 n-claudon-prologue-poursuite?tmpl=component
DESCRIPTION:<!-- #gskiepreuve code généré par le plugin jevents pour GskiEpreuves. Ne p
 as modifier cette ligne, ni tout le contenu suivant  #gskiepreuve --><div c
 lass="gski-evenement_infos"><div class="gski-evenement-nom">ROLLERSKI ROMAI
 N CLAUDON prologue + poursuite</div><div class="gski-evenement-report"></di
 v><ul class="gski-evenement-liste-infos"><li>Codex évenement OMVT0010</li><
 li>Lieu : Centre ville</li><li>Station : GERARDMER</li><li>Organisateur : 1
 4469 A.S GERARDMER SKI NORDIQUE</li><li>Courriel : <!-- Cette adresse élect
 ronique est protégée contre les robots spammeurs. --><span class="cloaked_e
 mail ep_9321fe78"><span data-ep-a="&#104;&#101;&#114;&#118;" data-ep-b="&#4
 6;&#102;&#114;"><span data-ep-b="&#97;ng&#101;" data-ep-a="e&#46;p&#111;"><
 span data-ep-a="&#105;&#114;&#111;t" data-ep-b="&#51;&#64;or"></span></span
 ></span></span><script>RegularLabs.EmailProtector.unCloak("ep_9321fe78");</
 script></li><li><span class="gski-evenement-obs">Délégué Technique : CUNY B
 ERNARD</span></li></ul><div class="gski-evenement-infos-2"><div class="gski
 -evenement-info-inscriptions"><div class="gski-evenement-inscriptions-perio
 des">Période d'inscription à l'evènement du samedi 24 septembre 2022 à 00:0
 0 au jeudi 29 septembre 2022 à 20:00<div class="gski-evenement-inscriptions
 -types-titres">Inscriptions ouvertes aux detenteurs des titres Fédéraux val
 ides suivants : Licenciés Compétiteurs</div></div></div><div class="gskiepr
 euves-links"><ul><li><a href="/index.php?option=com_jevents&task=icalevent.
 detail&evid=1909&Itemid=6289">Voir les informations dans l'agenda...</a></l
 i><li>Publications concernant cet évènement :<ul><li><a href="/index.php?op
 tion=com_content&view=article&id=7823&Itemid=6289">Samedi 24 Septembre 2022
  à 22:48 : Le 01/10/2022 GERARDMER Informations</a></li></ul></li></ul></di
 v><div class="gski-evenement-epreuves"><div class="gski-evenement-epreuves-
 titres">Epreuves :</div><ul class="gski-evenement-epreuves-list"><li><div c
 lass="gski-epreuve-date">Le samedi 01 octobre 2022</div><ul class="gski-epr
 euve-liste-infos"><li>Codex épreuve OMVF0011</li><li>Individuel</li><li>Cat
 égorie(s) : U13 (Filles)</li></ul></li><li><div class="gski-epreuve-date">L
 e samedi 01 octobre 2022</div><ul class="gski-epreuve-liste-infos"><li>Code
 x épreuve OMVM0011</li><li>Individuel</li><li>Catégorie(s) : U13 (Garçons)<
 /li></ul></li><li><div class="gski-epreuve-date">Le samedi 01 octobre 2022<
 /div><ul class="gski-epreuve-liste-infos"><li>Codex épreuve OMVF0012</li><l
 i>Individuel</li><li>Catégorie(s) : U15/U16 (Filles)</li></ul></li><li><div
  class="gski-epreuve-date">Le samedi 01 octobre 2022</div><ul class="gski-e
 preuve-liste-infos"><li>Codex épreuve OMVM0012</li><li>Individuel</li><li>C
 atégorie(s) : U15/U16 (Garçons)</li></ul></li><li><div class="gski-epreuve-
 date">Le samedi 01 octobre 2022</div><ul class="gski-epreuve-liste-infos"><
 li>Codex épreuve OMVF0013</li><li>Individuel</li><li>Catégorie(s) : U18 (Da
 mes)</li></ul></li><li><div class="gski-epreuve-date">Le samedi 01 octobre 
 2022</div><ul class="gski-epreuve-liste-infos"><li>Codex épreuve OMVM0013</
 li><li>Individuel</li><li>Catégorie(s) : U18 (Hommes)</li></ul></li><li><di
 v class="gski-epreuve-date">Le samedi 01 octobre 2022</div><ul class="gski-
 epreuve-liste-infos"><li>Codex épreuve OMVF0014</li><li>Individuel</li><li>
 Catégorie(s) : U20 a SEN (Dames)</li></ul></li><li><div class="gski-epreuve
 -date">Le samedi 01 octobre 2022</div><ul class="gski-epreuve-liste-infos">
 <li>Codex épreuve OMVM0014</li><li>Individuel</li><li>Catégorie(s) : U20 a 
 SEN (Hommes)</li></ul></li></ul></div><div class="gskiepreuves-links"><ul><
 li><a href="/index.php?option=com_jevents&task=icalevent.detail&evid=1909&I
 temid=6289">Voir les informations dans l'agenda...</a></li><li>Publications
  concernant cet évènement :<ul><li><a href="/index.php?option=com_content&v
 iew=article&id=7823&Itemid=6289">Samedi 24 Septembre 2022 à 22:48 : Le 01/1
 0/2022 GERARDMER Informations</a></li></ul></li></ul></div></div"><!-- #/gs
 kiepreuve fin du dode généré par le plugin jevents pour GskiEpreuves. . Ne 
 pas modifier cette ligne, ni tout le contenu précedant.  #/gskiepreuve --> 
 <a href="https://skivosges.net/agenda/a-venir/detailevenement/1914/-/roller
 ski-romain-claudon-prologue-poursuite?tmpl=component">Cet évènement a été i
 mporté depuis :https://skivosges.net/agenda/a-venir/detailevenement/1914/-/
 rollerski-romain-claudon-prologue-poursuite?tmpl=component</a>
X-ALT-DESC;FMTTYPE=text/html:<!-- #gskiepreuve code généré par le plugin jevents pour GskiEpreuves. Ne p
 as modifier cette ligne, ni tout le contenu suivant  #gskiepreuve --><div c
 lass="gski-evenement_infos"><div class="gski-evenement-nom">ROLLERSKI ROMAI
 N CLAUDON prologue + poursuite</div><div class="gski-evenement-report"></di
 v><ul class="gski-evenement-liste-infos"><li>Codex évenement OMVT0010</li><
 li>Lieu : Centre ville</li><li>Station : GERARDMER</li><li>Organisateur : 1
 4469 A.S GERARDMER SKI NORDIQUE</li><li>Courriel : <!-- Cette adresse élect
 ronique est protégée contre les robots spammeurs. --><span class="cloaked_e
 mail ep_9321fe78"><span data-ep-a="&#104;&#101;&#114;&#118;" data-ep-b="&#4
 6;&#102;&#114;"><span data-ep-b="&#97;ng&#101;" data-ep-a="e&#46;p&#111;"><
 span data-ep-a="&#105;&#114;&#111;t" data-ep-b="&#51;&#64;or"></span></span
 ></span></span><script>RegularLabs.EmailProtector.unCloak("ep_9321fe78");</
 script></li><li><span class="gski-evenement-obs">Délégué Technique : CUNY B
 ERNARD</span></li></ul><div class="gski-evenement-infos-2"><div class="gski
 -evenement-info-inscriptions"><div class="gski-evenement-inscriptions-perio
 des">Période d'inscription à l'evènement du samedi 24 septembre 2022 à 00:0
 0 au jeudi 29 septembre 2022 à 20:00<div class="gski-evenement-inscriptions
 -types-titres">Inscriptions ouvertes aux detenteurs des titres Fédéraux val
 ides suivants : Licenciés Compétiteurs</div></div></div><div class="gskiepr
 euves-links"><ul><li><a href="https://skivosges.net/index.php?option=com_je
 vents&task=icalevent.detail&evid=1909&Itemid=6289">Voir les informations da
 ns l'agenda...</a></li><li>Publications concernant cet évènement :<ul><li><
 a href="https://skivosges.net/index.php?option=com_content&view=article&id=
 7823&Itemid=6289">Samedi 24 Septembre 2022 à 22:48 : Le 01/10/2022 GERARDME
 R Informations</a></li></ul></li></ul></div><div class="gski-evenement-epre
 uves"><div class="gski-evenement-epreuves-titres">Epreuves :</div><ul class
 ="gski-evenement-epreuves-list"><li><div class="gski-epreuve-date">Le samed
 i 01 octobre 2022</div><ul class="gski-epreuve-liste-infos"><li>Codex épreu
 ve OMVF0011</li><li>Individuel</li><li>Catégorie(s) : U13 (Filles)</li></ul
 ></li><li><div class="gski-epreuve-date">Le samedi 01 octobre 2022</div><ul
  class="gski-epreuve-liste-infos"><li>Codex épreuve OMVM0011</li><li>Indivi
 duel</li><li>Catégorie(s) : U13 (Garçons)</li></ul></li><li><div class="gsk
 i-epreuve-date">Le samedi 01 octobre 2022</div><ul class="gski-epreuve-list
 e-infos"><li>Codex épreuve OMVF0012</li><li>Individuel</li><li>Catégorie(s)
  : U15/U16 (Filles)</li></ul></li><li><div class="gski-epreuve-date">Le sam
 edi 01 octobre 2022</div><ul class="gski-epreuve-liste-infos"><li>Codex épr
 euve OMVM0012</li><li>Individuel</li><li>Catégorie(s) : U15/U16 (Garçons)</
 li></ul></li><li><div class="gski-epreuve-date">Le samedi 01 octobre 2022</
 div><ul class="gski-epreuve-liste-infos"><li>Codex épreuve OMVF0013</li><li
 >Individuel</li><li>Catégorie(s) : U18 (Dames)</li></ul></li><li><div class
 ="gski-epreuve-date">Le samedi 01 octobre 2022</div><ul class="gski-epreuve
 -liste-infos"><li>Codex épreuve OMVM0013</li><li>Individuel</li><li>Catégor
 ie(s) : U18 (Hommes)</li></ul></li><li><div class="gski-epreuve-date">Le sa
 medi 01 octobre 2022</div><ul class="gski-epreuve-liste-infos"><li>Codex ép
 reuve OMVF0014</li><li>Individuel</li><li>Catégorie(s) : U20 a SEN (Dames)<
 /li></ul></li><li><div class="gski-epreuve-date">Le samedi 01 octobre 2022<
 /div><ul class="gski-epreuve-liste-infos"><li>Codex épreuve OMVM0014</li><l
 i>Individuel</li><li>Catégorie(s) : U20 a SEN (Hommes)</li></ul></li></ul><
 /div><div class="gskiepreuves-links"><ul><li><a href="https://skivosges.net
 /index.php?option=com_jevents&task=icalevent.detail&evid=1909&Itemid=6289">
 Voir les informations dans l'agenda...</a></li><li>Publications concernant 
 cet évènement :<ul><li><a href="https://skivosges.net/index.php?option=com_
 content&view=article&id=7823&Itemid=6289">Samedi 24 Septembre 2022 à 22:48 
 : Le 01/10/2022 GERARDMER Informations</a></li></ul></li></ul></div></div">
 <!-- #/gskiepreuve fin du dode généré par le plugin jevents pour GskiEpreuv
 es. . Ne pas modifier cette ligne, ni tout le contenu précedant.  #/gskiepr
 euve --> <a href="https://skivosges.net/agenda/a-venir/detailevenement/1914
 /-/rollerski-romain-claudon-prologue-poursuite?tmpl=component">Cet évènemen
 t a été importé depuis :https://skivosges.net/agenda/a-venir/detailevenemen
 t/1914/-/rollerski-romain-claudon-prologue-poursuite?tmpl=component</a>DTSTAMP:20260424T012652
DTSTART;TZID=Europe/Paris;VALUE=DATE:20221001
DTEND;TZID=Europe/Paris;VALUE=DATE:20221002
SEQUENCE:0
TRANSP:OPAQUE
END:VEVENT
END:VCALENDAR