BEGIN:VCALENDAR
VERSION:2.0
PRODID:-//jEvents 2.0 for Joomla//EN
CALSCALE:GREGORIAN
METHOD:PUBLISH
BEGIN:VTIMEZONE
TZID:Europe/Paris
BEGIN:STANDARD
DTSTART:20211031T020000
RDATE:20220327T030000
TZOFFSETFROM:+0200
TZOFFSETTO:+0100
TZNAME:Europe/Paris CET
END:STANDARD
BEGIN:STANDARD
DTSTART:20221030T020000
RDATE:20230326T030000
TZOFFSETFROM:+0200
TZOFFSETTO:+0100
TZNAME:Europe/Paris CET
END:STANDARD
BEGIN:STANDARD
DTSTART:20231029T020000
RDATE:20240331T030000
TZOFFSETFROM:+0200
TZOFFSETTO:+0100
TZNAME:Europe/Paris CET
END:STANDARD
BEGIN:STANDARD
DTSTART:20241027T020000
RDATE:20250330T030000
TZOFFSETFROM:+0200
TZOFFSETTO:+0100
TZNAME:Europe/Paris CET
END:STANDARD
BEGIN:STANDARD
DTSTART:20251026T020000
RDATE:20260329T030000
TZOFFSETFROM:+0200
TZOFFSETTO:+0100
TZNAME:Europe/Paris CET
END:STANDARD
BEGIN:STANDARD
DTSTART:20261025T020000
RDATE:20270328T030000
TZOFFSETFROM:+0200
TZOFFSETTO:+0100
TZNAME:Europe/Paris CET
END:STANDARD
BEGIN:DAYLIGHT
DTSTART:20211005T000000
RDATE:20211031T020000
TZOFFSETFROM:+0100
TZOFFSETTO:+0200
TZNAME:Europe/Paris CEST
END:DAYLIGHT
BEGIN:DAYLIGHT
DTSTART:20220327T030000
RDATE:20221030T020000
TZOFFSETFROM:+0100
TZOFFSETTO:+0200
TZNAME:Europe/Paris CEST
END:DAYLIGHT
BEGIN:DAYLIGHT
DTSTART:20230326T030000
RDATE:20231029T020000
TZOFFSETFROM:+0100
TZOFFSETTO:+0200
TZNAME:Europe/Paris CEST
END:DAYLIGHT
BEGIN:DAYLIGHT
DTSTART:20240331T030000
RDATE:20241027T020000
TZOFFSETFROM:+0100
TZOFFSETTO:+0200
TZNAME:Europe/Paris CEST
END:DAYLIGHT
BEGIN:DAYLIGHT
DTSTART:20250330T030000
RDATE:20251026T020000
TZOFFSETFROM:+0100
TZOFFSETTO:+0200
TZNAME:Europe/Paris CEST
END:DAYLIGHT
BEGIN:DAYLIGHT
DTSTART:20260329T030000
RDATE:20261025T020000
TZOFFSETFROM:+0100
TZOFFSETTO:+0200
TZNAME:Europe/Paris CEST
END:DAYLIGHT
END:VTIMEZONE
BEGIN:VEVENT
UID:f46d98e1bab97c1c6395680c2e676270
CATEGORIES:Roller Ski
CREATED:20220902T190004
SUMMARY:MONTEE DU COL AMIC
URL;VALUE=URI:https://skivosges.net/agenda/a-venir/detailevenement/1916/-/montee-du-col-a
 mic?tmpl=component
DESCRIPTION:<!-- #gskiepreuve code généré par le plugin jevents pour GskiEpreuves. Ne p
 as modifier cette ligne, ni tout le contenu suivant  #gskiepreuve --><div c
 lass="gski-evenement_infos"><div class="gski-evenement-nom">MONTEE DU COL A
 MIC</div><div class="gski-evenement-report"></div><ul class="gski-evenement
 -liste-infos"><li>Codex évenement OMVT0020</li><li>Lieu : WUENHEIM - COL AM
 IC</li><li>Organisateur : 14053 S.C MARKSTEIN RANSPACH</li><li>Courriel : <
 !-- Cette adresse électronique est protégée contre les robots spammeurs. --
 ><span class="cloaked_email ep_606c246d"><span data-ep-b="&#110;&#103;&#101
 ;&#46;f&#114;" data-ep-a="s&#107;&#105;&#99;&#108;u"><span data-ep-a="&#98;
 &#46;&#109;&#97;&#114;k" data-ep-b="ch&#64;&#111;ra"><span data-ep-b="&#114
 ;&#97;&#110;s&#112;&#97;" data-ep-a="&#115;&#116;e&#105;n&#45;"></span></sp
 an></span></span><script>RegularLabs.EmailProtector.unCloak("ep_606c246d");
 </script></li><li>Téléphone : 06 71 00 26 39</li><li><span class="gski-even
 ement-obs">Délégué Technique : SIMON ROBERT</span></li></ul><div class="gsk
 i-evenement-infos-2"><div class="gski-evenement-info-inscriptions"><div cla
 ss="gski-evenement-inscriptions-periodes">Période d'inscription à l'evèneme
 nt du jeudi 29 septembre 2022 à 00:00 au mardi 04 octobre 2022 à 12:00<div 
 class="gski-evenement-inscriptions-types-titres">Inscriptions ouvertes aux 
 detenteurs des titres Fédéraux valides suivants : Licenciés Compétiteurs</d
 iv></div></div><div class="gskiepreuves-links"><ul><li><a href="/index.php?
 option=com_jevents&task=icalevent.detail&evid=1911&Itemid=6289">Voir les in
 formations dans l'agenda...</a></li></ul></div><div class="gski-evenement-e
 preuves"><div class="gski-evenement-epreuves-titres">Epreuves :</div><ul cl
 ass="gski-evenement-epreuves-list"><li><div class="gski-epreuve-date">Le je
 udi 06 octobre 2022</div><ul class="gski-epreuve-liste-infos"><li>Codex épr
 euve OMVF0021</li><li>DEPART EN MASSE</li><li>Catégorie(s) : U13 (Filles)</
 li></ul></li><li><div class="gski-epreuve-date">Le jeudi 06 octobre 2022</d
 iv><ul class="gski-epreuve-liste-infos"><li>Codex épreuve OMVM0021</li><li>
 DEPART EN MASSE</li><li>Catégorie(s) : U13 (Garçons)</li></ul></li><li><div
  class="gski-epreuve-date">Le jeudi 06 octobre 2022</div><ul class="gski-ep
 reuve-liste-infos"><li>Codex épreuve OMVF0022</li><li>DEPART EN MASSE</li><
 li>Catégorie(s) : U15 (Filles)</li></ul></li><li><div class="gski-epreuve-d
 ate">Le jeudi 06 octobre 2022</div><ul class="gski-epreuve-liste-infos"><li
 >Codex épreuve OMVM0022</li><li>DEPART EN MASSE</li><li>Catégorie(s) : U15 
 (Garçons)</li></ul></li><li><div class="gski-epreuve-date">Le jeudi 06 octo
 bre 2022</div><ul class="gski-epreuve-liste-infos"><li>Codex épreuve OMVM00
 23</li><li>DEPART EN MASSE</li><li>Catégorie(s) : U16 (Garçons)</li></ul></
 li><li><div class="gski-epreuve-date">Le jeudi 06 octobre 2022</div><ul cla
 ss="gski-epreuve-liste-infos"><li>Codex épreuve OMVF0023</li><li>DEPART EN 
 MASSE</li><li>Catégorie(s) : U18 (Dames)</li></ul></li><li><div class="gski
 -epreuve-date">Le jeudi 06 octobre 2022</div><ul class="gski-epreuve-liste-
 infos"><li>Codex épreuve OMVM0024</li><li>DEPART EN MASSE</li><li>Catégorie
 (s) : U20 a SEN (Hommes)</li></ul></li><li><div class="gski-epreuve-date">L
 e jeudi 06 octobre 2022</div><ul class="gski-epreuve-liste-infos"><li>Codex
  épreuve OMVF0024</li><li>DEPART EN MASSE</li><li>Catégorie(s) : U20 a SEN 
 (Dames)</li></ul></li><li><div class="gski-epreuve-date">Le jeudi 06 octobr
 e 2022</div><ul class="gski-epreuve-liste-infos"><li>Codex épreuve OMVF0025
 </li><li>DEPART EN MASSE</li><li>Catégorie(s) : U16 (Filles)</li></ul></li>
 </ul></div><div class="gskiepreuves-links"><ul><li><a href="/index.php?opti
 on=com_jevents&task=icalevent.detail&evid=1911&Itemid=6289">Voir les inform
 ations dans l'agenda...</a></li></ul></div></div"><!-- #/gskiepreuve fin du
  dode généré par le plugin jevents pour GskiEpreuves. . Ne pas modifier cet
 te ligne, ni tout le contenu précedant.  #/gskiepreuve --> <a href="https:/
 /skivosges.net/agenda/a-venir/detailevenement/1916/-/montee-du-col-amic?tmp
 l=component">Cet évènement a été importé depuis :https://skivosges.net/agen
 da/a-venir/detailevenement/1916/-/montee-du-col-amic?tmpl=component</a>
X-ALT-DESC;FMTTYPE=text/html:<!-- #gskiepreuve code généré par le plugin jevents pour GskiEpreuves. Ne p
 as modifier cette ligne, ni tout le contenu suivant  #gskiepreuve --><div c
 lass="gski-evenement_infos"><div class="gski-evenement-nom">MONTEE DU COL A
 MIC</div><div class="gski-evenement-report"></div><ul class="gski-evenement
 -liste-infos"><li>Codex évenement OMVT0020</li><li>Lieu : WUENHEIM - COL AM
 IC</li><li>Organisateur : 14053 S.C MARKSTEIN RANSPACH</li><li>Courriel : <
 !-- Cette adresse électronique est protégée contre les robots spammeurs. --
 ><span class="cloaked_email ep_606c246d"><span data-ep-b="&#110;&#103;&#101
 ;&#46;f&#114;" data-ep-a="s&#107;&#105;&#99;&#108;u"><span data-ep-a="&#98;
 &#46;&#109;&#97;&#114;k" data-ep-b="ch&#64;&#111;ra"><span data-ep-b="&#114
 ;&#97;&#110;s&#112;&#97;" data-ep-a="&#115;&#116;e&#105;n&#45;"></span></sp
 an></span></span><script>RegularLabs.EmailProtector.unCloak("ep_606c246d");
 </script></li><li>Téléphone : 06 71 00 26 39</li><li><span class="gski-even
 ement-obs">Délégué Technique : SIMON ROBERT</span></li></ul><div class="gsk
 i-evenement-infos-2"><div class="gski-evenement-info-inscriptions"><div cla
 ss="gski-evenement-inscriptions-periodes">Période d'inscription à l'evèneme
 nt du jeudi 29 septembre 2022 à 00:00 au mardi 04 octobre 2022 à 12:00<div 
 class="gski-evenement-inscriptions-types-titres">Inscriptions ouvertes aux 
 detenteurs des titres Fédéraux valides suivants : Licenciés Compétiteurs</d
 iv></div></div><div class="gskiepreuves-links"><ul><li><a href="https://ski
 vosges.net/index.php?option=com_jevents&task=icalevent.detail&evid=1911&Ite
 mid=6289">Voir les informations dans l'agenda...</a></li></ul></div><div cl
 ass="gski-evenement-epreuves"><div class="gski-evenement-epreuves-titres">E
 preuves :</div><ul class="gski-evenement-epreuves-list"><li><div class="gsk
 i-epreuve-date">Le jeudi 06 octobre 2022</div><ul class="gski-epreuve-liste
 -infos"><li>Codex épreuve OMVF0021</li><li>DEPART EN MASSE</li><li>Catégori
 e(s) : U13 (Filles)</li></ul></li><li><div class="gski-epreuve-date">Le jeu
 di 06 octobre 2022</div><ul class="gski-epreuve-liste-infos"><li>Codex épre
 uve OMVM0021</li><li>DEPART EN MASSE</li><li>Catégorie(s) : U13 (Garçons)</
 li></ul></li><li><div class="gski-epreuve-date">Le jeudi 06 octobre 2022</d
 iv><ul class="gski-epreuve-liste-infos"><li>Codex épreuve OMVF0022</li><li>
 DEPART EN MASSE</li><li>Catégorie(s) : U15 (Filles)</li></ul></li><li><div 
 class="gski-epreuve-date">Le jeudi 06 octobre 2022</div><ul class="gski-epr
 euve-liste-infos"><li>Codex épreuve OMVM0022</li><li>DEPART EN MASSE</li><l
 i>Catégorie(s) : U15 (Garçons)</li></ul></li><li><div class="gski-epreuve-d
 ate">Le jeudi 06 octobre 2022</div><ul class="gski-epreuve-liste-infos"><li
 >Codex épreuve OMVM0023</li><li>DEPART EN MASSE</li><li>Catégorie(s) : U16 
 (Garçons)</li></ul></li><li><div class="gski-epreuve-date">Le jeudi 06 octo
 bre 2022</div><ul class="gski-epreuve-liste-infos"><li>Codex épreuve OMVF00
 23</li><li>DEPART EN MASSE</li><li>Catégorie(s) : U18 (Dames)</li></ul></li
 ><li><div class="gski-epreuve-date">Le jeudi 06 octobre 2022</div><ul class
 ="gski-epreuve-liste-infos"><li>Codex épreuve OMVM0024</li><li>DEPART EN MA
 SSE</li><li>Catégorie(s) : U20 a SEN (Hommes)</li></ul></li><li><div class=
 "gski-epreuve-date">Le jeudi 06 octobre 2022</div><ul class="gski-epreuve-l
 iste-infos"><li>Codex épreuve OMVF0024</li><li>DEPART EN MASSE</li><li>Caté
 gorie(s) : U20 a SEN (Dames)</li></ul></li><li><div class="gski-epreuve-dat
 e">Le jeudi 06 octobre 2022</div><ul class="gski-epreuve-liste-infos"><li>C
 odex épreuve OMVF0025</li><li>DEPART EN MASSE</li><li>Catégorie(s) : U16 (F
 illes)</li></ul></li></ul></div><div class="gskiepreuves-links"><ul><li><a 
 href="https://skivosges.net/index.php?option=com_jevents&task=icalevent.det
 ail&evid=1911&Itemid=6289">Voir les informations dans l'agenda...</a></li><
 /ul></div></div"><!-- #/gskiepreuve fin du dode généré par le plugin jevent
 s pour GskiEpreuves. . Ne pas modifier cette ligne, ni tout le contenu préc
 edant.  #/gskiepreuve --> <a href="https://skivosges.net/agenda/a-venir/det
 ailevenement/1916/-/montee-du-col-amic?tmpl=component">Cet évènement a été 
 importé depuis :https://skivosges.net/agenda/a-venir/detailevenement/1916/-
 /montee-du-col-amic?tmpl=component</a>DTSTAMP:20260424T060811
DTSTART;TZID=Europe/Paris;VALUE=DATE:20221006
DTEND;TZID=Europe/Paris;VALUE=DATE:20221007
SEQUENCE:0
TRANSP:OPAQUE
END:VEVENT
END:VCALENDAR