BEGIN:VCALENDAR
VERSION:2.0
PRODID:-//jEvents 2.0 for Joomla//EN
CALSCALE:GREGORIAN
METHOD:PUBLISH
BEGIN:VTIMEZONE
TZID:Europe/Paris
BEGIN:STANDARD
DTSTART:20211031T020000
RDATE:20220327T030000
TZOFFSETFROM:+0200
TZOFFSETTO:+0100
TZNAME:Europe/Paris CET
END:STANDARD
BEGIN:STANDARD
DTSTART:20221030T020000
RDATE:20230326T030000
TZOFFSETFROM:+0200
TZOFFSETTO:+0100
TZNAME:Europe/Paris CET
END:STANDARD
BEGIN:STANDARD
DTSTART:20231029T020000
RDATE:20240331T030000
TZOFFSETFROM:+0200
TZOFFSETTO:+0100
TZNAME:Europe/Paris CET
END:STANDARD
BEGIN:STANDARD
DTSTART:20241027T020000
RDATE:20250330T030000
TZOFFSETFROM:+0200
TZOFFSETTO:+0100
TZNAME:Europe/Paris CET
END:STANDARD
BEGIN:STANDARD
DTSTART:20251026T020000
RDATE:20260329T030000
TZOFFSETFROM:+0200
TZOFFSETTO:+0100
TZNAME:Europe/Paris CET
END:STANDARD
BEGIN:STANDARD
DTSTART:20261025T020000
RDATE:20270328T030000
TZOFFSETFROM:+0200
TZOFFSETTO:+0100
TZNAME:Europe/Paris CET
END:STANDARD
BEGIN:DAYLIGHT
DTSTART:20210916T000000
RDATE:20211031T020000
TZOFFSETFROM:+0100
TZOFFSETTO:+0200
TZNAME:Europe/Paris CEST
END:DAYLIGHT
BEGIN:DAYLIGHT
DTSTART:20220327T030000
RDATE:20221030T020000
TZOFFSETFROM:+0100
TZOFFSETTO:+0200
TZNAME:Europe/Paris CEST
END:DAYLIGHT
BEGIN:DAYLIGHT
DTSTART:20230326T030000
RDATE:20231029T020000
TZOFFSETFROM:+0100
TZOFFSETTO:+0200
TZNAME:Europe/Paris CEST
END:DAYLIGHT
BEGIN:DAYLIGHT
DTSTART:20240331T030000
RDATE:20241027T020000
TZOFFSETFROM:+0100
TZOFFSETTO:+0200
TZNAME:Europe/Paris CEST
END:DAYLIGHT
BEGIN:DAYLIGHT
DTSTART:20250330T030000
RDATE:20251026T020000
TZOFFSETFROM:+0100
TZOFFSETTO:+0200
TZNAME:Europe/Paris CEST
END:DAYLIGHT
BEGIN:DAYLIGHT
DTSTART:20260329T030000
RDATE:20261025T020000
TZOFFSETFROM:+0100
TZOFFSETTO:+0200
TZNAME:Europe/Paris CEST
END:DAYLIGHT
END:VTIMEZONE
BEGIN:VEVENT
UID:018b1609d5581758eda6ef2c55377842
CATEGORIES:Combiné Nordique
CREATED:20220906T120449
SUMMARY:Coupe des Vosges Crédit Mutuel étape 3
URL;VALUE=URI:https://skivosges.net/agenda/a-venir/detailevenement/1919/-/coupe-des-vosge
 s-credit-mutuel-etape-3?tmpl=component
DESCRIPTION:<!-- #gskiepreuve code généré par le plugin jevents pour GskiEpreuves. Ne p
 as modifier cette ligne, ni tout le contenu suivant  #gskiepreuve --><div c
 lass="gski-evenement_infos"><div class="gski-evenement-nom">Coupe des Vosge
 s Crédit Mutuel étape 3</div><div class="gski-evenement-report"></div><ul c
 lass="gski-evenement-liste-infos"><li>Codex évenement CMVT0050</li><li>Lieu
  : TREMPLIN VENTRON</li><li>Organisateur : 14083 U.S VENTRON</li><li>Courri
 el : <!-- Cette adresse électronique est protégée contre les robots spammeu
 rs. --><span class="cloaked_email ep_0f592879"><span data-ep-b="" data-ep-a
 ="p&#97;&#116;&#114;&#105;"><span data-ep-b="&#108;&#46;&#99;&#111;m" data-
 ep-a="&#99;&#107;88&#103;"><span data-ep-a="er&#97;&#114;&#100;" data-ep-b=
 "&#64;&#103;&#109;ai"></span></span></span></span><script>RegularLabs.Email
 Protector.unCloak("ep_0f592879");</script></li></ul><div class="gski-evenem
 ent-infos-2"><div class="gski-evenement-info-inscriptions"><div class="gski
 -evenement-inscriptions-periodes">Période d'inscription à l'evènement du sa
 medi 10 septembre 2022 à 00:00 au jeudi 15 septembre 2022 à 12:00<div class
 ="gski-evenement-inscriptions-types-titres">Le type de titres Fédéraux auto
 risé n'est pas défini. Veuillez contacter l'organisateur et lui signaler le
  problème.</div></div></div><div class="gskiepreuves-links"><ul><li><a href
 ="/index.php?option=com_jevents&task=icalevent.detail&evid=1914&Itemid=6289
 ">Voir les informations dans l'agenda...</a></li></ul></div><div class="gsk
 iepreuves-links"><ul><li><a href="/index.php?option=com_jevents&task=icalev
 ent.detail&evid=1914&Itemid=6289">Voir les informations dans l'agenda...</a
 ></li></ul></div></div"><!-- #/gskiepreuve fin du dode généré par le plugin
  jevents pour GskiEpreuves. . Ne pas modifier cette ligne, ni tout le conte
 nu précedant.  #/gskiepreuve --> <a href="https://skivosges.net/agenda/a-ve
 nir/detailevenement/1919/-/coupe-des-vosges-credit-mutuel-etape-3?tmpl=comp
 onent">Cet évènement a été importé depuis :https://skivosges.net/agenda/a-v
 enir/detailevenement/1919/-/coupe-des-vosges-credit-mutuel-etape-3?tmpl=com
 ponent</a>
X-ALT-DESC;FMTTYPE=text/html:<!-- #gskiepreuve code généré par le plugin jevents pour GskiEpreuves. Ne p
 as modifier cette ligne, ni tout le contenu suivant  #gskiepreuve --><div c
 lass="gski-evenement_infos"><div class="gski-evenement-nom">Coupe des Vosge
 s Crédit Mutuel étape 3</div><div class="gski-evenement-report"></div><ul c
 lass="gski-evenement-liste-infos"><li>Codex évenement CMVT0050</li><li>Lieu
  : TREMPLIN VENTRON</li><li>Organisateur : 14083 U.S VENTRON</li><li>Courri
 el : <!-- Cette adresse électronique est protégée contre les robots spammeu
 rs. --><span class="cloaked_email ep_0f592879"><span data-ep-b="" data-ep-a
 ="p&#97;&#116;&#114;&#105;"><span data-ep-b="&#108;&#46;&#99;&#111;m" data-
 ep-a="&#99;&#107;88&#103;"><span data-ep-a="er&#97;&#114;&#100;" data-ep-b=
 "&#64;&#103;&#109;ai"></span></span></span></span><script>RegularLabs.Email
 Protector.unCloak("ep_0f592879");</script></li></ul><div class="gski-evenem
 ent-infos-2"><div class="gski-evenement-info-inscriptions"><div class="gski
 -evenement-inscriptions-periodes">Période d'inscription à l'evènement du sa
 medi 10 septembre 2022 à 00:00 au jeudi 15 septembre 2022 à 12:00<div class
 ="gski-evenement-inscriptions-types-titres">Le type de titres Fédéraux auto
 risé n'est pas défini. Veuillez contacter l'organisateur et lui signaler le
  problème.</div></div></div><div class="gskiepreuves-links"><ul><li><a href
 ="https://skivosges.net/index.php?option=com_jevents&task=icalevent.detail&
 evid=1914&Itemid=6289">Voir les informations dans l'agenda...</a></li></ul>
 </div><div class="gskiepreuves-links"><ul><li><a href="https://skivosges.ne
 t/index.php?option=com_jevents&task=icalevent.detail&evid=1914&Itemid=6289"
 >Voir les informations dans l'agenda...</a></li></ul></div></div"><!-- #/gs
 kiepreuve fin du dode généré par le plugin jevents pour GskiEpreuves. . Ne 
 pas modifier cette ligne, ni tout le contenu précedant.  #/gskiepreuve --> 
 <a href="https://skivosges.net/agenda/a-venir/detailevenement/1919/-/coupe-
 des-vosges-credit-mutuel-etape-3?tmpl=component">Cet évènement a été import
 é depuis :https://skivosges.net/agenda/a-venir/detailevenement/1919/-/coupe
 -des-vosges-credit-mutuel-etape-3?tmpl=component</a>DTSTAMP:20260424T012652
DTSTART;TZID=Europe/Paris;VALUE=DATE:20220917
DTEND;TZID=Europe/Paris;VALUE=DATE:20220918
SEQUENCE:0
TRANSP:OPAQUE
END:VEVENT
END:VCALENDAR