BEGIN:VCALENDAR
VERSION:2.0
PRODID:-//jEvents 2.0 for Joomla//EN
CALSCALE:GREGORIAN
METHOD:PUBLISH
BEGIN:VTIMEZONE
TZID:Europe/Paris
BEGIN:STANDARD
DTSTART:20130322T080000
RDATE:20130331T030000
TZOFFSETFROM:+0200
TZOFFSETTO:+0100
TZNAME:Europe/Paris CET
END:STANDARD
BEGIN:STANDARD
DTSTART:20131027T020000
RDATE:20140330T030000
TZOFFSETFROM:+0200
TZOFFSETTO:+0100
TZNAME:Europe/Paris CET
END:STANDARD
BEGIN:STANDARD
DTSTART:20141026T020000
RDATE:20150329T030000
TZOFFSETFROM:+0200
TZOFFSETTO:+0100
TZNAME:Europe/Paris CET
END:STANDARD
BEGIN:STANDARD
DTSTART:20151025T020000
RDATE:20160327T030000
TZOFFSETFROM:+0200
TZOFFSETTO:+0100
TZNAME:Europe/Paris CET
END:STANDARD
BEGIN:STANDARD
DTSTART:20161030T020000
RDATE:20170326T030000
TZOFFSETFROM:+0200
TZOFFSETTO:+0100
TZNAME:Europe/Paris CET
END:STANDARD
BEGIN:STANDARD
DTSTART:20171029T020000
RDATE:20180325T030000
TZOFFSETFROM:+0200
TZOFFSETTO:+0100
TZNAME:Europe/Paris CET
END:STANDARD
BEGIN:STANDARD
DTSTART:20181028T020000
RDATE:20190331T030000
TZOFFSETFROM:+0200
TZOFFSETTO:+0100
TZNAME:Europe/Paris CET
END:STANDARD
BEGIN:STANDARD
DTSTART:20191027T020000
RDATE:20200329T030000
TZOFFSETFROM:+0200
TZOFFSETTO:+0100
TZNAME:Europe/Paris CET
END:STANDARD
BEGIN:STANDARD
DTSTART:20201025T020000
RDATE:20210328T030000
TZOFFSETFROM:+0200
TZOFFSETTO:+0100
TZNAME:Europe/Paris CET
END:STANDARD
BEGIN:STANDARD
DTSTART:20211031T020000
RDATE:20220327T030000
TZOFFSETFROM:+0200
TZOFFSETTO:+0100
TZNAME:Europe/Paris CET
END:STANDARD
BEGIN:STANDARD
DTSTART:20221030T020000
RDATE:20230326T030000
TZOFFSETFROM:+0200
TZOFFSETTO:+0100
TZNAME:Europe/Paris CET
END:STANDARD
BEGIN:STANDARD
DTSTART:20231029T020000
RDATE:20240331T030000
TZOFFSETFROM:+0200
TZOFFSETTO:+0100
TZNAME:Europe/Paris CET
END:STANDARD
BEGIN:STANDARD
DTSTART:20241027T020000
RDATE:20250330T030000
TZOFFSETFROM:+0200
TZOFFSETTO:+0100
TZNAME:Europe/Paris CET
END:STANDARD
BEGIN:STANDARD
DTSTART:20251026T020000
RDATE:20260329T030000
TZOFFSETFROM:+0200
TZOFFSETTO:+0100
TZNAME:Europe/Paris CET
END:STANDARD
BEGIN:STANDARD
DTSTART:20261025T020000
RDATE:20270328T030000
TZOFFSETFROM:+0200
TZOFFSETTO:+0100
TZNAME:Europe/Paris CET
END:STANDARD
BEGIN:DAYLIGHT
DTSTART:20130331T030000
RDATE:20131027T020000
TZOFFSETFROM:+0100
TZOFFSETTO:+0200
TZNAME:Europe/Paris CEST
END:DAYLIGHT
BEGIN:DAYLIGHT
DTSTART:20140330T030000
RDATE:20141026T020000
TZOFFSETFROM:+0100
TZOFFSETTO:+0200
TZNAME:Europe/Paris CEST
END:DAYLIGHT
BEGIN:DAYLIGHT
DTSTART:20150329T030000
RDATE:20151025T020000
TZOFFSETFROM:+0100
TZOFFSETTO:+0200
TZNAME:Europe/Paris CEST
END:DAYLIGHT
BEGIN:DAYLIGHT
DTSTART:20160327T030000
RDATE:20161030T020000
TZOFFSETFROM:+0100
TZOFFSETTO:+0200
TZNAME:Europe/Paris CEST
END:DAYLIGHT
BEGIN:DAYLIGHT
DTSTART:20170326T030000
RDATE:20171029T020000
TZOFFSETFROM:+0100
TZOFFSETTO:+0200
TZNAME:Europe/Paris CEST
END:DAYLIGHT
BEGIN:DAYLIGHT
DTSTART:20180325T030000
RDATE:20181028T020000
TZOFFSETFROM:+0100
TZOFFSETTO:+0200
TZNAME:Europe/Paris CEST
END:DAYLIGHT
BEGIN:DAYLIGHT
DTSTART:20190331T030000
RDATE:20191027T020000
TZOFFSETFROM:+0100
TZOFFSETTO:+0200
TZNAME:Europe/Paris CEST
END:DAYLIGHT
BEGIN:DAYLIGHT
DTSTART:20200329T030000
RDATE:20201025T020000
TZOFFSETFROM:+0100
TZOFFSETTO:+0200
TZNAME:Europe/Paris CEST
END:DAYLIGHT
BEGIN:DAYLIGHT
DTSTART:20210328T030000
RDATE:20211031T020000
TZOFFSETFROM:+0100
TZOFFSETTO:+0200
TZNAME:Europe/Paris CEST
END:DAYLIGHT
BEGIN:DAYLIGHT
DTSTART:20220327T030000
RDATE:20221030T020000
TZOFFSETFROM:+0100
TZOFFSETTO:+0200
TZNAME:Europe/Paris CEST
END:DAYLIGHT
BEGIN:DAYLIGHT
DTSTART:20230326T030000
RDATE:20231029T020000
TZOFFSETFROM:+0100
TZOFFSETTO:+0200
TZNAME:Europe/Paris CEST
END:DAYLIGHT
BEGIN:DAYLIGHT
DTSTART:20240331T030000
RDATE:20241027T020000
TZOFFSETFROM:+0100
TZOFFSETTO:+0200
TZNAME:Europe/Paris CEST
END:DAYLIGHT
BEGIN:DAYLIGHT
DTSTART:20250330T030000
RDATE:20251026T020000
TZOFFSETFROM:+0100
TZOFFSETTO:+0200
TZNAME:Europe/Paris CEST
END:DAYLIGHT
BEGIN:DAYLIGHT
DTSTART:20260329T030000
RDATE:20261025T020000
TZOFFSETFROM:+0100
TZOFFSETTO:+0200
TZNAME:Europe/Paris CEST
END:DAYLIGHT
END:VTIMEZONE
BEGIN:VEVENT
UID:20eddde10eb03b0f52c288f54838e327
CATEGORIES:Circuit Massif Jeunes (alpin)
CREATED:20131203T122100
SUMMARY:GPJ U12 et U14 FINALE   ESF / CRMVS **REPORTE**
URL;VALUE=URI:https://skivosges.net/agenda/a-venir/detailevenement/192/-/gpj-u12-et-u14-f
 inale-esf-crmvs-reporte?tmpl=component
DESCRIPTION:GPJ U12 et U14 FINALE   ESF / CRMVS (Epreuve reportée, date à determiner) \
 n(Grand Prix Jeunes)\nOrganisateur : GERARDMER SKI ALPIN  (14089 GERARDMER 
 SKI ALPIN)\nEmail : RegularLabs.EmailProtector.unCloak("ep_247d4612");\nTel
 ecopie : 03 29 60 98 04\nTelecopie : 03 29 60 98 04\n - AMVF0881  Parallele
  (Courses FFS) de 10 a 13ans au 31/12/2012 (Pou/Ben) Filles\n  GPJ U12 et U
 14 FINALE   ESF / CRMVS\n - AMVM0881  Parallele (Courses FFS) de 10 a 13ans
  au 31/12/2012 (Pou/Ben) Garçons\n  GPJ U12 et U14 FINALE   ESF / CRMVS Cet
  évènement a été importé depuis :https://skivosges.net/agenda/a-venir/detai
 levenement/192/-/gpj-u12-et-u14-finale-esf-crmvs-reporte?tmpl=component
X-ALT-DESC;FMTTYPE=text/html:<strong>GPJ U12 et U14 FINALE   ESF / CRMVS</strong> <font class="attention
 4">(Epreuve reportée, date à determiner)</font> <br /><i>(Grand Prix Jeunes
 )</i><br />Organisateur : GERARDMER SKI ALPIN  <small>(14089 GERARDMER SKI 
 ALPIN)</small><br />Email : <!-- Cette adresse électronique est protégée co
 ntre les robots spammeurs. --><span class="cloaked_email ep_247d4612"><span
  data-ep-b="e&#46;&#102;r" data-ep-a="&#103;&#101;ra&#114;"><span data-ep-b
 ="&#111;&#114;&#97;ng" data-ep-a="&#100;&#109;&#101;&#114;&#45;"><span data
 -ep-b="&#108;&#112;&#105;n&#64;" data-ep-a="&#115;&#107;i&#45;&#97;"></span
 ></span></span></span><script>RegularLabs.EmailProtector.unCloak("ep_247d46
 12");</script><br />Telecopie : 03 29 60 98 04<br />Telecopie : 03 29 60 98
  04<ul type="disc"><li>AMVF0881  Parallele <nobr><i>(Courses FFS)</i></nobr
 > <nobr>de 10 a 13ans au 31/12/2012 (Pou/Ben)</nobr> Filles<br />&nbsp;&nbs
 p;GPJ U12 et U14 FINALE   ESF / CRMVS</li><li>AMVM0881  Parallele <nobr><i>
 (Courses FFS)</i></nobr> <nobr>de 10 a 13ans au 31/12/2012 (Pou/Ben)</nobr>
  Garçons<br />&nbsp;&nbsp;GPJ U12 et U14 FINALE   ESF / CRMVS</li></ul> <a 
 href="https://skivosges.net/agenda/a-venir/detailevenement/192/-/gpj-u12-et
 -u14-finale-esf-crmvs-reporte?tmpl=component">Cet évènement a été importé d
 epuis :https://skivosges.net/agenda/a-venir/detailevenement/192/-/gpj-u12-e
 t-u14-finale-esf-crmvs-reporte?tmpl=component</a>DTSTAMP:20260424T015216
DTSTART;TZID=Europe/Paris:20140323T080000
DTEND;TZID=Europe/Paris:20140323T170000
SEQUENCE:0
TRANSP:OPAQUE
END:VEVENT
END:VCALENDAR