BEGIN:VCALENDAR
VERSION:2.0
PRODID:-//jEvents 2.0 for Joomla//EN
CALSCALE:GREGORIAN
METHOD:PUBLISH
BEGIN:VTIMEZONE
TZID:Europe/Paris
BEGIN:STANDARD
DTSTART:20211118T000000
RDATE:20220327T030000
TZOFFSETFROM:+0200
TZOFFSETTO:+0100
TZNAME:Europe/Paris CET
END:STANDARD
BEGIN:STANDARD
DTSTART:20221030T020000
RDATE:20230326T030000
TZOFFSETFROM:+0200
TZOFFSETTO:+0100
TZNAME:Europe/Paris CET
END:STANDARD
BEGIN:STANDARD
DTSTART:20231029T020000
RDATE:20240331T030000
TZOFFSETFROM:+0200
TZOFFSETTO:+0100
TZNAME:Europe/Paris CET
END:STANDARD
BEGIN:STANDARD
DTSTART:20241027T020000
RDATE:20250330T030000
TZOFFSETFROM:+0200
TZOFFSETTO:+0100
TZNAME:Europe/Paris CET
END:STANDARD
BEGIN:STANDARD
DTSTART:20251026T020000
RDATE:20260329T030000
TZOFFSETFROM:+0200
TZOFFSETTO:+0100
TZNAME:Europe/Paris CET
END:STANDARD
BEGIN:STANDARD
DTSTART:20261025T020000
RDATE:20270328T030000
TZOFFSETFROM:+0200
TZOFFSETTO:+0100
TZNAME:Europe/Paris CET
END:STANDARD
BEGIN:DAYLIGHT
DTSTART:20220327T030000
RDATE:20221030T020000
TZOFFSETFROM:+0100
TZOFFSETTO:+0200
TZNAME:Europe/Paris CEST
END:DAYLIGHT
BEGIN:DAYLIGHT
DTSTART:20230326T030000
RDATE:20231029T020000
TZOFFSETFROM:+0100
TZOFFSETTO:+0200
TZNAME:Europe/Paris CEST
END:DAYLIGHT
BEGIN:DAYLIGHT
DTSTART:20240331T030000
RDATE:20241027T020000
TZOFFSETFROM:+0100
TZOFFSETTO:+0200
TZNAME:Europe/Paris CEST
END:DAYLIGHT
BEGIN:DAYLIGHT
DTSTART:20250330T030000
RDATE:20251026T020000
TZOFFSETFROM:+0100
TZOFFSETTO:+0200
TZNAME:Europe/Paris CEST
END:DAYLIGHT
BEGIN:DAYLIGHT
DTSTART:20260329T030000
RDATE:20261025T020000
TZOFFSETFROM:+0100
TZOFFSETTO:+0200
TZNAME:Europe/Paris CEST
END:DAYLIGHT
END:VTIMEZONE
BEGIN:VEVENT
UID:2f2b9491bba29d494d7ec8fc3d57882f
CATEGORIES:Compétition Ski Alpin
CREATED:20221118T190001
SUMMARY:FIS Masters Cup 2022/23
URL;VALUE=URI:https://skivosges.net/agenda/a-venir/detailevenement/1926/-/fis-masters-cup
 -2022-23?tmpl=component
DESCRIPTION:<!-- #gskiepreuve code généré par le plugin jevents pour GskiEpreuves. Ne p
 as modifier cette ligne, ni tout le contenu suivant  #gskiepreuve --><div c
 lass="gski-evenement_infos"><div class="gski-evenement-nom">FIS Masters Cup
  2022/23</div><div class="gski-evenement-report"></div><ul class="gski-even
 ement-liste-infos"><li>Codex évenement FRA9287</li><li>Lieu : Amneville</li
 ><li>Organisateur : 14482 SKI CLUB D&#039;AMNEVILLE</li><li>Courriel : <!--
  Cette adresse électronique est protégée contre les robots spammeurs. --><s
 pan class="cloaked_email ep_1f32f635"><span data-ep-b="&#111;rg" data-ep-a=
 "&#102;d&#64;&#115;"><span data-ep-b="&#108;l&#101;&#46;" data-ep-a="kicl">
 <span data-ep-a="&#117;&#98;&#97;&#109;" data-ep-b="&#110;&#101;&#118;i"></
 span></span></span></span><script>RegularLabs.EmailProtector.unCloak("ep_1f
 32f635");</script></li></ul><div class="gski-evenement-infos-2"><div class=
 "gski-evenement-info-inscriptions"><div class="gski-evenement-inscriptions-
 periodes">Période d'inscription à l'evènement du Samedi 12 Novembre 2022 à 
 00:00 au Jeudi 17 Novembre 2022 à 12:00<div class="gski-evenement-inscripti
 ons-types-titres">Inscriptions ouvertes aux detenteurs des titres Fédéraux 
 valides suivants : Licenciés Compétiteurs</div></div></div><div class="gski
 epreuves-links"><ul><li><a href="/index.php?option=com_jevents&task=icaleve
 nt.detail&evid=1921&Itemid=6289">Voir les informations dans l'agenda...</a>
 </li></ul></div><div class="gski-evenement-epreuves"><div class="gski-evene
 ment-epreuves-titres">Epreuves :</div><ul class="gski-evenement-epreuves-li
 st"><li><div class="gski-epreuve-date">Le Samedi 19 Novembre 2022</div><ul 
 class="gski-epreuve-liste-infos"><li>Codex épreuve 9288</li><li>(SL)</li></
 ul></li><li><div class="gski-epreuve-date">Le Samedi 19 Novembre 2022</div>
 <ul class="gski-epreuve-liste-infos"><li>Codex épreuve 9289</li><li>(SL)</l
 i></ul></li><li><div class="gski-epreuve-date">Le Dimanche 20 Novembre 2022
 </div><ul class="gski-epreuve-liste-infos"><li>Codex épreuve 9290</li><li>(
 SL)</li></ul></li><li><div class="gski-epreuve-date">Le Dimanche 20 Novembr
 e 2022</div><ul class="gski-epreuve-liste-infos"><li>Codex épreuve 9291</li
 ><li>(SL)</li></ul></li><li><div class="gski-epreuve-date">Le Dimanche 20 N
 ovembre 2022</div><ul class="gski-epreuve-liste-infos"><li>Codex épreuve 92
 92</li><li>(SL)</li></ul></li></ul></div><div class="gskiepreuves-links"><u
 l><li><a href="/index.php?option=com_jevents&task=icalevent.detail&evid=192
 1&Itemid=6289">Voir les informations dans l'agenda...</a></li></ul></div></
 div"><!-- #/gskiepreuve fin du dode généré par le plugin jevents pour GskiE
 preuves. . Ne pas modifier cette ligne, ni tout le contenu précedant.  #/gs
 kiepreuve --> <a href="https://skivosges.net/agenda/a-venir/detailevenement
 /1926/-/fis-masters-cup-2022-23?tmpl=component">Cet évènement a été importé
  depuis :https://skivosges.net/agenda/a-venir/detailevenement/1926/-/fis-ma
 sters-cup-2022-23?tmpl=component</a>
X-ALT-DESC;FMTTYPE=text/html:<!-- #gskiepreuve code généré par le plugin jevents pour GskiEpreuves. Ne p
 as modifier cette ligne, ni tout le contenu suivant  #gskiepreuve --><div c
 lass="gski-evenement_infos"><div class="gski-evenement-nom">FIS Masters Cup
  2022/23</div><div class="gski-evenement-report"></div><ul class="gski-even
 ement-liste-infos"><li>Codex évenement FRA9287</li><li>Lieu : Amneville</li
 ><li>Organisateur : 14482 SKI CLUB D&#039;AMNEVILLE</li><li>Courriel : <!--
  Cette adresse électronique est protégée contre les robots spammeurs. --><s
 pan class="cloaked_email ep_1f32f635"><span data-ep-b="&#111;rg" data-ep-a=
 "&#102;d&#64;&#115;"><span data-ep-b="&#108;l&#101;&#46;" data-ep-a="kicl">
 <span data-ep-a="&#117;&#98;&#97;&#109;" data-ep-b="&#110;&#101;&#118;i"></
 span></span></span></span><script>RegularLabs.EmailProtector.unCloak("ep_1f
 32f635");</script></li></ul><div class="gski-evenement-infos-2"><div class=
 "gski-evenement-info-inscriptions"><div class="gski-evenement-inscriptions-
 periodes">Période d'inscription à l'evènement du Samedi 12 Novembre 2022 à 
 00:00 au Jeudi 17 Novembre 2022 à 12:00<div class="gski-evenement-inscripti
 ons-types-titres">Inscriptions ouvertes aux detenteurs des titres Fédéraux 
 valides suivants : Licenciés Compétiteurs</div></div></div><div class="gski
 epreuves-links"><ul><li><a href="https://skivosges.net/index.php?option=com
 _jevents&task=icalevent.detail&evid=1921&Itemid=6289">Voir les informations
  dans l'agenda...</a></li></ul></div><div class="gski-evenement-epreuves"><
 div class="gski-evenement-epreuves-titres">Epreuves :</div><ul class="gski-
 evenement-epreuves-list"><li><div class="gski-epreuve-date">Le Samedi 19 No
 vembre 2022</div><ul class="gski-epreuve-liste-infos"><li>Codex épreuve 928
 8</li><li>(SL)</li></ul></li><li><div class="gski-epreuve-date">Le Samedi 1
 9 Novembre 2022</div><ul class="gski-epreuve-liste-infos"><li>Codex épreuve
  9289</li><li>(SL)</li></ul></li><li><div class="gski-epreuve-date">Le Dima
 nche 20 Novembre 2022</div><ul class="gski-epreuve-liste-infos"><li>Codex é
 preuve 9290</li><li>(SL)</li></ul></li><li><div class="gski-epreuve-date">L
 e Dimanche 20 Novembre 2022</div><ul class="gski-epreuve-liste-infos"><li>C
 odex épreuve 9291</li><li>(SL)</li></ul></li><li><div class="gski-epreuve-d
 ate">Le Dimanche 20 Novembre 2022</div><ul class="gski-epreuve-liste-infos"
 ><li>Codex épreuve 9292</li><li>(SL)</li></ul></li></ul></div><div class="g
 skiepreuves-links"><ul><li><a href="https://skivosges.net/index.php?option=
 com_jevents&task=icalevent.detail&evid=1921&Itemid=6289">Voir les informati
 ons dans l'agenda...</a></li></ul></div></div"><!-- #/gskiepreuve fin du do
 de généré par le plugin jevents pour GskiEpreuves. . Ne pas modifier cette 
 ligne, ni tout le contenu précedant.  #/gskiepreuve --> <a href="https://sk
 ivosges.net/agenda/a-venir/detailevenement/1926/-/fis-masters-cup-2022-23?t
 mpl=component">Cet évènement a été importé depuis :https://skivosges.net/ag
 enda/a-venir/detailevenement/1926/-/fis-masters-cup-2022-23?tmpl=component<
 /a>DTSTAMP:20260424T074009
DTSTART;TZID=Europe/Paris;VALUE=DATE:20221119
DTEND;TZID=Europe/Paris;VALUE=DATE:20221121
SEQUENCE:0
TRANSP:OPAQUE
END:VEVENT
END:VCALENDAR