BEGIN:VCALENDAR
VERSION:2.0
PRODID:-//jEvents 2.0 for Joomla//EN
CALSCALE:GREGORIAN
METHOD:PUBLISH
BEGIN:VTIMEZONE
TZID:Europe/Paris
BEGIN:STANDARD
DTSTART:20220107T000000
RDATE:20220327T030000
TZOFFSETFROM:+0200
TZOFFSETTO:+0100
TZNAME:Europe/Paris CET
END:STANDARD
BEGIN:STANDARD
DTSTART:20221030T020000
RDATE:20230326T030000
TZOFFSETFROM:+0200
TZOFFSETTO:+0100
TZNAME:Europe/Paris CET
END:STANDARD
BEGIN:STANDARD
DTSTART:20231029T020000
RDATE:20240331T030000
TZOFFSETFROM:+0200
TZOFFSETTO:+0100
TZNAME:Europe/Paris CET
END:STANDARD
BEGIN:STANDARD
DTSTART:20241027T020000
RDATE:20250330T030000
TZOFFSETFROM:+0200
TZOFFSETTO:+0100
TZNAME:Europe/Paris CET
END:STANDARD
BEGIN:STANDARD
DTSTART:20251026T020000
RDATE:20260329T030000
TZOFFSETFROM:+0200
TZOFFSETTO:+0100
TZNAME:Europe/Paris CET
END:STANDARD
BEGIN:STANDARD
DTSTART:20261025T020000
RDATE:20270328T030000
TZOFFSETFROM:+0200
TZOFFSETTO:+0100
TZNAME:Europe/Paris CET
END:STANDARD
BEGIN:DAYLIGHT
DTSTART:20220327T030000
RDATE:20221030T020000
TZOFFSETFROM:+0100
TZOFFSETTO:+0200
TZNAME:Europe/Paris CEST
END:DAYLIGHT
BEGIN:DAYLIGHT
DTSTART:20230326T030000
RDATE:20231029T020000
TZOFFSETFROM:+0100
TZOFFSETTO:+0200
TZNAME:Europe/Paris CEST
END:DAYLIGHT
BEGIN:DAYLIGHT
DTSTART:20240331T030000
RDATE:20241027T020000
TZOFFSETFROM:+0100
TZOFFSETTO:+0200
TZNAME:Europe/Paris CEST
END:DAYLIGHT
BEGIN:DAYLIGHT
DTSTART:20250330T030000
RDATE:20251026T020000
TZOFFSETFROM:+0100
TZOFFSETTO:+0200
TZNAME:Europe/Paris CEST
END:DAYLIGHT
BEGIN:DAYLIGHT
DTSTART:20260329T030000
RDATE:20261025T020000
TZOFFSETFROM:+0100
TZOFFSETTO:+0200
TZNAME:Europe/Paris CEST
END:DAYLIGHT
END:VTIMEZONE
BEGIN:VEVENT
UID:98219ca54c503357aeecdcee534d2bf0
CATEGORIES:Circuit Alsace Adultes (alpin)
CREATED:20221118T190001
SUMMARY:CAA Coupe PAPAJOE **REPORTE**
URL;VALUE=URI:https://skivosges.net/agenda/a-venir/detailevenement/1949/-/caa-coupe-papaj
 oe-reporte?tmpl=component
DESCRIPTION:CAA Coupe PAPAJOE (Epreuve reportée, date à determiner)\n - Codex évenement
  AMVT0150\n - Station : MARKSTEIN\n - Organisateur : 14081 SKI CLUB ROSSBER
 G\n - Courriel : RegularLabs.EmailProtector.unCloak("ep_5e8a6e31");\n - Tél
 éphone : 03 89 37 92 28\n - Délégué Technique : GLOHR FABIENPériode d'inscr
 iption à l'evènement du Dimanche 01 Janvier 2023 à 00:00 au Vendredi 06 Jan
 vier 2023 à 12:00Inscriptions ouvertes aux detenteurs des titres Fédéraux v
 alides suivants : Licenciés Compétiteurs\n - Voir les informations dans l'a
 genda... (/index.php?option=com_jevents&amp;task=icalevent.detail&amp;evid=
 1944&amp;Itemid=6289)Epreuves :\n - Le Dimanche 08 Janvier 2023\n - Codex é
 preuve AMVF0151\n - Slalom\n - Catégorie(s) : U16 (Filles)\n - Le Dimanche 
 08 Janvier 2023\n - Codex épreuve AMVM0152\n - Slalom\n - Catégorie(s) : U1
 8 a Masters (Hommes)\n - Le Dimanche 08 Janvier 2023\n - Codex épreuve AMVF
 0152\n - Slalom\n - Catégorie(s) : U18 a Masters (Dames)\n - Voir les infor
 mations dans l'agenda... (/index.php?option=com_jevents&amp;task=icalevent.
 detail&amp;evid=1944&amp;Itemid=6289) Cet évènement a été importé depuis :h
 ttps://skivosges.net/agenda/a-venir/detailevenement/1949/-/caa-coupe-papajo
 e-reporte?tmpl=component
X-ALT-DESC;FMTTYPE=text/html:<!-- #gskiepreuve code généré par le plugin jevents pour GskiEpreuves. Ne p
 as modifier cette ligne, ni tout le contenu suivant  #gskiepreuve --><div c
 lass="gski-evenement_infos"><div class="gski-evenement-nom">CAA Coupe PAPAJ
 OE</div><div class="gski-evenement-report"> <font class="gskiattention">(Ep
 reuve reportée, date à determiner)</font></div><ul class="gski-evenement-li
 ste-infos"><li>Codex évenement AMVT0150</li><li>Station : MARKSTEIN</li><li
 >Organisateur : 14081 SKI CLUB ROSSBERG</li><li>Courriel : <!-- Cette adres
 se électronique est protégée contre les robots spammeurs. --><span class="c
 loaked_email ep_5e8a6e31"><span data-ep-b="" data-ep-a="&#99;&#111;u&#114;"
 ><span data-ep-b=".&#99;o&#109;" data-ep-a="&#115;&#101;s&#64;"><span data-
 ep-b="&#110;&#115;k&#105;" data-ep-a="&#116;&#104;&#97;&#110;"></span></spa
 n></span></span><script>RegularLabs.EmailProtector.unCloak("ep_5e8a6e31");<
 /script></li><li>Téléphone : 03 89 37 92 28</li><li><span class="gski-evene
 ment-obs">Délégué Technique : GLOHR FABIEN</span></li></ul><div class="gski
 -evenement-infos-2"><div class="gski-evenement-info-inscriptions"><div clas
 s="gski-evenement-inscriptions-periodes">Période d'inscription à l'evènemen
 t du Dimanche 01 Janvier 2023 à 00:00 au Vendredi 06 Janvier 2023 à 12:00<d
 iv class="gski-evenement-inscriptions-types-titres">Inscriptions ouvertes a
 ux detenteurs des titres Fédéraux valides suivants : Licenciés Compétiteurs
 </div></div></div><div class="gskiepreuves-links"><ul><li><a href="https://
 skivosges.net/index.php?option=com_jevents&task=icalevent.detail&evid=1944&
 Itemid=6289">Voir les informations dans l'agenda...</a></li></ul></div><div
  class="gski-evenement-epreuves"><div class="gski-evenement-epreuves-titres
 ">Epreuves :</div><ul class="gski-evenement-epreuves-list"><li><div class="
 gski-epreuve-date">Le Dimanche 08 Janvier 2023</div><ul class="gski-epreuve
 -liste-infos"><li>Codex épreuve AMVF0151</li><li>Slalom</li><li>Catégorie(s
 ) : U16 (Filles)</li></ul></li><li><div class="gski-epreuve-date">Le Dimanc
 he 08 Janvier 2023</div><ul class="gski-epreuve-liste-infos"><li>Codex épre
 uve AMVM0152</li><li>Slalom</li><li>Catégorie(s) : U18 a Masters (Hommes)</
 li></ul></li><li><div class="gski-epreuve-date">Le Dimanche 08 Janvier 2023
 </div><ul class="gski-epreuve-liste-infos"><li>Codex épreuve AMVF0152</li><
 li>Slalom</li><li>Catégorie(s) : U18 a Masters (Dames)</li></ul></li></ul><
 /div><div class="gskiepreuves-links"><ul><li><a href="https://skivosges.net
 /index.php?option=com_jevents&task=icalevent.detail&evid=1944&Itemid=6289">
 Voir les informations dans l'agenda...</a></li></ul></div></div"><!-- #/gsk
 iepreuve fin du dode généré par le plugin jevents pour GskiEpreuves. . Ne p
 as modifier cette ligne, ni tout le contenu précedant.  #/gskiepreuve --> <
 a href="https://skivosges.net/agenda/a-venir/detailevenement/1949/-/caa-cou
 pe-papajoe-reporte?tmpl=component">Cet évènement a été importé depuis :http
 s://skivosges.net/agenda/a-venir/detailevenement/1949/-/caa-coupe-papajoe-r
 eporte?tmpl=component</a>DTSTAMP:20260421T051417
DTSTART;TZID=Europe/Paris;VALUE=DATE:20230108
DTEND;TZID=Europe/Paris;VALUE=DATE:20230109
SEQUENCE:0
TRANSP:OPAQUE
END:VEVENT
END:VCALENDAR