BEGIN:VCALENDAR
VERSION:2.0
PRODID:-//jEvents 2.0 for Joomla//EN
CALSCALE:GREGORIAN
METHOD:PUBLISH
BEGIN:VTIMEZONE
TZID:Europe/Paris
BEGIN:STANDARD
DTSTART:20220113T000000
RDATE:20220327T030000
TZOFFSETFROM:+0200
TZOFFSETTO:+0100
TZNAME:Europe/Paris CET
END:STANDARD
BEGIN:STANDARD
DTSTART:20221030T020000
RDATE:20230326T030000
TZOFFSETFROM:+0200
TZOFFSETTO:+0100
TZNAME:Europe/Paris CET
END:STANDARD
BEGIN:STANDARD
DTSTART:20231029T020000
RDATE:20240331T030000
TZOFFSETFROM:+0200
TZOFFSETTO:+0100
TZNAME:Europe/Paris CET
END:STANDARD
BEGIN:STANDARD
DTSTART:20241027T020000
RDATE:20250330T030000
TZOFFSETFROM:+0200
TZOFFSETTO:+0100
TZNAME:Europe/Paris CET
END:STANDARD
BEGIN:STANDARD
DTSTART:20251026T020000
RDATE:20260329T030000
TZOFFSETFROM:+0200
TZOFFSETTO:+0100
TZNAME:Europe/Paris CET
END:STANDARD
BEGIN:STANDARD
DTSTART:20261025T020000
RDATE:20270328T030000
TZOFFSETFROM:+0200
TZOFFSETTO:+0100
TZNAME:Europe/Paris CET
END:STANDARD
BEGIN:DAYLIGHT
DTSTART:20220327T030000
RDATE:20221030T020000
TZOFFSETFROM:+0100
TZOFFSETTO:+0200
TZNAME:Europe/Paris CEST
END:DAYLIGHT
BEGIN:DAYLIGHT
DTSTART:20230326T030000
RDATE:20231029T020000
TZOFFSETFROM:+0100
TZOFFSETTO:+0200
TZNAME:Europe/Paris CEST
END:DAYLIGHT
BEGIN:DAYLIGHT
DTSTART:20240331T030000
RDATE:20241027T020000
TZOFFSETFROM:+0100
TZOFFSETTO:+0200
TZNAME:Europe/Paris CEST
END:DAYLIGHT
BEGIN:DAYLIGHT
DTSTART:20250330T030000
RDATE:20251026T020000
TZOFFSETFROM:+0100
TZOFFSETTO:+0200
TZNAME:Europe/Paris CEST
END:DAYLIGHT
BEGIN:DAYLIGHT
DTSTART:20260329T030000
RDATE:20261025T020000
TZOFFSETFROM:+0100
TZOFFSETTO:+0200
TZNAME:Europe/Paris CEST
END:DAYLIGHT
END:VTIMEZONE
BEGIN:VEVENT
UID:f4cf55837b8a55014f45bc2e4c5a4229
CATEGORIES:Circuit Massif Jeunes (alpin)
CREATED:20221118T190002
SUMMARY:CJM Coupe de Gérardmer **REPORTE**
URL;VALUE=URI:https://skivosges.net/agenda/a-venir/detailevenement/1953/-/cjm-coupe-de-ge
 rardmer-reporte?tmpl=component
DESCRIPTION:<!-- #gskiepreuve code généré par le plugin jevents pour GskiEpreuves. Ne p
 as modifier cette ligne, ni tout le contenu suivant  #gskiepreuve --><div c
 lass="gski-evenement_infos"><div class="gski-evenement-nom">CJM Coupe de Gé
 rardmer</div><div class="gski-evenement-report"> <font class="gskiattention
 ">(Epreuve reportée, date à determiner)</font></div><ul class="gski-eveneme
 nt-liste-infos"><li>Codex évenement AMVT0230</li><li>Station : GERARDMER</l
 i><li>Organisateur : 14089 GERARDMER SKI ALPIN</li><li>Courriel : <!-- Cett
 e adresse électronique est protégée contre les robots spammeurs. --><span c
 lass="cloaked_email ep_d86bcfed"><span data-ep-b="e&#46;&#102;&#114;" data-
 ep-a="&#103;&#101;&#114;&#97;&#114;"><span data-ep-a="&#100;&#109;e&#114;-"
  data-ep-b="o&#114;a&#110;g"><span data-ep-b="&#108;p&#105;&#110;&#64;" dat
 a-ep-a="&#115;&#107;&#105;&#45;&#97;"></span></span></span></span><script>R
 egularLabs.EmailProtector.unCloak("ep_d86bcfed");</script></li><li>Téléphon
 e : 03 29 60 98 04</li><li><span class="gski-evenement-obs">Délégué Techniq
 ue : DODIN YVES</span></li></ul><div class="gski-evenement-infos-2"><div cl
 ass="gski-evenement-info-inscriptions"><div class="gski-evenement-inscripti
 ons-periodes">Période d'inscription à l'evènement du Samedi 07 Janvier 2023
  à 00:00 au Jeudi 12 Janvier 2023 à 12:00<div class="gski-evenement-inscrip
 tions-types-titres">Inscriptions ouvertes aux detenteurs des titres Fédérau
 x valides suivants : Licenciés Compétiteurs</div></div></div><div class="gs
 kiepreuves-links"><ul><li><a href="/index.php?option=com_jevents&task=icale
 vent.detail&evid=1948&Itemid=6289">Voir les informations dans l'agenda...</
 a></li></ul></div><div class="gski-evenement-epreuves"><div class="gski-eve
 nement-epreuves-titres">Epreuves :</div><ul class="gski-evenement-epreuves-
 list"><li><div class="gski-epreuve-date">Le Samedi 14 Janvier 2023</div><ul
  class="gski-epreuve-liste-infos"><li>Codex épreuve AMVF0231</li><li>Slalom
  Geant</li><li>Catégorie(s) : U14 (Filles)</li></ul></li></ul></div><div cl
 ass="gskiepreuves-links"><ul><li><a href="/index.php?option=com_jevents&tas
 k=icalevent.detail&evid=1948&Itemid=6289">Voir les informations dans l'agen
 da...</a></li></ul></div></div"><!-- #/gskiepreuve fin du dode généré par l
 e plugin jevents pour GskiEpreuves. . Ne pas modifier cette ligne, ni tout 
 le contenu précedant.  #/gskiepreuve --> <a href="https://skivosges.net/age
 nda/a-venir/detailevenement/1953/-/cjm-coupe-de-gerardmer-reporte?tmpl=comp
 onent">Cet évènement a été importé depuis :https://skivosges.net/agenda/a-v
 enir/detailevenement/1953/-/cjm-coupe-de-gerardmer-reporte?tmpl=component</
 a>
X-ALT-DESC;FMTTYPE=text/html:<!-- #gskiepreuve code généré par le plugin jevents pour GskiEpreuves. Ne p
 as modifier cette ligne, ni tout le contenu suivant  #gskiepreuve --><div c
 lass="gski-evenement_infos"><div class="gski-evenement-nom">CJM Coupe de Gé
 rardmer</div><div class="gski-evenement-report"> <font class="gskiattention
 ">(Epreuve reportée, date à determiner)</font></div><ul class="gski-eveneme
 nt-liste-infos"><li>Codex évenement AMVT0230</li><li>Station : GERARDMER</l
 i><li>Organisateur : 14089 GERARDMER SKI ALPIN</li><li>Courriel : <!-- Cett
 e adresse électronique est protégée contre les robots spammeurs. --><span c
 lass="cloaked_email ep_d86bcfed"><span data-ep-b="e&#46;&#102;&#114;" data-
 ep-a="&#103;&#101;&#114;&#97;&#114;"><span data-ep-a="&#100;&#109;e&#114;-"
  data-ep-b="o&#114;a&#110;g"><span data-ep-b="&#108;p&#105;&#110;&#64;" dat
 a-ep-a="&#115;&#107;&#105;&#45;&#97;"></span></span></span></span><script>R
 egularLabs.EmailProtector.unCloak("ep_d86bcfed");</script></li><li>Téléphon
 e : 03 29 60 98 04</li><li><span class="gski-evenement-obs">Délégué Techniq
 ue : DODIN YVES</span></li></ul><div class="gski-evenement-infos-2"><div cl
 ass="gski-evenement-info-inscriptions"><div class="gski-evenement-inscripti
 ons-periodes">Période d'inscription à l'evènement du Samedi 07 Janvier 2023
  à 00:00 au Jeudi 12 Janvier 2023 à 12:00<div class="gski-evenement-inscrip
 tions-types-titres">Inscriptions ouvertes aux detenteurs des titres Fédérau
 x valides suivants : Licenciés Compétiteurs</div></div></div><div class="gs
 kiepreuves-links"><ul><li><a href="https://skivosges.net/index.php?option=c
 om_jevents&task=icalevent.detail&evid=1948&Itemid=6289">Voir les informatio
 ns dans l'agenda...</a></li></ul></div><div class="gski-evenement-epreuves"
 ><div class="gski-evenement-epreuves-titres">Epreuves :</div><ul class="gsk
 i-evenement-epreuves-list"><li><div class="gski-epreuve-date">Le Samedi 14 
 Janvier 2023</div><ul class="gski-epreuve-liste-infos"><li>Codex épreuve AM
 VF0231</li><li>Slalom Geant</li><li>Catégorie(s) : U14 (Filles)</li></ul></
 li></ul></div><div class="gskiepreuves-links"><ul><li><a href="https://skiv
 osges.net/index.php?option=com_jevents&task=icalevent.detail&evid=1948&Item
 id=6289">Voir les informations dans l'agenda...</a></li></ul></div></div"><
 !-- #/gskiepreuve fin du dode généré par le plugin jevents pour GskiEpreuve
 s. . Ne pas modifier cette ligne, ni tout le contenu précedant.  #/gskiepre
 uve --> <a href="https://skivosges.net/agenda/a-venir/detailevenement/1953/
 -/cjm-coupe-de-gerardmer-reporte?tmpl=component">Cet évènement a été import
 é depuis :https://skivosges.net/agenda/a-venir/detailevenement/1953/-/cjm-c
 oupe-de-gerardmer-reporte?tmpl=component</a>DTSTAMP:20260421T051444
DTSTART;TZID=Europe/Paris;VALUE=DATE:20230114
DTEND;TZID=Europe/Paris;VALUE=DATE:20230115
SEQUENCE:0
TRANSP:OPAQUE
END:VEVENT
END:VCALENDAR