BEGIN:VCALENDAR
VERSION:2.0
PRODID:-//jEvents 2.0 for Joomla//EN
CALSCALE:GREGORIAN
METHOD:PUBLISH
BEGIN:VTIMEZONE
TZID:Europe/Paris
BEGIN:STANDARD
DTSTART:20220113T000000
RDATE:20220327T030000
TZOFFSETFROM:+0200
TZOFFSETTO:+0100
TZNAME:Europe/Paris CET
END:STANDARD
BEGIN:STANDARD
DTSTART:20221030T020000
RDATE:20230326T030000
TZOFFSETFROM:+0200
TZOFFSETTO:+0100
TZNAME:Europe/Paris CET
END:STANDARD
BEGIN:STANDARD
DTSTART:20231029T020000
RDATE:20240331T030000
TZOFFSETFROM:+0200
TZOFFSETTO:+0100
TZNAME:Europe/Paris CET
END:STANDARD
BEGIN:STANDARD
DTSTART:20241027T020000
RDATE:20250330T030000
TZOFFSETFROM:+0200
TZOFFSETTO:+0100
TZNAME:Europe/Paris CET
END:STANDARD
BEGIN:STANDARD
DTSTART:20251026T020000
RDATE:20260329T030000
TZOFFSETFROM:+0200
TZOFFSETTO:+0100
TZNAME:Europe/Paris CET
END:STANDARD
BEGIN:STANDARD
DTSTART:20261025T020000
RDATE:20270328T030000
TZOFFSETFROM:+0200
TZOFFSETTO:+0100
TZNAME:Europe/Paris CET
END:STANDARD
BEGIN:DAYLIGHT
DTSTART:20220327T030000
RDATE:20221030T020000
TZOFFSETFROM:+0100
TZOFFSETTO:+0200
TZNAME:Europe/Paris CEST
END:DAYLIGHT
BEGIN:DAYLIGHT
DTSTART:20230326T030000
RDATE:20231029T020000
TZOFFSETFROM:+0100
TZOFFSETTO:+0200
TZNAME:Europe/Paris CEST
END:DAYLIGHT
BEGIN:DAYLIGHT
DTSTART:20240331T030000
RDATE:20241027T020000
TZOFFSETFROM:+0100
TZOFFSETTO:+0200
TZNAME:Europe/Paris CEST
END:DAYLIGHT
BEGIN:DAYLIGHT
DTSTART:20250330T030000
RDATE:20251026T020000
TZOFFSETFROM:+0100
TZOFFSETTO:+0200
TZNAME:Europe/Paris CEST
END:DAYLIGHT
BEGIN:DAYLIGHT
DTSTART:20260329T030000
RDATE:20261025T020000
TZOFFSETFROM:+0100
TZOFFSETTO:+0200
TZNAME:Europe/Paris CEST
END:DAYLIGHT
END:VTIMEZONE
BEGIN:VEVENT
UID:b461fccebe0f814c68b6ba80e866c04f
CATEGORIES:Circuit Massif Jeunes (alpin)
CREATED:20221118T190002
SUMMARY:CJM Coupe de Gerardmer **REPORTE**
URL;VALUE=URI:https://skivosges.net/agenda/a-venir/detailevenement/1954/-/cjm-coupe-de-ge
 rardmer-reporte?tmpl=component
DESCRIPTION:<!-- #gskiepreuve code généré par le plugin jevents pour GskiEpreuves. Ne p
 as modifier cette ligne, ni tout le contenu suivant  #gskiepreuve --><div c
 lass="gski-evenement_infos"><div class="gski-evenement-nom">CJM Coupe de Ge
 rardmer</div><div class="gski-evenement-report"> <font class="gskiattention
 ">(Epreuve reportée, date à determiner)</font></div><ul class="gski-eveneme
 nt-liste-infos"><li>Codex évenement AMVT0210</li><li>Station : GERARDMER</l
 i><li>Organisateur : 14089 GERARDMER SKI ALPIN</li><li>Courriel : <!-- Cett
 e adresse électronique est protégée contre les robots spammeurs. --><span c
 lass="cloaked_email ep_7f0f7d6f"><span data-ep-a="g&#101;&#114;&#97;&#114;"
  data-ep-b="&#101;&#46;&#102;&#114;"><span data-ep-a="dme&#114;-" data-ep-b
 ="o&#114;an&#103;"><span data-ep-b="&#108;&#112;i&#110;&#64;" data-ep-a="&#
 115;&#107;i-&#97;"></span></span></span></span><script>RegularLabs.EmailPro
 tector.unCloak("ep_7f0f7d6f");</script></li><li>Téléphone : 03 29 60 98 04<
 /li><li><span class="gski-evenement-obs">Délégué Technique : DODIN YVES</sp
 an></li></ul><div class="gski-evenement-infos-2"><div class="gski-evenement
 -info-inscriptions"><div class="gski-evenement-inscriptions-periodes">Pério
 de d'inscription à l'evènement du Samedi 07 Janvier 2023 à 00:00 au Jeudi 1
 2 Janvier 2023 à 12:00<div class="gski-evenement-inscriptions-types-titres"
 >Inscriptions ouvertes aux detenteurs des titres Fédéraux valides suivants 
 : Licenciés Compétiteurs</div></div></div><div class="gskiepreuves-links"><
 ul><li><a href="/index.php?option=com_jevents&task=icalevent.detail&evid=19
 49&Itemid=6289">Voir les informations dans l'agenda...</a></li></ul></div><
 div class="gski-evenement-epreuves"><div class="gski-evenement-epreuves-tit
 res">Epreuves :</div><ul class="gski-evenement-epreuves-list"><li><div clas
 s="gski-epreuve-date">Le Samedi 14 Janvier 2023</div><ul class="gski-epreuv
 e-liste-infos"><li>Codex épreuve AMVF0211</li><li>Slalom Geant</li><li>Caté
 gorie(s) : U16 (Filles)</li></ul></li></ul></div><div class="gskiepreuves-l
 inks"><ul><li><a href="/index.php?option=com_jevents&task=icalevent.detail&
 evid=1949&Itemid=6289">Voir les informations dans l'agenda...</a></li></ul>
 </div></div"><!-- #/gskiepreuve fin du dode généré par le plugin jevents po
 ur GskiEpreuves. . Ne pas modifier cette ligne, ni tout le contenu précedan
 t.  #/gskiepreuve --> <a href="https://skivosges.net/agenda/a-venir/detaile
 venement/1954/-/cjm-coupe-de-gerardmer-reporte?tmpl=component">Cet évènemen
 t a été importé depuis :https://skivosges.net/agenda/a-venir/detailevenemen
 t/1954/-/cjm-coupe-de-gerardmer-reporte?tmpl=component</a>
X-ALT-DESC;FMTTYPE=text/html:<!-- #gskiepreuve code généré par le plugin jevents pour GskiEpreuves. Ne p
 as modifier cette ligne, ni tout le contenu suivant  #gskiepreuve --><div c
 lass="gski-evenement_infos"><div class="gski-evenement-nom">CJM Coupe de Ge
 rardmer</div><div class="gski-evenement-report"> <font class="gskiattention
 ">(Epreuve reportée, date à determiner)</font></div><ul class="gski-eveneme
 nt-liste-infos"><li>Codex évenement AMVT0210</li><li>Station : GERARDMER</l
 i><li>Organisateur : 14089 GERARDMER SKI ALPIN</li><li>Courriel : <!-- Cett
 e adresse électronique est protégée contre les robots spammeurs. --><span c
 lass="cloaked_email ep_7f0f7d6f"><span data-ep-a="g&#101;&#114;&#97;&#114;"
  data-ep-b="&#101;&#46;&#102;&#114;"><span data-ep-a="dme&#114;-" data-ep-b
 ="o&#114;an&#103;"><span data-ep-b="&#108;&#112;i&#110;&#64;" data-ep-a="&#
 115;&#107;i-&#97;"></span></span></span></span><script>RegularLabs.EmailPro
 tector.unCloak("ep_7f0f7d6f");</script></li><li>Téléphone : 03 29 60 98 04<
 /li><li><span class="gski-evenement-obs">Délégué Technique : DODIN YVES</sp
 an></li></ul><div class="gski-evenement-infos-2"><div class="gski-evenement
 -info-inscriptions"><div class="gski-evenement-inscriptions-periodes">Pério
 de d'inscription à l'evènement du Samedi 07 Janvier 2023 à 00:00 au Jeudi 1
 2 Janvier 2023 à 12:00<div class="gski-evenement-inscriptions-types-titres"
 >Inscriptions ouvertes aux detenteurs des titres Fédéraux valides suivants 
 : Licenciés Compétiteurs</div></div></div><div class="gskiepreuves-links"><
 ul><li><a href="https://skivosges.net/index.php?option=com_jevents&task=ica
 levent.detail&evid=1949&Itemid=6289">Voir les informations dans l'agenda...
 </a></li></ul></div><div class="gski-evenement-epreuves"><div class="gski-e
 venement-epreuves-titres">Epreuves :</div><ul class="gski-evenement-epreuve
 s-list"><li><div class="gski-epreuve-date">Le Samedi 14 Janvier 2023</div><
 ul class="gski-epreuve-liste-infos"><li>Codex épreuve AMVF0211</li><li>Slal
 om Geant</li><li>Catégorie(s) : U16 (Filles)</li></ul></li></ul></div><div 
 class="gskiepreuves-links"><ul><li><a href="https://skivosges.net/index.php
 ?option=com_jevents&task=icalevent.detail&evid=1949&Itemid=6289">Voir les i
 nformations dans l'agenda...</a></li></ul></div></div"><!-- #/gskiepreuve f
 in du dode généré par le plugin jevents pour GskiEpreuves. . Ne pas modifie
 r cette ligne, ni tout le contenu précedant.  #/gskiepreuve --> <a href="ht
 tps://skivosges.net/agenda/a-venir/detailevenement/1954/-/cjm-coupe-de-gera
 rdmer-reporte?tmpl=component">Cet évènement a été importé depuis :https://s
 kivosges.net/agenda/a-venir/detailevenement/1954/-/cjm-coupe-de-gerardmer-r
 eporte?tmpl=component</a>DTSTAMP:20260421T051459
DTSTART;TZID=Europe/Paris;VALUE=DATE:20230114
DTEND;TZID=Europe/Paris;VALUE=DATE:20230115
SEQUENCE:0
TRANSP:OPAQUE
END:VEVENT
END:VCALENDAR