BEGIN:VCALENDAR
VERSION:2.0
PRODID:-//jEvents 2.0 for Joomla//EN
CALSCALE:GREGORIAN
METHOD:PUBLISH
BEGIN:VTIMEZONE
TZID:Europe/Paris
BEGIN:STANDARD
DTSTART:20130329T070000
RDATE:20130331T030000
TZOFFSETFROM:+0200
TZOFFSETTO:+0100
TZNAME:Europe/Paris CET
END:STANDARD
BEGIN:STANDARD
DTSTART:20131027T020000
RDATE:20140330T030000
TZOFFSETFROM:+0200
TZOFFSETTO:+0100
TZNAME:Europe/Paris CET
END:STANDARD
BEGIN:STANDARD
DTSTART:20141026T020000
RDATE:20150329T030000
TZOFFSETFROM:+0200
TZOFFSETTO:+0100
TZNAME:Europe/Paris CET
END:STANDARD
BEGIN:STANDARD
DTSTART:20151025T020000
RDATE:20160327T030000
TZOFFSETFROM:+0200
TZOFFSETTO:+0100
TZNAME:Europe/Paris CET
END:STANDARD
BEGIN:STANDARD
DTSTART:20161030T020000
RDATE:20170326T030000
TZOFFSETFROM:+0200
TZOFFSETTO:+0100
TZNAME:Europe/Paris CET
END:STANDARD
BEGIN:STANDARD
DTSTART:20171029T020000
RDATE:20180325T030000
TZOFFSETFROM:+0200
TZOFFSETTO:+0100
TZNAME:Europe/Paris CET
END:STANDARD
BEGIN:STANDARD
DTSTART:20181028T020000
RDATE:20190331T030000
TZOFFSETFROM:+0200
TZOFFSETTO:+0100
TZNAME:Europe/Paris CET
END:STANDARD
BEGIN:STANDARD
DTSTART:20191027T020000
RDATE:20200329T030000
TZOFFSETFROM:+0200
TZOFFSETTO:+0100
TZNAME:Europe/Paris CET
END:STANDARD
BEGIN:STANDARD
DTSTART:20201025T020000
RDATE:20210328T030000
TZOFFSETFROM:+0200
TZOFFSETTO:+0100
TZNAME:Europe/Paris CET
END:STANDARD
BEGIN:STANDARD
DTSTART:20211031T020000
RDATE:20220327T030000
TZOFFSETFROM:+0200
TZOFFSETTO:+0100
TZNAME:Europe/Paris CET
END:STANDARD
BEGIN:STANDARD
DTSTART:20221030T020000
RDATE:20230326T030000
TZOFFSETFROM:+0200
TZOFFSETTO:+0100
TZNAME:Europe/Paris CET
END:STANDARD
BEGIN:STANDARD
DTSTART:20231029T020000
RDATE:20240331T030000
TZOFFSETFROM:+0200
TZOFFSETTO:+0100
TZNAME:Europe/Paris CET
END:STANDARD
BEGIN:STANDARD
DTSTART:20241027T020000
RDATE:20250330T030000
TZOFFSETFROM:+0200
TZOFFSETTO:+0100
TZNAME:Europe/Paris CET
END:STANDARD
BEGIN:STANDARD
DTSTART:20251026T020000
RDATE:20260329T030000
TZOFFSETFROM:+0200
TZOFFSETTO:+0100
TZNAME:Europe/Paris CET
END:STANDARD
BEGIN:STANDARD
DTSTART:20261025T020000
RDATE:20270328T030000
TZOFFSETFROM:+0200
TZOFFSETTO:+0100
TZNAME:Europe/Paris CET
END:STANDARD
BEGIN:DAYLIGHT
DTSTART:20130331T030000
RDATE:20131027T020000
TZOFFSETFROM:+0100
TZOFFSETTO:+0200
TZNAME:Europe/Paris CEST
END:DAYLIGHT
BEGIN:DAYLIGHT
DTSTART:20140330T030000
RDATE:20141026T020000
TZOFFSETFROM:+0100
TZOFFSETTO:+0200
TZNAME:Europe/Paris CEST
END:DAYLIGHT
BEGIN:DAYLIGHT
DTSTART:20150329T030000
RDATE:20151025T020000
TZOFFSETFROM:+0100
TZOFFSETTO:+0200
TZNAME:Europe/Paris CEST
END:DAYLIGHT
BEGIN:DAYLIGHT
DTSTART:20160327T030000
RDATE:20161030T020000
TZOFFSETFROM:+0100
TZOFFSETTO:+0200
TZNAME:Europe/Paris CEST
END:DAYLIGHT
BEGIN:DAYLIGHT
DTSTART:20170326T030000
RDATE:20171029T020000
TZOFFSETFROM:+0100
TZOFFSETTO:+0200
TZNAME:Europe/Paris CEST
END:DAYLIGHT
BEGIN:DAYLIGHT
DTSTART:20180325T030000
RDATE:20181028T020000
TZOFFSETFROM:+0100
TZOFFSETTO:+0200
TZNAME:Europe/Paris CEST
END:DAYLIGHT
BEGIN:DAYLIGHT
DTSTART:20190331T030000
RDATE:20191027T020000
TZOFFSETFROM:+0100
TZOFFSETTO:+0200
TZNAME:Europe/Paris CEST
END:DAYLIGHT
BEGIN:DAYLIGHT
DTSTART:20200329T030000
RDATE:20201025T020000
TZOFFSETFROM:+0100
TZOFFSETTO:+0200
TZNAME:Europe/Paris CEST
END:DAYLIGHT
BEGIN:DAYLIGHT
DTSTART:20210328T030000
RDATE:20211031T020000
TZOFFSETFROM:+0100
TZOFFSETTO:+0200
TZNAME:Europe/Paris CEST
END:DAYLIGHT
BEGIN:DAYLIGHT
DTSTART:20220327T030000
RDATE:20221030T020000
TZOFFSETFROM:+0100
TZOFFSETTO:+0200
TZNAME:Europe/Paris CEST
END:DAYLIGHT
BEGIN:DAYLIGHT
DTSTART:20230326T030000
RDATE:20231029T020000
TZOFFSETFROM:+0100
TZOFFSETTO:+0200
TZNAME:Europe/Paris CEST
END:DAYLIGHT
BEGIN:DAYLIGHT
DTSTART:20240331T030000
RDATE:20241027T020000
TZOFFSETFROM:+0100
TZOFFSETTO:+0200
TZNAME:Europe/Paris CEST
END:DAYLIGHT
BEGIN:DAYLIGHT
DTSTART:20250330T030000
RDATE:20251026T020000
TZOFFSETFROM:+0100
TZOFFSETTO:+0200
TZNAME:Europe/Paris CEST
END:DAYLIGHT
BEGIN:DAYLIGHT
DTSTART:20260329T030000
RDATE:20261025T020000
TZOFFSETFROM:+0100
TZOFFSETTO:+0200
TZNAME:Europe/Paris CEST
END:DAYLIGHT
END:VTIMEZONE
BEGIN:VEVENT
UID:cdc67a9a0139032f8133e3a29b187688
CATEGORIES:Circuit Massif Adultes (alpin)
CREATED:20131203T122100
SUMMARY:GPA        GP Speck - SCOSEG / Qualif Cp de la Fédération
URL;VALUE=URI:https://skivosges.net/agenda/a-venir/detailevenement/196/-/gpa-gp-speck-sco
 seg-qualif-cp-de-la-federation?tmpl=component
DESCRIPTION:GPA        GP Speck - SCOSEG / Qualif Cp de la Fédération \n(Grand Prix Adu
 ltes)\n\nLieu : MARKSTEIN \nOrganisateur : S.C.O.S.E.G. GUEBWILLER  (14356 
 S.C.O.S.E.G. GUEBWILLER)\nEmail : RegularLabs.EmailProtector.unCloak("ep_a1
 95d004");\nTelecopie : 03 89 76 09 25\n - AMVF0911  Slalom (Coupe de la Fed
 eration) U16-&gt;Mas (Min à Mast/Vet) Dames\n  GPA        GP Speck - SCOSEG
  / Qualif Cp de la Fédération\n - AMVM0911  Slalom (Coupe de la Federation)
  U16-&gt;Mas (Min à Mast/Vet) Hommes\n  GPA        GP Speck - SCOSEG / Qual
 if Cp de la Fédération Cet évènement a été importé depuis :https://skivosge
 s.net/agenda/a-venir/detailevenement/196/-/gpa-gp-speck-scoseg-qualif-cp-de
 -la-federation?tmpl=component
X-ALT-DESC;FMTTYPE=text/html:<strong>GPA        GP Speck - SCOSEG / Qualif Cp de la Fédération</strong> 
 <br /><i>(Grand Prix Adultes)</i><br /><br />Lieu : MARKSTEIN <br />Organis
 ateur : S.C.O.S.E.G. GUEBWILLER  <small>(14356 S.C.O.S.E.G. GUEBWILLER)</sm
 all><br />Email : <!-- Cette adresse électronique est protégée contre les r
 obots spammeurs. --><span class="cloaked_email ep_a195d004"><span data-ep-b
 ="&#102;&#114;" data-ep-a="&#115;&#99;&#111;"><span data-ep-a="se&#103;" da
 ta-ep-b="&#111;o&#46;"><span data-ep-b="&#110;&#97;d" data-ep-a="&#64;&#119
 ;&#97;"></span></span></span></span><script>RegularLabs.EmailProtector.unCl
 oak("ep_a195d004");</script><br />Telecopie : 03 89 76 09 25<ul type="disc"
 ><li>AMVF0911  Slalom <nobr><i>(Coupe de la Federation)</i></nobr> <nobr>U1
 6->Mas (Min à Mast/Vet)</nobr> Dames<br />&nbsp;&nbsp;GPA        GP Speck -
  SCOSEG / Qualif Cp de la Fédération</li><li>AMVM0911  Slalom <nobr><i>(Cou
 pe de la Federation)</i></nobr> <nobr>U16->Mas (Min à Mast/Vet)</nobr> Homm
 es<br />&nbsp;&nbsp;GPA        GP Speck - SCOSEG / Qualif Cp de la Fédérati
 on</li></ul> <a href="https://skivosges.net/agenda/a-venir/detailevenement/
 196/-/gpa-gp-speck-scoseg-qualif-cp-de-la-federation?tmpl=component">Cet év
 ènement a été importé depuis :https://skivosges.net/agenda/a-venir/detailev
 enement/196/-/gpa-gp-speck-scoseg-qualif-cp-de-la-federation?tmpl=component
 </a>DTSTAMP:20260424T015215
DTSTART;TZID=Europe/Paris:20140330T080000
DTEND;TZID=Europe/Paris:20140330T170000
SEQUENCE:0
TRANSP:OPAQUE
END:VEVENT
END:VCALENDAR