BEGIN:VCALENDAR
VERSION:2.0
PRODID:-//jEvents 2.0 for Joomla//EN
CALSCALE:GREGORIAN
METHOD:PUBLISH
BEGIN:VTIMEZONE
TZID:Europe/Paris
BEGIN:STANDARD
DTSTART:20220114T000000
RDATE:20220327T030000
TZOFFSETFROM:+0200
TZOFFSETTO:+0100
TZNAME:Europe/Paris CET
END:STANDARD
BEGIN:STANDARD
DTSTART:20221030T020000
RDATE:20230326T030000
TZOFFSETFROM:+0200
TZOFFSETTO:+0100
TZNAME:Europe/Paris CET
END:STANDARD
BEGIN:STANDARD
DTSTART:20231029T020000
RDATE:20240331T030000
TZOFFSETFROM:+0200
TZOFFSETTO:+0100
TZNAME:Europe/Paris CET
END:STANDARD
BEGIN:STANDARD
DTSTART:20241027T020000
RDATE:20250330T030000
TZOFFSETFROM:+0200
TZOFFSETTO:+0100
TZNAME:Europe/Paris CET
END:STANDARD
BEGIN:STANDARD
DTSTART:20251026T020000
RDATE:20260329T030000
TZOFFSETFROM:+0200
TZOFFSETTO:+0100
TZNAME:Europe/Paris CET
END:STANDARD
BEGIN:STANDARD
DTSTART:20261025T020000
RDATE:20270328T030000
TZOFFSETFROM:+0200
TZOFFSETTO:+0100
TZNAME:Europe/Paris CET
END:STANDARD
BEGIN:DAYLIGHT
DTSTART:20220327T030000
RDATE:20221030T020000
TZOFFSETFROM:+0100
TZOFFSETTO:+0200
TZNAME:Europe/Paris CEST
END:DAYLIGHT
BEGIN:DAYLIGHT
DTSTART:20230326T030000
RDATE:20231029T020000
TZOFFSETFROM:+0100
TZOFFSETTO:+0200
TZNAME:Europe/Paris CEST
END:DAYLIGHT
BEGIN:DAYLIGHT
DTSTART:20240331T030000
RDATE:20241027T020000
TZOFFSETFROM:+0100
TZOFFSETTO:+0200
TZNAME:Europe/Paris CEST
END:DAYLIGHT
BEGIN:DAYLIGHT
DTSTART:20250330T030000
RDATE:20251026T020000
TZOFFSETFROM:+0100
TZOFFSETTO:+0200
TZNAME:Europe/Paris CEST
END:DAYLIGHT
BEGIN:DAYLIGHT
DTSTART:20260329T030000
RDATE:20261025T020000
TZOFFSETFROM:+0100
TZOFFSETTO:+0200
TZNAME:Europe/Paris CEST
END:DAYLIGHT
END:VTIMEZONE
BEGIN:VEVENT
UID:e018b717b09d76da2723bc59acdb8e73
CATEGORIES:Circuit Massif Jeunes (alpin)
CREATED:20221118T190002
SUMMARY:CJM Coupe de Gérardmer **REPORTE**
URL;VALUE=URI:https://skivosges.net/agenda/a-venir/detailevenement/1960/-/cjm-coupe-de-ge
 rardmer-reporte?tmpl=component
DESCRIPTION:<!-- #gskiepreuve code généré par le plugin jevents pour GskiEpreuves. Ne p
 as modifier cette ligne, ni tout le contenu suivant  #gskiepreuve --><div c
 lass="gski-evenement_infos"><div class="gski-evenement-nom">CJM Coupe de Gé
 rardmer</div><div class="gski-evenement-report"> <font class="gskiattention
 ">(Epreuve reportée, date à determiner)</font></div><ul class="gski-eveneme
 nt-liste-infos"><li>Codex évenement AMVT0270</li><li>Station : GERARDMER</l
 i><li>Organisateur : 14089 GERARDMER SKI ALPIN</li><li>Courriel : <!-- Cett
 e adresse électronique est protégée contre les robots spammeurs. --><span c
 lass="cloaked_email ep_393acd1c"><span data-ep-a="g&#101;&#114;&#97;&#114;"
  data-ep-b="&#101;&#46;&#102;&#114;"><span data-ep-b="&#111;&#114;a&#110;&#
 103;" data-ep-a="d&#109;e&#114;-"><span data-ep-a="s&#107;i-a" data-ep-b="l
 &#112;i&#110;&#64;"></span></span></span></span><script>RegularLabs.EmailPr
 otector.unCloak("ep_393acd1c");</script></li><li>Téléphone : 03 29 60 98 04
 </li><li><span class="gski-evenement-obs">Délégué Technique : DODIN YVES</s
 pan></li></ul><div class="gski-evenement-infos-2"><div class="gski-evenemen
 t-info-inscriptions"><div class="gski-evenement-inscriptions-periodes">Péri
 ode d'inscription à l'evènement du Dimanche 08 Janvier 2023 à 00:00 au Vend
 redi 13 Janvier 2023 à 12:00<div class="gski-evenement-inscriptions-types-t
 itres">Inscriptions ouvertes aux detenteurs des titres Fédéraux valides sui
 vants : Licenciés Compétiteurs</div></div></div><div class="gskiepreuves-li
 nks"><ul><li><a href="/index.php?option=com_jevents&task=icalevent.detail&e
 vid=1955&Itemid=6289">Voir les informations dans l'agenda...</a></li></ul><
 /div><div class="gski-evenement-epreuves"><div class="gski-evenement-epreuv
 es-titres">Epreuves :</div><ul class="gski-evenement-epreuves-list"><li><di
 v class="gski-epreuve-date">Le Dimanche 15 Janvier 2023</div><ul class="gsk
 i-epreuve-liste-infos"><li>Codex épreuve AMVF0271</li><li>Slalom Geant</li>
 <li>Catégorie(s) : U16 (Filles)</li></ul></li></ul></div><div class="gskiep
 reuves-links"><ul><li><a href="/index.php?option=com_jevents&task=icalevent
 .detail&evid=1955&Itemid=6289">Voir les informations dans l'agenda...</a></
 li></ul></div></div"><!-- #/gskiepreuve fin du dode généré par le plugin je
 vents pour GskiEpreuves. . Ne pas modifier cette ligne, ni tout le contenu 
 précedant.  #/gskiepreuve --> <a href="https://skivosges.net/agenda/a-venir
 /detailevenement/1960/-/cjm-coupe-de-gerardmer-reporte?tmpl=component">Cet 
 évènement a été importé depuis :https://skivosges.net/agenda/a-venir/detail
 evenement/1960/-/cjm-coupe-de-gerardmer-reporte?tmpl=component</a>
X-ALT-DESC;FMTTYPE=text/html:<!-- #gskiepreuve code généré par le plugin jevents pour GskiEpreuves. Ne p
 as modifier cette ligne, ni tout le contenu suivant  #gskiepreuve --><div c
 lass="gski-evenement_infos"><div class="gski-evenement-nom">CJM Coupe de Gé
 rardmer</div><div class="gski-evenement-report"> <font class="gskiattention
 ">(Epreuve reportée, date à determiner)</font></div><ul class="gski-eveneme
 nt-liste-infos"><li>Codex évenement AMVT0270</li><li>Station : GERARDMER</l
 i><li>Organisateur : 14089 GERARDMER SKI ALPIN</li><li>Courriel : <!-- Cett
 e adresse électronique est protégée contre les robots spammeurs. --><span c
 lass="cloaked_email ep_393acd1c"><span data-ep-a="g&#101;&#114;&#97;&#114;"
  data-ep-b="&#101;&#46;&#102;&#114;"><span data-ep-b="&#111;&#114;a&#110;&#
 103;" data-ep-a="d&#109;e&#114;-"><span data-ep-a="s&#107;i-a" data-ep-b="l
 &#112;i&#110;&#64;"></span></span></span></span><script>RegularLabs.EmailPr
 otector.unCloak("ep_393acd1c");</script></li><li>Téléphone : 03 29 60 98 04
 </li><li><span class="gski-evenement-obs">Délégué Technique : DODIN YVES</s
 pan></li></ul><div class="gski-evenement-infos-2"><div class="gski-evenemen
 t-info-inscriptions"><div class="gski-evenement-inscriptions-periodes">Péri
 ode d'inscription à l'evènement du Dimanche 08 Janvier 2023 à 00:00 au Vend
 redi 13 Janvier 2023 à 12:00<div class="gski-evenement-inscriptions-types-t
 itres">Inscriptions ouvertes aux detenteurs des titres Fédéraux valides sui
 vants : Licenciés Compétiteurs</div></div></div><div class="gskiepreuves-li
 nks"><ul><li><a href="https://skivosges.net/index.php?option=com_jevents&ta
 sk=icalevent.detail&evid=1955&Itemid=6289">Voir les informations dans l'age
 nda...</a></li></ul></div><div class="gski-evenement-epreuves"><div class="
 gski-evenement-epreuves-titres">Epreuves :</div><ul class="gski-evenement-e
 preuves-list"><li><div class="gski-epreuve-date">Le Dimanche 15 Janvier 202
 3</div><ul class="gski-epreuve-liste-infos"><li>Codex épreuve AMVF0271</li>
 <li>Slalom Geant</li><li>Catégorie(s) : U16 (Filles)</li></ul></li></ul></d
 iv><div class="gskiepreuves-links"><ul><li><a href="https://skivosges.net/i
 ndex.php?option=com_jevents&task=icalevent.detail&evid=1955&Itemid=6289">Vo
 ir les informations dans l'agenda...</a></li></ul></div></div"><!-- #/gskie
 preuve fin du dode généré par le plugin jevents pour GskiEpreuves. . Ne pas
  modifier cette ligne, ni tout le contenu précedant.  #/gskiepreuve --> <a 
 href="https://skivosges.net/agenda/a-venir/detailevenement/1960/-/cjm-coupe
 -de-gerardmer-reporte?tmpl=component">Cet évènement a été importé depuis :h
 ttps://skivosges.net/agenda/a-venir/detailevenement/1960/-/cjm-coupe-de-ger
 ardmer-reporte?tmpl=component</a>DTSTAMP:20260421T051500
DTSTART;TZID=Europe/Paris;VALUE=DATE:20230115
DTEND;TZID=Europe/Paris;VALUE=DATE:20230116
SEQUENCE:0
TRANSP:OPAQUE
END:VEVENT
END:VCALENDAR