BEGIN:VCALENDAR
VERSION:2.0
PRODID:-//jEvents 2.0 for Joomla//EN
CALSCALE:GREGORIAN
METHOD:PUBLISH
BEGIN:VTIMEZONE
TZID:Europe/Paris
BEGIN:STANDARD
DTSTART:20220121T000000
RDATE:20220327T030000
TZOFFSETFROM:+0200
TZOFFSETTO:+0100
TZNAME:Europe/Paris CET
END:STANDARD
BEGIN:STANDARD
DTSTART:20221030T020000
RDATE:20230326T030000
TZOFFSETFROM:+0200
TZOFFSETTO:+0100
TZNAME:Europe/Paris CET
END:STANDARD
BEGIN:STANDARD
DTSTART:20231029T020000
RDATE:20240331T030000
TZOFFSETFROM:+0200
TZOFFSETTO:+0100
TZNAME:Europe/Paris CET
END:STANDARD
BEGIN:STANDARD
DTSTART:20241027T020000
RDATE:20250330T030000
TZOFFSETFROM:+0200
TZOFFSETTO:+0100
TZNAME:Europe/Paris CET
END:STANDARD
BEGIN:STANDARD
DTSTART:20251026T020000
RDATE:20260329T030000
TZOFFSETFROM:+0200
TZOFFSETTO:+0100
TZNAME:Europe/Paris CET
END:STANDARD
BEGIN:STANDARD
DTSTART:20261025T020000
RDATE:20270328T030000
TZOFFSETFROM:+0200
TZOFFSETTO:+0100
TZNAME:Europe/Paris CET
END:STANDARD
BEGIN:DAYLIGHT
DTSTART:20220327T030000
RDATE:20221030T020000
TZOFFSETFROM:+0100
TZOFFSETTO:+0200
TZNAME:Europe/Paris CEST
END:DAYLIGHT
BEGIN:DAYLIGHT
DTSTART:20230326T030000
RDATE:20231029T020000
TZOFFSETFROM:+0100
TZOFFSETTO:+0200
TZNAME:Europe/Paris CEST
END:DAYLIGHT
BEGIN:DAYLIGHT
DTSTART:20240331T030000
RDATE:20241027T020000
TZOFFSETFROM:+0100
TZOFFSETTO:+0200
TZNAME:Europe/Paris CEST
END:DAYLIGHT
BEGIN:DAYLIGHT
DTSTART:20250330T030000
RDATE:20251026T020000
TZOFFSETFROM:+0100
TZOFFSETTO:+0200
TZNAME:Europe/Paris CEST
END:DAYLIGHT
BEGIN:DAYLIGHT
DTSTART:20260329T030000
RDATE:20261025T020000
TZOFFSETFROM:+0100
TZOFFSETTO:+0200
TZNAME:Europe/Paris CEST
END:DAYLIGHT
END:VTIMEZONE
BEGIN:VEVENT
UID:b8d70a9df57e51b39910b1bc74936555
CATEGORIES:Circuit Alsace Adultes (alpin)
CREATED:20221118T190002
SUMMARY:CAA Prix du STAVW **REPORTE**
URL;VALUE=URI:https://skivosges.net/agenda/a-venir/detailevenement/1974/-/caa-prix-du-sta
 vw-reporte?tmpl=component
DESCRIPTION:<!-- #gskiepreuve code généré par le plugin jevents pour GskiEpreuves. Ne p
 as modifier cette ligne, ni tout le contenu suivant  #gskiepreuve --><div c
 lass="gski-evenement_infos"><div class="gski-evenement-nom">CAA Prix du STA
 VW</div><div class="gski-evenement-report"> <font class="gskiattention">(Ep
 reuve reportée, date à determiner)</font></div><ul class="gski-evenement-li
 ste-infos"><li>Codex évenement AMVT0380</li><li>Station : LAC BLANC</li><li
 >Organisateur : 14343 SKI TEAM AVENIR VALLEE DE WEISS</li><li>Courriel : <!
 -- Cette adresse électronique est protégée contre les robots spammeurs. -->
 <span class="cloaked_email ep_25374fd4"><span data-ep-a="st&#97;" data-ep-b
 ="&#114;"><span data-ep-a="&#118;w&#64;" data-ep-b="&#111;.f"><span data-ep
 -b="&#97;&#100;&#111;" data-ep-a="w&#97;n"></span></span></span></span><scr
 ipt>RegularLabs.EmailProtector.unCloak("ep_25374fd4");</script></li><li>Tél
 éphone : 03 89 78 23 01</li><li><span class="gski-evenement-obs">Délégué Te
 chnique : RUDLOFF CLAUDE</span></li></ul><div class="gski-evenement-infos-2
 "><div class="gski-evenement-info-inscriptions"><div class="gski-evenement-
 inscriptions-periodes">Période d'inscription à l'evènement du Dimanche 15 J
 anvier 2023 à 00:00 au Vendredi 20 Janvier 2023 à 12:00<div class="gski-eve
 nement-inscriptions-types-titres">Inscriptions ouvertes aux detenteurs des 
 titres Fédéraux valides suivants : Licenciés Compétiteurs</div></div></div>
 <div class="gskiepreuves-links"><ul><li><a href="/index.php?option=com_jeve
 nts&task=icalevent.detail&evid=1969&Itemid=6289">Voir les informations dans
  l'agenda...</a></li></ul></div><div class="gski-evenement-epreuves"><div c
 lass="gski-evenement-epreuves-titres">Epreuves :</div><ul class="gski-evene
 ment-epreuves-list"><li><div class="gski-epreuve-date">Le Dimanche 22 Janvi
 er 2023</div><ul class="gski-epreuve-liste-infos"><li>Codex épreuve AMVF038
 1</li><li>Slalom Geant</li><li>Catégorie(s) : U16 (Filles)</li></ul></li><l
 i><div class="gski-epreuve-date">Le Dimanche 22 Janvier 2023</div><ul class
 ="gski-epreuve-liste-infos"><li>Codex épreuve AMVM0382</li><li>Slalom Geant
 </li><li>Catégorie(s) : U18 a Masters (Hommes)</li></ul></li><li><div class
 ="gski-epreuve-date">Le Dimanche 22 Janvier 2023</div><ul class="gski-epreu
 ve-liste-infos"><li>Codex épreuve AMVF0382</li><li>Slalom Geant</li><li>Cat
 égorie(s) : U18 a Masters (Dames)</li></ul></li></ul></div><div class="gski
 epreuves-links"><ul><li><a href="/index.php?option=com_jevents&task=icaleve
 nt.detail&evid=1969&Itemid=6289">Voir les informations dans l'agenda...</a>
 </li></ul></div></div"><!-- #/gskiepreuve fin du dode généré par le plugin 
 jevents pour GskiEpreuves. . Ne pas modifier cette ligne, ni tout le conten
 u précedant.  #/gskiepreuve --> <a href="https://skivosges.net/agenda/a-ven
 ir/detailevenement/1974/-/caa-prix-du-stavw-reporte?tmpl=component">Cet évè
 nement a été importé depuis :https://skivosges.net/agenda/a-venir/detaileve
 nement/1974/-/caa-prix-du-stavw-reporte?tmpl=component</a>
X-ALT-DESC;FMTTYPE=text/html:<!-- #gskiepreuve code généré par le plugin jevents pour GskiEpreuves. Ne p
 as modifier cette ligne, ni tout le contenu suivant  #gskiepreuve --><div c
 lass="gski-evenement_infos"><div class="gski-evenement-nom">CAA Prix du STA
 VW</div><div class="gski-evenement-report"> <font class="gskiattention">(Ep
 reuve reportée, date à determiner)</font></div><ul class="gski-evenement-li
 ste-infos"><li>Codex évenement AMVT0380</li><li>Station : LAC BLANC</li><li
 >Organisateur : 14343 SKI TEAM AVENIR VALLEE DE WEISS</li><li>Courriel : <!
 -- Cette adresse électronique est protégée contre les robots spammeurs. -->
 <span class="cloaked_email ep_25374fd4"><span data-ep-a="st&#97;" data-ep-b
 ="&#114;"><span data-ep-a="&#118;w&#64;" data-ep-b="&#111;.f"><span data-ep
 -b="&#97;&#100;&#111;" data-ep-a="w&#97;n"></span></span></span></span><scr
 ipt>RegularLabs.EmailProtector.unCloak("ep_25374fd4");</script></li><li>Tél
 éphone : 03 89 78 23 01</li><li><span class="gski-evenement-obs">Délégué Te
 chnique : RUDLOFF CLAUDE</span></li></ul><div class="gski-evenement-infos-2
 "><div class="gski-evenement-info-inscriptions"><div class="gski-evenement-
 inscriptions-periodes">Période d'inscription à l'evènement du Dimanche 15 J
 anvier 2023 à 00:00 au Vendredi 20 Janvier 2023 à 12:00<div class="gski-eve
 nement-inscriptions-types-titres">Inscriptions ouvertes aux detenteurs des 
 titres Fédéraux valides suivants : Licenciés Compétiteurs</div></div></div>
 <div class="gskiepreuves-links"><ul><li><a href="https://skivosges.net/inde
 x.php?option=com_jevents&task=icalevent.detail&evid=1969&Itemid=6289">Voir 
 les informations dans l'agenda...</a></li></ul></div><div class="gski-evene
 ment-epreuves"><div class="gski-evenement-epreuves-titres">Epreuves :</div>
 <ul class="gski-evenement-epreuves-list"><li><div class="gski-epreuve-date"
 >Le Dimanche 22 Janvier 2023</div><ul class="gski-epreuve-liste-infos"><li>
 Codex épreuve AMVF0381</li><li>Slalom Geant</li><li>Catégorie(s) : U16 (Fil
 les)</li></ul></li><li><div class="gski-epreuve-date">Le Dimanche 22 Janvie
 r 2023</div><ul class="gski-epreuve-liste-infos"><li>Codex épreuve AMVM0382
 </li><li>Slalom Geant</li><li>Catégorie(s) : U18 a Masters (Hommes)</li></u
 l></li><li><div class="gski-epreuve-date">Le Dimanche 22 Janvier 2023</div>
 <ul class="gski-epreuve-liste-infos"><li>Codex épreuve AMVF0382</li><li>Sla
 lom Geant</li><li>Catégorie(s) : U18 a Masters (Dames)</li></ul></li></ul><
 /div><div class="gskiepreuves-links"><ul><li><a href="https://skivosges.net
 /index.php?option=com_jevents&task=icalevent.detail&evid=1969&Itemid=6289">
 Voir les informations dans l'agenda...</a></li></ul></div></div"><!-- #/gsk
 iepreuve fin du dode généré par le plugin jevents pour GskiEpreuves. . Ne p
 as modifier cette ligne, ni tout le contenu précedant.  #/gskiepreuve --> <
 a href="https://skivosges.net/agenda/a-venir/detailevenement/1974/-/caa-pri
 x-du-stavw-reporte?tmpl=component">Cet évènement a été importé depuis :http
 s://skivosges.net/agenda/a-venir/detailevenement/1974/-/caa-prix-du-stavw-r
 eporte?tmpl=component</a>DTSTAMP:20260421T051500
DTSTART;TZID=Europe/Paris;VALUE=DATE:20230122
DTEND;TZID=Europe/Paris;VALUE=DATE:20230123
SEQUENCE:0
TRANSP:OPAQUE
END:VEVENT
END:VCALENDAR