BEGIN:VCALENDAR
VERSION:2.0
PRODID:-//jEvents 2.0 for Joomla//EN
CALSCALE:GREGORIAN
METHOD:PUBLISH
BEGIN:VTIMEZONE
TZID:Europe/Paris
BEGIN:STANDARD
DTSTART:20131027T020000
RDATE:20140330T030000
TZOFFSETFROM:+0200
TZOFFSETTO:+0100
TZNAME:Europe/Paris CET
END:STANDARD
BEGIN:STANDARD
DTSTART:20141026T020000
RDATE:20150329T030000
TZOFFSETFROM:+0200
TZOFFSETTO:+0100
TZNAME:Europe/Paris CET
END:STANDARD
BEGIN:STANDARD
DTSTART:20151025T020000
RDATE:20160327T030000
TZOFFSETFROM:+0200
TZOFFSETTO:+0100
TZNAME:Europe/Paris CET
END:STANDARD
BEGIN:STANDARD
DTSTART:20161030T020000
RDATE:20170326T030000
TZOFFSETFROM:+0200
TZOFFSETTO:+0100
TZNAME:Europe/Paris CET
END:STANDARD
BEGIN:STANDARD
DTSTART:20171029T020000
RDATE:20180325T030000
TZOFFSETFROM:+0200
TZOFFSETTO:+0100
TZNAME:Europe/Paris CET
END:STANDARD
BEGIN:STANDARD
DTSTART:20181028T020000
RDATE:20190331T030000
TZOFFSETFROM:+0200
TZOFFSETTO:+0100
TZNAME:Europe/Paris CET
END:STANDARD
BEGIN:STANDARD
DTSTART:20191027T020000
RDATE:20200329T030000
TZOFFSETFROM:+0200
TZOFFSETTO:+0100
TZNAME:Europe/Paris CET
END:STANDARD
BEGIN:STANDARD
DTSTART:20201025T020000
RDATE:20210328T030000
TZOFFSETFROM:+0200
TZOFFSETTO:+0100
TZNAME:Europe/Paris CET
END:STANDARD
BEGIN:STANDARD
DTSTART:20211031T020000
RDATE:20220327T030000
TZOFFSETFROM:+0200
TZOFFSETTO:+0100
TZNAME:Europe/Paris CET
END:STANDARD
BEGIN:STANDARD
DTSTART:20221030T020000
RDATE:20230326T030000
TZOFFSETFROM:+0200
TZOFFSETTO:+0100
TZNAME:Europe/Paris CET
END:STANDARD
BEGIN:STANDARD
DTSTART:20231029T020000
RDATE:20240331T030000
TZOFFSETFROM:+0200
TZOFFSETTO:+0100
TZNAME:Europe/Paris CET
END:STANDARD
BEGIN:STANDARD
DTSTART:20241027T020000
RDATE:20250330T030000
TZOFFSETFROM:+0200
TZOFFSETTO:+0100
TZNAME:Europe/Paris CET
END:STANDARD
BEGIN:STANDARD
DTSTART:20251026T020000
RDATE:20260329T030000
TZOFFSETFROM:+0200
TZOFFSETTO:+0100
TZNAME:Europe/Paris CET
END:STANDARD
BEGIN:STANDARD
DTSTART:20261025T020000
RDATE:20270328T030000
TZOFFSETFROM:+0200
TZOFFSETTO:+0100
TZNAME:Europe/Paris CET
END:STANDARD
BEGIN:DAYLIGHT
DTSTART:20130404T080000
RDATE:20131027T020000
TZOFFSETFROM:+0100
TZOFFSETTO:+0200
TZNAME:Europe/Paris CEST
END:DAYLIGHT
BEGIN:DAYLIGHT
DTSTART:20140330T030000
RDATE:20141026T020000
TZOFFSETFROM:+0100
TZOFFSETTO:+0200
TZNAME:Europe/Paris CEST
END:DAYLIGHT
BEGIN:DAYLIGHT
DTSTART:20150329T030000
RDATE:20151025T020000
TZOFFSETFROM:+0100
TZOFFSETTO:+0200
TZNAME:Europe/Paris CEST
END:DAYLIGHT
BEGIN:DAYLIGHT
DTSTART:20160327T030000
RDATE:20161030T020000
TZOFFSETFROM:+0100
TZOFFSETTO:+0200
TZNAME:Europe/Paris CEST
END:DAYLIGHT
BEGIN:DAYLIGHT
DTSTART:20170326T030000
RDATE:20171029T020000
TZOFFSETFROM:+0100
TZOFFSETTO:+0200
TZNAME:Europe/Paris CEST
END:DAYLIGHT
BEGIN:DAYLIGHT
DTSTART:20180325T030000
RDATE:20181028T020000
TZOFFSETFROM:+0100
TZOFFSETTO:+0200
TZNAME:Europe/Paris CEST
END:DAYLIGHT
BEGIN:DAYLIGHT
DTSTART:20190331T030000
RDATE:20191027T020000
TZOFFSETFROM:+0100
TZOFFSETTO:+0200
TZNAME:Europe/Paris CEST
END:DAYLIGHT
BEGIN:DAYLIGHT
DTSTART:20200329T030000
RDATE:20201025T020000
TZOFFSETFROM:+0100
TZOFFSETTO:+0200
TZNAME:Europe/Paris CEST
END:DAYLIGHT
BEGIN:DAYLIGHT
DTSTART:20210328T030000
RDATE:20211031T020000
TZOFFSETFROM:+0100
TZOFFSETTO:+0200
TZNAME:Europe/Paris CEST
END:DAYLIGHT
BEGIN:DAYLIGHT
DTSTART:20220327T030000
RDATE:20221030T020000
TZOFFSETFROM:+0100
TZOFFSETTO:+0200
TZNAME:Europe/Paris CEST
END:DAYLIGHT
BEGIN:DAYLIGHT
DTSTART:20230326T030000
RDATE:20231029T020000
TZOFFSETFROM:+0100
TZOFFSETTO:+0200
TZNAME:Europe/Paris CEST
END:DAYLIGHT
BEGIN:DAYLIGHT
DTSTART:20240331T030000
RDATE:20241027T020000
TZOFFSETFROM:+0100
TZOFFSETTO:+0200
TZNAME:Europe/Paris CEST
END:DAYLIGHT
BEGIN:DAYLIGHT
DTSTART:20250330T030000
RDATE:20251026T020000
TZOFFSETFROM:+0100
TZOFFSETTO:+0200
TZNAME:Europe/Paris CEST
END:DAYLIGHT
BEGIN:DAYLIGHT
DTSTART:20260329T030000
RDATE:20261025T020000
TZOFFSETFROM:+0100
TZOFFSETTO:+0200
TZNAME:Europe/Paris CEST
END:DAYLIGHT
END:VTIMEZONE
BEGIN:VEVENT
UID:3891df3e302fc0eefa75d1395bf243a6
CATEGORIES:Compétition Biathlon
CREATED:20131203T122100
SUMMARY:Biathlon Jeux Nordiques
URL;VALUE=URI:https://skivosges.net/agenda/a-venir/detailevenement/198/-/biathlon-jeux-no
 rdiques?tmpl=component
DESCRIPTION:Biathlon Jeux Nordiques\n\nLieu : LA BRESSE LISPACH \n - BMVF0071  Individu
 el Benjamin Filles\n  Biathlon Jeux Nordiques\n - BMVF0072  Individuel Mini
 me Filles\n  Biathlon Jeux Nordiques\n - BMVF0073  Individuel Cadet a Senio
 r Dames\n  Biathlon Jeux Nordiques\n - BMVM0071  Individuel Benjamin Garçon
 s\n  Biathlon Jeux Nordiques\n - BMVM0072  Individuel Minime Garçons\n  Bia
 thlon Jeux Nordiques\n - BMVM0073  Individuel Cadet a Senior Hommes\n  Biat
 hlon Jeux Nordiques Cet évènement a été importé depuis :https://skivosges.n
 et/agenda/a-venir/detailevenement/198/-/biathlon-jeux-nordiques?tmpl=compon
 ent
X-ALT-DESC;FMTTYPE=text/html:<strong>Biathlon Jeux Nordiques</strong><br /><br />Lieu : LA BRESSE LISPAC
 H <ul type="disc"><li>BMVF0071  Individuel <nobr>Benjamin</nobr> Filles<br 
 />&nbsp;&nbsp;Biathlon Jeux Nordiques</li><li>BMVF0072  Individuel <nobr>Mi
 nime</nobr> Filles<br />&nbsp;&nbsp;Biathlon Jeux Nordiques</li><li>BMVF007
 3  Individuel <nobr>Cadet a Senior</nobr> Dames<br />&nbsp;&nbsp;Biathlon J
 eux Nordiques</li><li>BMVM0071  Individuel <nobr>Benjamin</nobr> Garçons<br
  />&nbsp;&nbsp;Biathlon Jeux Nordiques</li><li>BMVM0072  Individuel <nobr>M
 inime</nobr> Garçons<br />&nbsp;&nbsp;Biathlon Jeux Nordiques</li><li>BMVM0
 073  Individuel <nobr>Cadet a Senior</nobr> Hommes<br />&nbsp;&nbsp;Biathlo
 n Jeux Nordiques</li></ul> <a href="https://skivosges.net/agenda/a-venir/de
 tailevenement/198/-/biathlon-jeux-nordiques?tmpl=component">Cet évènement a
  été importé depuis :https://skivosges.net/agenda/a-venir/detailevenement/1
 98/-/biathlon-jeux-nordiques?tmpl=component</a>DTSTAMP:20260424T030350
DTSTART;TZID=Europe/Paris:20140405T080000
DTEND;TZID=Europe/Paris:20140405T170000
SEQUENCE:0
TRANSP:OPAQUE
END:VEVENT
END:VCALENDAR